BEGIN:VCALENDAR
VERSION:2.0
PRODID:-//Joe Bradley Auctioneers - ECPv6.15.20//NONSGML v1.0//EN
CALSCALE:GREGORIAN
METHOD:PUBLISH
X-WR-CALNAME:Joe Bradley Auctioneers
X-ORIGINAL-URL:https://jbauctioneers.net
X-WR-CALDESC:Events for Joe Bradley Auctioneers
REFRESH-INTERVAL;VALUE=DURATION:PT1H
X-Robots-Tag:noindex
X-PUBLISHED-TTL:PT1H
BEGIN:VTIMEZONE
TZID:America/Los_Angeles
BEGIN:DAYLIGHT
TZOFFSETFROM:-0800
TZOFFSETTO:-0700
TZNAME:PDT
DTSTART:20210314T100000
END:DAYLIGHT
BEGIN:STANDARD
TZOFFSETFROM:-0700
TZOFFSETTO:-0800
TZNAME:PST
DTSTART:20211107T090000
END:STANDARD
BEGIN:DAYLIGHT
TZOFFSETFROM:-0800
TZOFFSETTO:-0700
TZNAME:PDT
DTSTART:20220313T100000
END:DAYLIGHT
BEGIN:STANDARD
TZOFFSETFROM:-0700
TZOFFSETTO:-0800
TZNAME:PST
DTSTART:20221106T090000
END:STANDARD
BEGIN:DAYLIGHT
TZOFFSETFROM:-0800
TZOFFSETTO:-0700
TZNAME:PDT
DTSTART:20230312T100000
END:DAYLIGHT
BEGIN:STANDARD
TZOFFSETFROM:-0700
TZOFFSETTO:-0800
TZNAME:PST
DTSTART:20231105T090000
END:STANDARD
END:VTIMEZONE
BEGIN:VEVENT
DTSTART;TZID=America/Los_Angeles:20221101T103000
DTEND;TZID=America/Los_Angeles:20221101T143000
DTSTAMP:20260423T224006
CREATED:20220930T213253Z
LAST-MODIFIED:20221029T080137Z
UID:14577-1667298600-1667313000@jbauctioneers.net
SUMMARY:OCEANSIDE - AUTO AUCTION
DESCRIPTION:Presented By:Auctions the 1st and 3rd Tuesdays of each monthPUBLIC AUTO AUCTIONUp to 80 Selected Vehicles\nTuesday November 1st @ 10:30am1060 Airport Rd. (in the Oceanside location towing yard)Oceanside 92058Phone. 760-722-6686For a map and directions\, click here\nHere are some photos of vehicles available at this week’s S&R Towing auction.Vehicles posted are subject to change without notice.Click on any of the images below to see the larger picture.*** MOTORCYCLES / RUNNERS ***\n\n\n\n\nno images were found \n\n\n*** NON-RUNNERS ***\n\n\n\nno images were found \n\n\n\nTo download a copy of the list in Adobe pdf format\, Click here\n\n\n\n\n\n\n\n	#Call #YearMAKEMODELPlateLIC EXPVINODOMTIT/SAL\n\n\n\n\n	1775232007KAWAZ100021F4541JKAZRCB177A004579\n\n\n	2760942013KYMCO300I24M3343RFBV2M281DB420681\n\n\n	3773772009SHEINKENO PLATEL8YTCAPE29Y071146\n\n\n	479202M/CJH2PC0906DM004889JUNK\n\n\n	5760702015YAMAYZF R622P3267JYARJ16Y8FA009289\n\n\n	6765301989HONDAGOLDWG21U58341HFSC2211KA100886\n\n\n	881244SCOOTER1XKS161339S163088\n\n\n	9766462012TAIZHZHONG21DO642L5YTCKPAXC1137839\n\n\n	10725261982YAMA14S5588JYA5N8005CA012421\n\n\n	11762942008QLINKRS1859695LAEMN24048B803008\n\n\n	12732981999SUZUKIINTRUDERBMM396JS1VY51A2X2102069\n\n\n	13727602008FLYSCOOTERNONELD5TCBPA181007014\n\n\n	1482454VENTOREDLINEUEL5UL5YVNDE9M11309560\n\n\n	15814162001HONDACBR 600F4INO PLATEJH2PC35001M207814\n\n\n	16824962004SUZUKIBANDITJS1GV77AX42100330T\n\n\n	17836232020BAODIABD15024Y9366L2BBAACG4LM001406\n\n\n	18740702004SUZUKIGSX-R 100022G3341JS1GT75A642102794\n\n\n	19826832007SUZUKIGSX-R 60024R3797JS1GN7DA172119843\n\n\n	20812592012HONDACBR 250R21C5753MLHMC4100C5202890\n\n\n	21622042015HARLEYSOFTAILNO PLATE1HD1JRV37FB015440\n\n\n	22593052018SUZUKIC90 BOSS23W4312JS1VY56A8J2100021\n\n\n	23824952004HARLEYSOFTAIL1HD1BSY164Y070700T\n\n\n	24669682005YAMAZUMA696969LPRSA20A15A602928\n\n\n	25827982018ESCAPECONNECTDKF788NM0LS7E70J1344460\n\n\n	26825152015FORDESCAPE8MHE4771FMCU0G9XFUB41998SAL\n\n\n	27827231997TOYTCOROLLA3TIB8291NXBA02E6VZ522903\n\n\n	28819062006HYUNSONATA5NZY156KMHEU46C36A099821\n\n\n	29820192004SCIONXB7LSX530JTLKT324740165944SAL\n\n\n	30739592010KIASEDONA6LYS582KNDMG4C32A6361223T\n\n\n	31818852007VOLVOS60U9105048YV1RH527572604370\n\n\n	32791632001DODGERAMNO PLATE3B7HF13271G725366\n\n\n	33824282006BMW530I8BEY127WBANE73506CM34592\n\n\n	34828702017NISSANSENTRA8UXG6163N1AB7AP3HL693649T\n\n\n	35814482000TOYTCAMRY4NHD153JT2BF22K9Y0283021\n\n\n	36739551990FORDE-250NOPLATE1FTGS24H8LHB54367\n\n\n	37761521998HONDACIVIC7RPJ7532HGEJ667XWH541590\n\n\n	38826692003FORDTAURUS7WJS7281FAFP52U53G270524\n\n\n	39820291998CHEVSUBURBAN8WBN6401GNFK16KXSJ341672\n\n\n	40846312009MAZDAMAZDA66HTH1221YVHP81A095M20680T\n\n\n	41837382009NISSANALTIMA6JZP5061N4AL21E89N492090T\n\n\n	43851111999HONDAACCORD7MSJ9951HGCG1653XA037535T\n\n\n	44823422002TOYTCOROLLA4SZU0421NXBR12E22Z579271\n\n\n	45808882005NISSANSENTRA5NBX7273N1CB51D95L493843\n\n\n	46850001997SATURNSC SERIES4JWZ9301G8ZH1276VZ267589\n\n\n	48816352008AUDIA67ZAV423WAUEH74F28N105849\n\n\n	49828192003MERZML3206BQR8594JGAB54E23A381345\n\n\n	50832392002MINICOOPER4ZST167WMWRC33462TC33428\n\n\n	51788972018CHEVMALIBU8XWH0771G1ZD5ST3JF135500\n\n\n	52816782000FORDEXPEDITIO5DDW1811FMPU16L2YLA26289\n\n\n	53826231999CHEVLUMMINA4RHM6882G1WL52M0X9212274\n\n\n	54814241998TOYTAVALONNO PLATE4T1BF18B8WU289595\n\n\n	55772932003FORDESCAPE6HZS4041FMYU02123KD20048\n\n\n	56748112000TOYT4RUNNER7VUE646JT3GN86R2Y0156495\n\n\n	57821512000BMW528IP553Z0WBADM6347YGU24847\n\n\n	58834822006CHRY3008MPY8782C3LA63H06H231892\n\n\n	59833872004BMW5 SERIES8WRK724WBANA73594B808020\n\n\n	60794852000CHEVASTRO7XAS7611GNDM19W6YB155694\n\n\n	61835292000HONDAACCORD8RAU017JHMCG5679YC006818\n\n\n	62803871999FORDRANGER6B190261FTYR10V6XPB48116T\n\n\n	63857732006TOYTCOROLLA5TCW8761NXBR32E46Z701727\n\n\n	64857772001FORDEXPLORER4LQJ6651FMYU60E51UA40456\n\n\n	65821992006FORDESCAPE6LHS0751FMYU04186KA37820\n\n\n	66796281996HONDACIVIC5FWX0672HGEJ6326TH114198\n\n\n	67808951998HONDACIVIC8XYV48622-Dec2HGEJ6440WH101726149\,999\n\n\n	68802922010FORDEDGE6REY36921-Mar2FMDK3KC2ABA64346216\,884\n\n\n	69788262001TOYTAVALONALE824OOS4T1BF28B21U184338202\,855\n\n\n	70824932007CHEVMALIBUJKG685121-Dec1G1ZT58F17F254899258\,306\n\n\n	71758392003CHEVTAHOE5BRL25523-Mar1GNEC13V43R219402\n\n\n	72829272016NISSANSENTRA8YTA21422-Dec3N1AB7AP2GY297200100\,670\n\n\n	73805822006HONDAACCORD7RPE50022-Jan1HGCM72676A017636194\,434\n\n\n	74755182006VOLKSJETTA5TWG65521-Apr3VWRG71K76M680395170\,512\n\n\n	75791912001FORDRANGER8C4926420-Apr1FTYR10U51PA94192206\,631\n\n\n	76806912001FORDF-15052817T221-Mar1FTZX17251KA27636126\,789\n\n\n	77807581995TOYT4RUNNER3MVM25321-JunJT3VN29V2S0049452215\,162\n\n\n	78791722005DODGEDAKOTA894KHM19-Oct1D7HW48N15S291103154\,869JUNK\n\n\n	79785021997BUICKSKYLARK4SZM99721-Apr1G4NJ52M5VC405076120\,980\n\n\n	80807462004CHEVTAHOE5FQH22220-Jan1GNEC13V34R131331201\,863\n\n\n	81792092008FORDRANGERSUSTEKOOS1FTYR44E28PA07976134\,488\n\n\n\n\n\n\n\n\nTERMS AND CONDITIONS\n\nBuyers fees: Dealers & Dismantlers $35.00\nGeneral Public $65.00\n$200.00 cash deposit required to bid\nAll vehicles must be paid for in full CASH ONLY at the conclusion of the auction\nAll vehicles must be removed by Friday following the auction\nLien sale vehicles sold to the general public are sold as is with all vaults and defects\, you are required to pay all DMV back registration and obtain a smog certificate before receiving your title from the DMV\, sales tax for your purchase will be paid directly to the DMV upon submission of the lien sale packet you will receive at the conclusion of the auction. Out of state buyers\, check with your local DMV to be sure that they will accept California lien sale documents for registration in your state.\nFor more info call direct 760-722-6686
URL:https://jbauctioneers.net/event/oceanside-auto-auction-20221101/
LOCATION:S&R Towing\, 1060 Airport Rd.\, Oceanside\, CA\, 92058\, United States
END:VEVENT
BEGIN:VEVENT
DTSTART;TZID=America/Los_Angeles:20221102T123500
DTEND;TZID=America/Los_Angeles:20221102T123500
DTSTAMP:20260423T224007
CREATED:20220930T213650Z
LAST-MODIFIED:20221028T174047Z
UID:14583-1667392500-1667392500@jbauctioneers.net
SUMMARY:OTAY MESA - AUTO AUCTION
DESCRIPTION:Presented By: PUBLIC AUTO AUCTIONUp to 70 Lien Sale VehiclesWednesday November 2nd  @ 12:35pm(Preview 12:00pm) Auctions held Wednesdays*** NEW LOCATION ***Otay Valley Rd & Heritage Rd\, Chula Vista(Look for signs to the new facility from this location\, actual site is up the hill on 738 Heritage Rd.)Phone: 619-694-7809For a map and directions\, click here Here are some photos of vehicles available at this week’s Western Towing Auto Auction.Click on any of the images below to see the larger picture.\n\n\n\nno images were found \n\n\n\nTo download a copy of the list in Adobe pdf format\, Click here.\n\n\n\n\n\n\n	NOCONTROLYEAR/MAKEMODELREF NOLS/T\n\n\n\n\n	122-292597 TOYOTACOROLLA292232LS\n\n\n	222-228706 CHEVROLETIMPALA285016LS\n\n\n	322-286306 JEEPCOMMANDER291351LS\n\n\n	422-174207 HONDAACCORD279086LS\n\n\n	522-214209 TOYOTAMATRIX283931LS\n\n\n	622-316305 DODGENEON294697LS\n\n\n	722-308800 HONDAACCORD293738LS\n\n\n	822-308604 CADILLACDEVILLE293960LS\n\n\n	922-300305 TOYOTASEQUOIA292940LS\n\n\n	1022-308901 INFINITII30293744LS\n\n\n	1122-312908 FORDFUSION294317LS\n\n\n	1222-265607 FORD500289472LS\n\n\n	1322-306503 BMW325i293547LS\n\n\n	1422-245300 SATURNSC2286540LS\n\n\n	1521-301311 BMW335i249039LS\n\n\n	1622-315702 HONDAACCORD294573LS\n\n\n	1722-308007 VOLKSWAGENJETTA293747LS\n\n\n	1822-312096  TOYOTACAMRY294198LS\n\n\n	1922-307000 PONTIACGRAND PRIX293570LS\n\n\n	2022-309406 MINICOOPER293734LS\n\n\n	2121-392108 VOLVOC30258239LS\n\n\n	2222-305108 HONDACIVIC293512LS\n\n\n	2322-313999 TOYOTASIENNA294411LS\n\n\n	2422-285508 FORDEDGE291177LS\n\n\n	2522-194406 JEEPCOMMANDER281871LS\n\n\n	2622-156408 SATURNOUTLOOK277277LS\n\n\n	2722-268808 DODGECHARGER288594LS\n\n\n	2822-226802 ISUZURODEO285264LS\n\n\n	2922-262704 TOYOTACELICA288234LS\n\n\n	3022-203408 SCIONXB282752LS\n\n\n	3122-316402 MITSUBISHILANCER294871LS\n\n\n	3222-312400 NISSANALTIMA294333LS\n\n\n	3322-312510 TOYOTAPRIUS293739LS\n\n\n	3422-306897 TOYOTACOROLLA293613LS\n\n\n	3522-316904 CHRYSLERPT CRUISER294589LS\n\n\n	3622-206014 FORDFOCUS283102LS\n\n\n	3722-311708 MITSUBISHILANCER294348LS\n\n\n	3822-313400 MERCEDESS500294463LS\n\n\n	3922-301000 MERCURYGRD MARQUIS292830LS\n\n\n	4022-283413 NISSANSENTRA290931LS\n\n\n	4122-301802 HONDACIVIC292827LS\n\n\n	4222-311904 FORDF150294211LS\n\n\n	4322-316513 FIAT500294695LS\n\n\n	4422-309779 FORDGRANADA293859LS\n\n\n	4522-315601 MERCEDESs430294571LS\n\n\n	4622-304503 TOYOTAAVALON293363LS\n\n\n	4722-304084 CHEVROLETC10293180LS\n\n\n	4822-309003 MERCEDESE500293854LS\n\n\n	4922-294601 FORDEXPEDITION291955LS\n\n\n	5022-315000 FORDEXPLORER294516LS\n\n\n\n\n\n\n\nTERMS AND CONDITIONS\n\nCash Only – All Sales are Final\n$200.00 refundable cash deposit to bid\nRefunds are available anytime during auction\nAll cars must be paid for and picked up by 4pm on Thursday ( no exceptions )\nAdditional deposits are required on vehicle’s over $1000.00\nLien sale vehicles sold to the general public are sold as is with all vaults and defects\, you are required to pay all DMV back registration and obtain a smog certificate before receiving your title from the DMV\, sales tax for your purchase will be paid directly to the DMV upon submission of the lien sale packet you will receive at the conclusion of the auction. Out of state buyers\, check with your local DMV to be sure that they will accept California lien sale documents for registration in your state.
URL:https://jbauctioneers.net/event/otay-mesa-auto-auction-20221102/
LOCATION:Western Towing\, 738 Heritage Rd.\, San Diego\, CA\, 92154\, United States
END:VEVENT
BEGIN:VEVENT
DTSTART;TZID=America/Los_Angeles:20221109T123500
DTEND;TZID=America/Los_Angeles:20221109T123500
DTSTAMP:20260423T224007
CREATED:20221103T033114Z
LAST-MODIFIED:20221104T194207Z
UID:15034-1667997300-1667997300@jbauctioneers.net
SUMMARY:OTAY MESA - AUTO AUCTION
DESCRIPTION:Presented By: PUBLIC AUTO AUCTIONUp to 70 Lien Sale VehiclesWednesday November 9th  @ 12:35pm(Preview 12:00pm) Auctions held Wednesdays*** NEW LOCATION ***Otay Valley Rd & Heritage Rd\, Chula Vista(Look for signs to the new facility from this location\, actual site is up the hill on 738 Heritage Rd.)Phone: 619-694-7809For a map and directions\, click here Here are some photos of vehicles available at this week’s Western Towing Auto Auction.Click on any of the images below to see the larger picture.\n\n\n*** MOTORCYCLES ***\n\n\nno images were found \n\n\n\nTo download a copy of the list in Adobe pdf format\, Click here.\n\n\n\n\n\n\n	#CONTROLYEAR/MAKEMODELREF NOLS/TREGKEYSALVAGEOUT OF STATE\n\n\n\n\n	4220-224702 YAMAHAYZFR1203159LS07/20SALVAGEN\n\n\n	3620-239807 CHUNGSENSCOOTER204454LSO/SNO/S CA9/12\n\n\n	2021-237103 HARLEYXLR8243010LS10/19NN\n\n\n	3721-268683 YAMAHAXT550246011LSO/SNO/S NO CA\n\n\n	1821-274317 YAMAHAFZ10C246599LS2/22NN\n\n\n	3821-369502 HARLEYXL1200256394LSO/SNO/S NO CA\n\n\n	2921-375916 YAMAHAFZ07256949LS9/20NN\n\n\n	2421-391111 SUZUKIBLVD1800258465LS11/17NN\n\n\n	4021-398100 YAMAHAXV650259264LS5/22NN\n\n\n	422-004495 SUZUKIGS500259683LS11/19NN\n\n\n	2722-013806 SUZUKISV650260777LS8/20SALVAGEN\n\n\n	522-026521 ITALIKAFT125261555LSO/SNO/S MEX\n\n\n	722-032017 ITALIKASCOOTER262416LSO/SNO/S MEX\n\n\n	3322-032504 SUZUKIGSXR750262714LS10/21NN\n\n\n	2822-048813 YAMAHAFZ6R264341LS4/20NN\n\n\n	1122-049816 ITALIKAZR250264934LSO/SNO/S MEX\n\n\n	3922-068876 KAWASAKIZN900266961LS11/94NN\n\n\n	2222-090188 HONDANX650269690LS8/21NN\n\n\n	2322-095404 HONDACBR600269972LSO/SNO/S MEX\n\n\n	3422-103186 YAMAHAXV1100270796LSO/SNO/S CA 4/08\n\n\n	3122-105986 YAMAHAVS700271187LS7/13NN\n\n\n	1222-107178 YAMAHAXS650271300LSO/SNO/S MEX\n\n\n	1022-130401 KAWASAKIEN500274150LSO/SNO/S TX\n\n\n	822-136389 HONDAPC800274784LSO/SNO/S CA 2/18\n\n\n	1522-156316 HONDACBR600277276LS5/18NN\n\n\n	322-165122 CHONGGOINGRX4278160LSO/SNO/S MEX\n\n\n	1622-170808 HONDACBR1000278659LS9/22NN\n\n\n	922-171486 HONDACMX250278865LSO/SNO/S CA 7/12\n\n\n	3522-182402 SUZUKIGSXR600280340LS5/17NN\n\n\n	2522-184013 KAWASAKIGSXR280414TITLE11/22NN\n\n\n	4120-190803 SUZUKIGSX600199504LS9/18NN\n\n\n	1722-201787 HONDACMX250282747LSO/SNO/S CA 12/10\n\n\n	2622-207597 SUZUKIGS500283212LS6/16NN\n\n\n	1922-208294 YAMAHAXV535283291LS5/11NN\n\n\n	3222-210009 KAWASAKIES250283428LS1/19NN\n\n\n	622-211422 VENTOEXPRESS283299LSO/SNO/S MEX\n\n\n	2122-214406 HONDAVT750283849LS8/21NN\n\n\n	222-235018 VENTO250SC285333LSO/SNO/S MEX\n\n\n	3022-248009 KAWASAKIEX250286933LS6/22NN\n\n\n	122-270007 SUZUKIGSXR750289437LS6/20NN\n\n\n	4322-2728220 SUZUKITRUEMAN288333LSO/SNO/S MEX\n\n\n	1321-216219 ITALIKASCOOTER240600LSO/SNO/S MEX\n\n\n	1421-396408 ZHEJIANGSCOOTER259048LS9/21NN\n\n\n\n\n\n\n\nTERMS AND CONDITIONS\n\nCash Only – All Sales are Final\n$200.00 refundable cash deposit to bid\nRefunds are available anytime during auction\nAll cars must be paid for and picked up by 4pm on Thursday ( no exceptions )\nAdditional deposits are required on vehicle’s over $1000.00\nLien sale vehicles sold to the general public are sold as is with all vaults and defects\, you are required to pay all DMV back registration and obtain a smog certificate before receiving your title from the DMV\, sales tax for your purchase will be paid directly to the DMV upon submission of the lien sale packet you will receive at the conclusion of the auction. Out of state buyers\, check with your local DMV to be sure that they will accept California lien sale documents for registration in your state.
URL:https://jbauctioneers.net/event/otay-mesa-auto-auction-20221109/
LOCATION:Western Towing\, 738 Heritage Rd.\, San Diego\, CA\, 92154\, United States
END:VEVENT
BEGIN:VEVENT
DTSTART;TZID=America/Los_Angeles:20221115T103000
DTEND;TZID=America/Los_Angeles:20221115T143000
DTSTAMP:20260423T224007
CREATED:20221102T044603Z
LAST-MODIFIED:20221112T161548Z
UID:14974-1668508200-1668522600@jbauctioneers.net
SUMMARY:OCEANSIDE - AUTO AUCTION
DESCRIPTION:Presented By:Auctions the 1st and 3rd Tuesdays of each monthPUBLIC AUTO AUCTIONUp to 80 Selected Vehicles\nTuesday November 15th @ 10:30am1060 Airport Rd. (in the Oceanside location towing yard)Oceanside 92058Phone. 760-722-6686For a map and directions\, click here\nHere are some photos of vehicles available at this week’s S&R Towing auction.Vehicles posted are subject to change without notice.Click on any of the images below to see the larger picture.*** RUNNERS ***\n\n\n\n\nno images were found \n\n\n*** TRAILERS / NON-RUNNERS ***\n\n\n\nno images were found \n\n\n\nTo download a copy of the list in Adobe pdf format\, Click here\n\n\n\n\n\n\n\n	Lot #Call #YearMakeModelPlateExpVINMilesS/T\n\n\n\n\n	1760131996FLEETWOOD5TH WHEEL1FW29051EM5A2726T9312044\n\n\n	2842592009VolkswagenCC6KGT055WVWML73CX9E563712\n\n\n	3835861992PontiacFirebird8GBD3651G2FS23F2NL211517\n\n\n	4817161996GMCSafariV4250421GDDM19W9TB511584\n\n\n	586109PT2000ChevroletEXPRESS 25006H946591GCFG25R6Y1203747\n\n\n	6838122003BMW3 SeriesNAWBAET37413NJ37282\n\n\n	7837962002ChevroletSUBURBAN 15003GNEC16T12G206809\n\n\n	8842332003DodgeNeon5BLC9431B3ES56C83D171642\n\n\n	9835312004NissanFrontier7L660831N6DD26TX4C410230T\n\n\n	10837712000InfinitiQ458MBT472JNKBY31A4YM700696\n\n\n	11838222008BMW3 Series6EAE884WBAWR33518P153365\n\n\n	12812882000MitsubishiEclipse8LBG6694A3AC44G0YE132665SAL\n\n\n	13839452000ToyotaCamry4LVL957JT2BG22K1Y0449559\n\n\n	14803901999ToyotaCorolla4KGK0831NXBR12E4XZ183382\n\n\n	15839402008Saab3-Sep7VKE948YS3FB49Y281149450\n\n\n	16842052000HondaAccord6TVS570JHMCG5673YC003638\n\n\n	17768491992ChevroletC15004N452182GCEC19H1N1251066\n\n\n	18839222002LexusGS300JT8BD69S220165828\n\n\n	19775752002FordExplorer5AND5031FMYU60E82UC86208\n\n\n	20818821997IsuzuRodeo4RRZ3634S2CM58VXV4330067\n\n\n	21799411996HondaPassport8JAM4894S6CM58V4T4400724\n\n\n	22840522007CadillacDTS8UKY2731G6KD57Y47U189215\n\n\n	23836781993ToyotaPrevia4BXP197JT3AC12RXP1081806\n\n\n	24817311997NissanPathfinder3XDD295JN8AR05S6VW186656\n\n\n	25821492012KiaOptima7FPW9015XXGN4A74CG059350\n\n\n	26831902000MazdaProtege4LBM664JM1BJ2226Y0279546\n\n\n	2786694M2003ChryslerPT Cruiser5EDA4213C8FY58B23T638066T\n\n\n	28838352001ToyotaSienna4T3ZF13C41U366803\n\n\n	2986692M2005ScionxB7YYT406JTLKT324854023788T\n\n\n	30863881970Mercedes-Benz280S846PFA10801610045703T\n\n\n	31758422003FordF-150VILOBOS1FTRX17L33NB42763\n\n\n	32790092002ToyotaSienna4YGG9504T3ZF19C82U503525\n\n\n	33843362013ToyotaCorolla6ZBG7885YFBU4EEXDP104452\n\n\n	35814232005BMW3 Series7YZE453WBABD33445PL07910\n\n\n	36837252010MINICooper7AER644 WMWMF3C52ATU79575\n\n\n	37845892001FordMustang8JID8161FAFP404X1F170399\n\n\n	38827352000ChevroletMonte Carlo8HQL7002G1WW12E4Y9167205\n\n\n	39830102000HondaAccord9BNY319 1HGCG6670YA153744\n\n\n	40834902005HondaCivic7EAU1233/2/20221HGEM22375L072057149067\n\n\n	41836362014ChevroletCruzeCJ808381G1PC5SB5E7181671182557OOS\n\n\n	42761782005MercuryGrand MarquisJGC52892MEFM74W35X66606959020OOS\n\n\n	43818881990LexusLS4007JFY9049/16/2022JT8UF11E9L0004650186579\n\n\n	44812052003KiaSpectra5UVD48110/16/2022KNAFB121335280663115574\n\n\n	45802781985ChevroletEl Camino2T5593511/30/20213GCCW80Z3FS92003631715\n\n\n	46795462005HondaOdyssey7T0E8687/24/20205FNRL38445B418836197237\n\n\n	47827942006SciontC7ASM0285/14/2022JTKDE177360113387332055S/T\n\n\n	48857912004AcuraMDX5GMU2272/8/20212HNYD18914H519831206631T\n\n\n	49838532007ToyotaTacoma8L260645/31/20235TEJU62N27Z427419478390T\n\n\n	50760092000DodgeRAM 3500 PICKUP8W002828/31/20221B7MF3361YJ126004240050\n\n\n	51794942000HondaCR-V4MRV5689/2/2022JHLRD186XYC054249157146\n\n\n	52837492008NissanAltima6LHA234 6/2/20231N4BL24E08C192327160891\n\n\n	53825172010ToyotaCamry6TEX91810/24/20224T1BF3EK8AU052789201190\n\n\n	54774572011FordFlex6NDG834 6/28/20222FMHK6DTXBBD03756124415\n\n\n	55814072013FordF-15098399F111/30/20211FTFX1EF0DKD30417239019\n\n\n	5686978H1992FordF-25099974W212/31/20201FTHX25M7NKB11727\n\n\n	57870962014HYUNGENESIS8ARB06810/18/2018KMHHT6KDKEU12006898337\n\n\n	58870951997HONDACIVIC3TGZ07210/2/20162HGEJ6673VH51082641283\n\n\n\n\n\n\n\n\nTERMS AND CONDITIONS\n\nBuyers fees: Dealers & Dismantlers $35.00\nGeneral Public $65.00\n$200.00 cash deposit required to bid\nAll vehicles must be paid for in full CASH ONLY at the conclusion of the auction\nAll vehicles must be removed by Friday following the auction\nLien sale vehicles sold to the general public are sold as is with all vaults and defects\, you are required to pay all DMV back registration and obtain a smog certificate before receiving your title from the DMV\, sales tax for your purchase will be paid directly to the DMV upon submission of the lien sale packet you will receive at the conclusion of the auction. Out of state buyers\, check with your local DMV to be sure that they will accept California lien sale documents for registration in your state.\nFor more info call direct 760-722-6686
URL:https://jbauctioneers.net/event/oceanside-auto-auction-20221115/
LOCATION:S&R Towing\, 1060 Airport Rd.\, Oceanside\, CA\, 92058\, United States
END:VEVENT
BEGIN:VEVENT
DTSTART;TZID=America/Los_Angeles:20221116T123500
DTEND;TZID=America/Los_Angeles:20221116T123500
DTSTAMP:20260423T224007
CREATED:20221112T153159Z
LAST-MODIFIED:20221112T153335Z
UID:15167-1668602100-1668602100@jbauctioneers.net
SUMMARY:OTAY MESA - AUTO AUCTION
DESCRIPTION:Presented By: PUBLIC AUTO AUCTIONUp to 70 Lien Sale VehiclesWednesday November 16th  @ 12:35pm(Preview 12:00pm) Auctions held Wednesdays*** NEW LOCATION ***Otay Valley Rd & Heritage Rd\, Chula Vista(Look for signs to the new facility from this location\, actual site is up the hill on 738 Heritage Rd.)Phone: 619-694-7809For a map and directions\, click here Here are some photos of vehicles available at this week’s Western Towing Auto Auction.Click on any of the images below to see the larger picture.\n\n\n\nno images were found \n\n\n\nTo download a copy of the list in Adobe pdf format\, Click here.\n\n\n\n\n\n\n	NOCONTROLYEAR/MAKEMODELREF NOLS/T\n\n\n\n\n	122-305506 BMW325i293483LS\n\n\n	222-320404 HONDACIVIC295096LS\n\n\n	322-319005 HONDAACCORD294726LS\n\n\n	422-318406 FORDFOCUS294900LS\n\n\n	522-287206 CHEVROLETCOBALT291341LS\n\n\n	622-315496 HONDAACCORD294513LS\n\n\n	722-320796 HONDAACCORD295287LS\n\n\n	822-320803 FORDEXPLORER295278LS\n\n\n	922-313803 INFINITIG35294492LS\n\n\n	1022-318101 FORDEXPEDITION294647LS\n\n\n	1122-325002 VOLKSWAGENJETTA295481LS\n\n\n	1222-312808 CHEVROLETCOBALT294319LS\n\n\n	1322-315108 BMW3SERIES294731LS\n\n\n	1422-320694 FORDEXPLORER295228LS\n\n\n	1522-317909 BMW328i294894LS\n\n\n	1622-325906 SATURNVUE295667LS\n\n\n	1722-286806 BMW330i291183LS\n\n\n	1822-329917 DODGECHARGER296234LS\n\n\n	1922-128801 FORDF150273633LS\n\n\n	2022-283801 FORDCROWN VIC290957LS\n\n\n	2122-322298 LEXUSES300295412LS\n\n\n	2222-316704 FORDMUSTANG294454LS\n\n\n	2322-320206 CHRYSLERTOWN&COUNTRY295131LS\n\n\n	2422-320597 HONDAACCORD295188LS\n\n\n	2522-324101 HONDAACCORD295710LS\n\n\n	2622-238302 BMWX5285843LS\n\n\n	2722-263714 FORDFOCUS288445LS\n\n\n	2822-309501 INFINTIG20293776LS\n\n\n	29N/A12 HONDAACCORDWT25ATITLE\n\n\n	3022-130912 HONDACIVIC274093LS\n\n\n	3122-202213 HYUNDAISONATA282483LS\n\n\n	3222-328297 NISSANPATHFINDER296023LS\n\n\n	3322-321708 HONDACIVIC295384LS\n\n\n	3422-308798 MERCEDESE320293991LS\n\n\n	3522-330410 FORDFOCUS296313LS\n\n\n	3622-325700 HONDAODYSSEY295741LS\n\n\n	3722-324005 BMWX3295633LS\n\n\n	3822-300295 PLYMOUTHVOYAGER292951LS\n\n\n	3922-322801 HONDAACCORD295389LS\n\n\n	4019-106373 VOLKSWAGENBEETLE144080LS\n\n\n	4122-316208 CHRYSLERSEBRING294895LS\n\n\n	4222-324799 HONDACIVIC295720LS\n\n\n	4321-299503 TOYOTACAMRY249146LS\n\n\n	4422-327300 CHEVROLETASTROVAN295885LS\n\n\n	4522-321513 FORDFIESTA295361LS\n\n\n	4622-304503 TOYOTAAVALON293363LS\n\n\n	4722-328407 KIASEDONA295949LS\n\n\n	4822-321303 DODGERAM 1500286696LS\n\n\n	4922-329702 BMW530i296276LS\n\n\n	5022-333400 FORDEXPEDITION296763LS\n\n\n	51N/A03 FORDF250N/ATITLE\n\n\n	52N/A03 HONDAACCORDN/ALS\n\n\n\n\n\n\n\nTERMS AND CONDITIONS\n\nCash Only – All Sales are Final\n$200.00 refundable cash deposit to bid\nRefunds are available anytime during auction\nAll cars must be paid for and picked up by 4pm on Thursday ( no exceptions )\nAdditional deposits are required on vehicle’s over $1000.00\nLien sale vehicles sold to the general public are sold as is with all vaults and defects\, you are required to pay all DMV back registration and obtain a smog certificate before receiving your title from the DMV\, sales tax for your purchase will be paid directly to the DMV upon submission of the lien sale packet you will receive at the conclusion of the auction. Out of state buyers\, check with your local DMV to be sure that they will accept California lien sale documents for registration in your state.
URL:https://jbauctioneers.net/event/otay-mesa-auto-auction-20221116/
LOCATION:Western Towing\, 738 Heritage Rd.\, San Diego\, CA\, 92154\, United States
END:VEVENT
BEGIN:VEVENT
DTSTART;TZID=America/Los_Angeles:20221130T123500
DTEND;TZID=America/Los_Angeles:20221130T123500
DTSTAMP:20260423T224007
CREATED:20221103T032802Z
LAST-MODIFIED:20221124T150306Z
UID:15033-1669811700-1669811700@jbauctioneers.net
SUMMARY:OTAY MESA - AUTO AUCTION
DESCRIPTION:Presented By: PUBLIC AUTO AUCTIONUp to 70 Lien Sale VehiclesWednesday November 30th  @ 12:35pm(Preview 12:00pm) Auctions held Wednesdays*** NEW LOCATION ***Otay Valley Rd & Heritage Rd\, Chula Vista(Look for signs to the new facility from this location\, actual site is up the hill on 738 Heritage Rd.)Phone: 619-694-7809For a map and directions\, click here Here are some photos of vehicles available at this week’s Western Towing Auto Auction.Click on any of the images below to see the larger picture.\n\n\n\nno images were found \n\n\n\nTo download a copy of the list in Adobe pdf format\, Click here.\n\n\n\n\n\n\n	NOCONTROLYEAR/MAKEMODELREF NOLS/T\n\n\n\n\n	122-343104 VOLKSWAGENBEETLE297661LS\n\n\n	222-329208 NISSANALTIMA296100LS\n\n\n	322-330800 FORDTAURUS296355LS\n\n\n	422-342894 PONTIACSUNBIRD297853LS\n\n\n	522-345085 PORSHE944298204LS\n\n\n	622-330001 MERCEDESCLK320296258LS\n\n\n	722-328600 FORDEXPEDITION295979LS\n\n\n	822-325497 VOLKSWAGENJETTA295631LS\n\n\n	922-335102 HYUNDAISANTA FE296981LS\n\n\n	1022-330505 KIASORENTO296476LS\n\n\n	1122-318905 CHEVROLETTRAILBLAZER295043LS\n\n\n	1222-337601 MERCEDESC240297305LS\n\n\n	1322-337501 CHRYSLERTOWN&COUNTRY297759LS\n\n\n	1422-336594 HONDAACCORD297172LS\n\n\n	1522-245005 LND RVERRANGE ROVER286547LS\n\n\n	1622-342208 HONDAACCORD297766LS\n\n\n	1722-319104 JEEPGRD CHEROKEE295062LS\n\n\n	1822-320997 TOYOTARAV4295266LS\n\n\n	1922-332808 FORDTAURUS296360LS\n\n\n	2022-341810 NISSANVERSA297792LS\n\n\n	2122-282006 CHEVROLETUPLANDER290839LS\n\n\n	2222-305108 HONDACIVIC293512LS\n\n\n	2322-325201 MITSUBISHIMIRAGE295616LS\n\n\n	2422-326306 HONDACIVIC295665LS\n\n\n	2522-332111 KIASOUL296376LS\n\n\n	2622-156408 SATURNOUTLOOK277277LS\n\n\n	2722-300602 CHEVROLETTRAILBLAZER292982LS\n\n\n	2822-330206 NISSANALTIMA296236LS\n\n\n	2922-326507 CHEVROLETAVEO295767LS\n\n\n	3022-203408 SCIONXB282752LS\n\n\n	3122-318203 LEXUSES300294727LS\n\n\n	3222-337298 CHEVROLETS10297382LS\n\n\n	3322-348101 TOYOTAAVALON298373LS\n\n\n	3422-342999 LEXUSRX300297857LS\n\n\n	3522-339702 BMW530i297301LS\n\n\n	3622-344903 JAGUARSTYPE298196LS\n\n\n	3722-335408 SMARTCAR296947LS\n\n\n	3822-332506 TOYOTAMATRIX296537LS\n\n\n	3922-321904 HONDACIVIC295404LS\n\n\n	4022-247297 BMW318ti286688LS\n\n\n	4122-332303 MERCEDESE500296488LS\n\n\n	4222-314008 NISSANALTIMA294430LS\n\n\n	4322-328399 CHEVROLETASTROVAN295976LS\n\n\n	4422-309779 FORDGRANADA293859LS\n\n\n	4522-344603 FORDRANGER298018LS\n\n\n	4622-304405 NISSANTITAN293362LS\n\n\n	4722-284205 INFINITIQX80290917LS\n\n\n	4822-315395 DODGERAM 1500 VAN294840LS\n\n\n	4922-335301 DODGERAM 2500 VAN296963LS\n\n\n	5022-256904 GMCSAVANA VAN287887LS\n\n\n\n\n\n\n\nTERMS AND CONDITIONS\n\nCash Only – All Sales are Final\n$200.00 refundable cash deposit to bid\nRefunds are available anytime during auction\nAll cars must be paid for and picked up by 4pm on Thursday ( no exceptions )\nAdditional deposits are required on vehicle’s over $1000.00\nLien sale vehicles sold to the general public are sold as is with all vaults and defects\, you are required to pay all DMV back registration and obtain a smog certificate before receiving your title from the DMV\, sales tax for your purchase will be paid directly to the DMV upon submission of the lien sale packet you will receive at the conclusion of the auction. Out of state buyers\, check with your local DMV to be sure that they will accept California lien sale documents for registration in your state.
URL:https://jbauctioneers.net/event/otay-mesa-auto-auction-20221130/
LOCATION:Western Towing\, 738 Heritage Rd.\, San Diego\, CA\, 92154\, United States
END:VEVENT
END:VCALENDAR