BEGIN:VCALENDAR
VERSION:2.0
PRODID:-//Joe Bradley Auctioneers - ECPv6.15.20//NONSGML v1.0//EN
CALSCALE:GREGORIAN
METHOD:PUBLISH
X-ORIGINAL-URL:https://jbauctioneers.net
X-WR-CALDESC:Events for Joe Bradley Auctioneers
REFRESH-INTERVAL;VALUE=DURATION:PT1H
X-Robots-Tag:noindex
X-PUBLISHED-TTL:PT1H
BEGIN:VTIMEZONE
TZID:America/Los_Angeles
BEGIN:DAYLIGHT
TZOFFSETFROM:-0800
TZOFFSETTO:-0700
TZNAME:PDT
DTSTART:20220313T100000
END:DAYLIGHT
BEGIN:STANDARD
TZOFFSETFROM:-0700
TZOFFSETTO:-0800
TZNAME:PST
DTSTART:20221106T090000
END:STANDARD
BEGIN:DAYLIGHT
TZOFFSETFROM:-0800
TZOFFSETTO:-0700
TZNAME:PDT
DTSTART:20230312T100000
END:DAYLIGHT
BEGIN:STANDARD
TZOFFSETFROM:-0700
TZOFFSETTO:-0800
TZNAME:PST
DTSTART:20231105T090000
END:STANDARD
BEGIN:DAYLIGHT
TZOFFSETFROM:-0800
TZOFFSETTO:-0700
TZNAME:PDT
DTSTART:20240310T100000
END:DAYLIGHT
BEGIN:STANDARD
TZOFFSETFROM:-0700
TZOFFSETTO:-0800
TZNAME:PST
DTSTART:20241103T090000
END:STANDARD
END:VTIMEZONE
BEGIN:VEVENT
DTSTART;TZID=America/Los_Angeles:20230201T123500
DTEND;TZID=America/Los_Angeles:20230201T123500
DTSTAMP:20260423T174048
CREATED:20230113T213439Z
LAST-MODIFIED:20230127T183740Z
UID:15736-1675254900-1675254900@jbauctioneers.net
SUMMARY:OTAY MESA - AUTO AUCTION
DESCRIPTION:Presented By: PUBLIC AUTO AUCTIONUp to 70 Lien Sale VehiclesWednesday February 1st  @ 12:35pm(Preview 12:00pm) Auctions held Wednesdays*** NEW LOCATION ***Otay Valley Rd & Heritage Rd\, Chula Vista(Look for signs to the new facility from this location\, actual site is up the hill on 738 Heritage Rd.)Phone: 619-694-7809For a map and directions\, click here Here are some photos of vehicles available at this week’s Western Towing Auto Auction.Click on any of the images below to see the larger picture.\n\n\n\nno images were found \n\n\n\nTo download a copy of the list in Adobe pdf format\, Click here.\n\n\n\n\n\n\n	NOCONTROLYEAR/MAKEMODELREF NOLS/T\n\n\n\n\n	123-014108 NISSANVERSA304119LS\n\n\n	223-007203 VOLKSWAGENBEETLE303502LS\n\n\n	322-373495 SUBARUIMPREZA301603LS\n\n\n	423-024806 MAZDA3305579LS\n\n\n	523-004498 SUBARUIMPREZA303179LS\n\n\n	622-361800 INFINTII30299381LS\n\n\n	723-007408 VOLKSWAGENGTI303597LS\n\n\n	823-021201 INFINITII30305160LS\n\n\n	922-313301 NISSANFRONTIER294433LS\n\n\n	1023-000210 VOLVOV50302661LS\n\n\n	1122-369005 HYUNDAISONATA300992LS\n\n\n	1222-371901 CHEVROLETSILVERADO301204LS\n\n\n	1323-005199 SUBARULEGACY303181LS\n\n\n	1422-370305 NISSANMURANO301078LS\n\n\n	1522-340610 DODGECHARGER297601LS\n\n\n	1623-006392 OLDSMOBILECUTLASS303462LS\n\n\n	1723-007786 CHEVROLETCORVETTE303750LS\n\n\n	1823-010496 DODGESTRATUS303604LS\n\n\n	1923-005702 MERCEDESC-CLASS303322LS\n\n\n	2023-011002 MAZDA626303747LS\n\n\n	2123-006604 DODGENEON303627LS\n\n\n	2222-326900 FORDEXPEDITION295715LS\n\n\n	2322-378706 SCIONTC302008LS\n\n\n	2423-004509 TOYOTACOROLLA303245LS\n\n\n	2523-022701 NISSANMAXIMA305221LS\n\n\n	2623-029106 JAGUARXK305951LS\n\n\n	2723-025500 NISSANALTIMA305766LS\n\n\n	2822-379109 HYUNDAISONATA301993LS\n\n\n	2921-224115 HYUNDAISONATA241545TITLE\n\n\n	3022-264310 MERCEDESE-CLASS289225TITLE\n\n\n	3123-023803 MAZDAB2300305391LS\n\n\n	3223-019201 BUICKCENTURY304875LS\n\n\n	3323-028902 MERCEDESE320305944LS\n\n\n	3423-026205 NISSANSENTRA305474LS\n\n\n	3523-024109 VOLKSWAGENRABBIT305368LS\n\n\n	3622-379298 INFINTIQX4301994LS\n\n\n	3722-349903 GMCSIERRA298570LS\n\n\n	3822-353789 TOYOTA4RUNNER298939LS\n\n\n	3923-017199 HONDACIVIC304474LS\n\n\n	4023-001398 SATURNSL2302814LS\n\n\n	4123-000799 JEEPGRD CHEROKEE302676LS\n\n\n	4223-018099 DODGEINTREPID304872LS\n\n\n	4323-029388 TOYOTAPICKUP305957LS\n\n\n	4423-022804 INFINITIG35305256LS\n\n\n	4522-362415 NISSANVERSA300048LS\n\n\n	4622-378801 CHEVROLETSUBURBAN302009LS\n\n\n	4722-300501 MERCEDESE320292967LS\n\n\n	4823-007698 HONDACIVIC303723LS\n\n\n	4923-016392 FORDE150304502LS\n\n\n	5022-378904 NISSANSENTRA301967LS\n\n\n\n\n\n\n\nTERMS AND CONDITIONS\n\nCash Only – All Sales are Final\n$200.00 refundable cash deposit to bid\nRefunds are available anytime during auction\nAll cars must be paid for and picked up by 4pm on Thursday ( no exceptions )\nAdditional deposits are required on vehicle’s over $1000.00\nLien sale vehicles sold to the general public are sold as is with all vaults and defects\, you are required to pay all DMV back registration and obtain a smog certificate before receiving your title from the DMV\, sales tax for your purchase will be paid directly to the DMV upon submission of the lien sale packet you will receive at the conclusion of the auction. Out of state buyers\, check with your local DMV to be sure that they will accept California lien sale documents for registration in your state.
URL:https://jbauctioneers.net/event/otay-mesa-auto-auction-20230201/
LOCATION:Western Towing\, 738 Heritage Rd.\, San Diego\, CA\, 92154\, United States
END:VEVENT
BEGIN:VEVENT
DTSTART;TZID=America/Los_Angeles:20230207T103000
DTEND;TZID=America/Los_Angeles:20230207T143000
DTSTAMP:20260423T174048
CREATED:20230113T214003Z
LAST-MODIFIED:20230204T152013Z
UID:15741-1675765800-1675780200@jbauctioneers.net
SUMMARY:OCEANSIDE - AUTO AUCTION
DESCRIPTION:Presented By:Auctions the 1st and 3rd Tuesdays of each monthPUBLIC AUTO AUCTIONUp to 80 Selected Vehicles\nTuesday February 7th @ 10:30am1060 Airport Rd. (in the Oceanside location towing yard)Oceanside 92058Phone. 760-722-6686For a map and directions\, click here\nHere are some photos of vehicles available at this week’s S&R Towing auction.Vehicles posted are subject to change without notice.Click on any of the images below to see the larger picture.*** MOTORHOME / RUNNERS ***\n\n\n\n\nno images were found \n\n\n*** NON-RUNNERS ***\n\n\n\nno images were found \n\n\n\nTo download a copy of the list in Adobe pdf format\, Click here.\n\n\n\n\n\n\n\n	LOT#Call #YearMakeModelPlateEXP DATEVINMILESS/T\n\n\n\n\n	1877422018KiaSoulAKS5193KNDJP3A53J7517426\n\n\n	2857751972CadiFleetwood1KWB8096D49R2Q1590720000\n\n\n	3884602001MerzE3204SXU955WDBJH65J11B345026\n\n\n	4894922001VolvoS604VYH390YV1RS58D212089849\n\n\n	5861942012NissanAltima7YBJ7611N4AL2AP3CC237223\n\n\n	6881962007ToyotaYaris6ATK507JTDJT923675129865\n\n\n	7880382016NissanAltima8DGP1831N4AL3AP7GN381356\n\n\n	8890792006BMW330i5VRL112WBAVB33566PS17185\n\n\n	9880112000HondaAccordBTL92251HGCG1656YA027602\n\n\n	10891611997NissanPathfinder4HPW039 JN8AR05Y3VW163663\n\n\n	11883941995NissanTruckBN929371N6SD11S9SC350969\n\n\n	12885831996HondaCivic8DOC5051HGEJ6507TL033869SAL\n\n\n	13878172014ChevCruzeIEM2641G1PA5SH0E7369282\n\n\n	14893181996HondaCivicBFL69232HGEJ6348TH122238\n\n\n	15921402003MercuryGrand Marquis8KDC7682MEFM74W73X610052\n\n\n	16921282000LexusGS 3004MGC511JT8BD68SXY0108870\n\n\n	17890162006HondaElement8SMV8595J6YH17686L000518\n\n\n	18876162008NissanAltima6TFF2971N4AL24E58C104139\n\n\n	19852662019KiaForte8RQU8833KPF24AD6KE112874\n\n\n	20912582010NissanSentra7VFS3123N1AB6AP8AL716679T\n\n\n	21894412009HyundaiSonata8YEM7155NPET46C19H543606\n\n\n	22893832003MitsLancer431 LHGJA3AJ86E73U001080\n\n\n	23877132003FordExplorer7GYG5091FMZU62K43ZB07643SAL\n\n\n	24816402002MerzCLK4304TTH008WDBLK70GX2T094448\n\n\n	25906851998HondaCivic4JA0LA1HGEJ722XWL012126\n\n\n	26893991996HondaAccord7KOD0221HGCD5533TA297461SAL\n\n\n	27893422004DodgeRam 1500579LBZ1D7HA18D04J102594\n\n\n	28890782009ToyotaCamry8YQF7884T4BE46K49R076399SAL\n\n\n	29889352004ChevMalibu7WEK0941G1ZT54834F122956\n\n\n	30928772007VolvoXC905Z0T696YV4CY982571398047T\n\n\n	31901652002FordRanger8V874851FTYR14E42PB47257\n\n\n	32892191993HondaAccord3CIB931JHMCB767XPC012863\n\n\n	33935002006FordExpedition8STX5741FMPU15506LA34228\n\n\n	34880162000ChevSilverado 1500PLH96752GCEK19T9Y1129566\n\n\n	35893522002FordMustangLTC7483OOS1FAFP42X32F10352485\,801SAL\n\n\n	36884421999HondaCivic4HGJ310 7/221HGEJ6225XL069653233\,041\n\n\n	37902962001FordExplorer Sport7HUZ3003/231FMYU60E11UA51776256\,466\n\n\n	38886311999DodgeRam Pickup 1500NO PLATE9/231B7HC13Z4XJ505036215\,167\n\n\n	39893491992MercuryGrand Marquis2ZUD2115/212MECM75W6NX728968\n\n\n	40896322013HondaCivic7LWM92510/222HGFG3B83DH52156597\,577\n\n\n	41923481999FordExpedition4ENR4631/231FMRU17L4XLA79212\n\n\n	42879022008DodgeAvenger9BDR7002/231B3LC46K38N585984177\,830\n\n\n	43898792001SuzukiEsteem549DBL8/22JS2GB41S61520701774\,113\n\n\n	44874542003FordExpedition5LBJ2498/231FMEU17L33LA35694187\,222\n\n\n	45880352000Toyota4Runner7XBA5181/21JT3GN86R7Y0160638277\,705\n\n\n	46409991989JeepComanche22228L13/161J7FJ36L7KL627514163\,109\n\n\n	47847852008JaguarXJ86YUR86911/20SAJWA79BX8SH22777180\,102\n\n\n	48899502006FordFusion6KSX8266/203FAHP08196R208730192\,043\n\n\n	49902782002BMW3 Series8WHJ7813/22WBABS33462JY42712108\,595\n\n\n	50935312007ToyotaPrius8GAM88111/22JTDKB20U573269010183\,892T\n\n\n	51933121998ChevC/K 1500902LHEOOS1GCEC19W2WE220049148\,994\n\n\n	52933112006FordFive Hundred8MQR7312/201FAFP27116G109525\n\n\n	53932182002SaturnS-Series6DGD3137/151G8ZR14712Z102166180\,874\n\n\n	54932212007KiaRondo6DYV1744/21KNAFG525477081367287\,802\n\n\n	55931322000HondaAccord4MHK2143/211HGCG1656YA053410222\,261T\n\n\n	56931922007ChevAveo7TZH31710/19KL1TG56667B138908161\,001\n\n\n	57931301996ChryslerTown & Country8CDP9074/221C4GP54R1TB38113870\,045\n\n\n	58931291997FordTaurus4TZD77711/211FALP52U1VA27236192\,251\n\n\n	59931331998FordE-2506A894669/201FTNS24L6WHA02894211\,217\n\n\n	60931902002DodgeDurango4VNV6RI1/191B4HR48N82F119542129\,702SAL\n\n\n	61930992002ToyotaCamry4YLM2826/18JTDBE32K520110992225\,818\n\n\n	62930982005ChryslerSebring5MEC6035/221C3EL45X65N635684204\,608SAL\n\n\n	63930952009HyundaiACCENT6HXU9585/21KMHCM36C99U119655141\,508\n\n\n	64930961995HondaAccord5SVZ3335/211HGCD5664SA086552212\,615\n\n\n	65750841994FordF5303JVD70022-May3FCMF53G1RJA02826\n\n\n\n\n\n\n\n\nTERMS AND CONDITIONS\n\nBuyers fees: Dealers & Dismantlers $35.00\nGeneral Public $65.00\n$200.00 cash deposit required to bid\nAll vehicles must be paid for in full CASH ONLY at the conclusion of the auction\nAll vehicles must be removed by Friday following the auction\nLien sale vehicles sold to the general public are sold as is with all vaults and defects\, you are required to pay all DMV back registration and obtain a smog certificate before receiving your title from the DMV\, sales tax for your purchase will be paid directly to the DMV upon submission of the lien sale packet you will receive at the conclusion of the auction. Out of state buyers\, check with your local DMV to be sure that they will accept California lien sale documents for registration in your state.\nFor more info call direct 760-722-6686
URL:https://jbauctioneers.net/event/oceanside-auto-auction-20230207/
LOCATION:S&R Towing\, 1060 Airport Rd.\, Oceanside\, CA\, 92058\, United States
END:VEVENT
BEGIN:VEVENT
DTSTART;TZID=America/Los_Angeles:20230215T123500
DTEND;TZID=America/Los_Angeles:20230215T123500
DTSTAMP:20260423T174048
CREATED:20230204T151306Z
LAST-MODIFIED:20230210T163320Z
UID:15920-1676464500-1676464500@jbauctioneers.net
SUMMARY:OTAY MESA - AUTO AUCTION
DESCRIPTION:Presented By: PUBLIC AUTO AUCTIONUp to 70 Lien Sale VehiclesWednesday February 15th  @ 12:35pm(Preview 12:00pm) Auctions held Wednesdays*** NEW LOCATION ***Otay Valley Rd & Heritage Rd\, Chula Vista(Look for signs to the new facility from this location\, actual site is up the hill on 738 Heritage Rd.)Phone: 619-694-7809For a map and directions\, click here Here are some photos of vehicles available at this week’s Western Towing Auto Auction.Click on any of the images below to see the larger picture.\n\n\n\nno images were found \n\n\n\nTo download a copy of the list in Adobe pdf format\, Click here.\n\n\n\n\n\n\n	NOCONTROLYEAR/MAKEMODELREF NOLS/T\n\n\n\n\n	123-028602 VOLKSWAGENJETTA305948LS\n\n\n	223-034599 CHEVROLETPRISM306629LS\n\n\n	323-026605 HONDACIVIC305772LS\n\n\n	423-028597 TOYOTACAMRY305931LS\n\n\n	523-040194 FORDTHUNDERBIRD307357LS\n\n\n	622-375602 OLDSMOBILEALERO301955LS\n\n\n	722-360704 FORDEXPLORER299564LS\n\n\n	823-031011 HONDACIVIC306419LS\n\n\n	922-348304 FORDEXPLORER298484LS\n\n\n	1022-354710 AUDIA6298881LS\n\n\n	1123-008412 NISSANALTIMA303859LS\n\n\n	1222-312202 GMCSIERRA294220LS\n\n\n	1323-030707 HYUNDAIACCENT306037LS\n\n\n	1423-029004 MERCEDESC-CLASS305949LS\n\n\n	1522-309303 CHEVROLETSILVERADO293730LS\n\n\n	1623-023497 BUICKPARK AVE305355LS\n\n\n	1722-383096 VOLVO850302486LS\n\n\n	1823-019103 NISSANFRONTIER304864LS\n\n\n	1923-016506 DODGECHARGER304339LS\n\n\n	2023-000807 MERCEDESC-CLASS302671LS\n\n\n	2123-031512 NISSANALTIMA306292LS\n\n\n	2223-006811 LINCOLNMKZ303877LS\n\n\n	2323-009508 HONDACIVIC303520LS\n\n\n	2422-366604 JEEPCHEROKEE300400LS\n\n\n	2523-027001 TOYOTACOROLLA305826LS\n\n\n	2623-003892 LINCOLNTOWNCAR303019LS\n\n\n	2723-005004 BMWX3303154LS\n\n\n	2823-032106 BMW530i306168LS\n\n\n	2923-025812 FORDFUSION305760LS\n\n\n	3022-362007 GMCACADIA299835LS\n\n\n	3122-360201 FORDRANGER299825LS\n\n\n	32N/A12 CHEVROLETIMPALAN/ATITLE\n\n\n	3323-003602 TOYOTACAMRY303193LS\n\n\n	3423-004195 JEEPCHEROKEE303172LS\n\n\n	3523-035604 HYUNDAISONATA306797LS\n\n\n	3622-025816 FORDFOCUS261570LS\n\n\n	3723-024099 TOYOTATACOMA305346LS\n\n\n	3822-354123-049130837301LS\n\n\n	3922-364202 LEXUSRX300308LS\n\n\n	4023-030189 CHEVROLETS10306057LS\n\n\n	4123-025907 HONDACIVIC305467LS\n\n\n	4222-350808 FORDEDGE298688LS\n\n\n	4323-030804 LINCOLNTOWNCAR306183LS\n\n\n	4422-380505 HONDAODYSSEY302129LS\n\n\n	4522-133107 ISUZUNPR274240LS\n\n\n	4622-323802 ISUZUNPR295604LS\n\n\n	4722-323794 FORDE350295602LS\n\n\n	4822-218792 COACHMANTRAILER283996LS\n\n\n	4922-227002 CHEVROLETEXPRESS285182LS\n\n\n	5023-007994 CHEVROLETSUBURBAN303605LS\n\n\n\n\n\n\n\nTERMS AND CONDITIONS\n\nCash Only – All Sales are Final\n$200.00 refundable cash deposit to bid\nRefunds are available anytime during auction\nAll cars must be paid for and picked up by 4pm on Thursday ( no exceptions )\nAdditional deposits are required on vehicle’s over $1000.00\nLien sale vehicles sold to the general public are sold as is with all vaults and defects\, you are required to pay all DMV back registration and obtain a smog certificate before receiving your title from the DMV\, sales tax for your purchase will be paid directly to the DMV upon submission of the lien sale packet you will receive at the conclusion of the auction. Out of state buyers\, check with your local DMV to be sure that they will accept California lien sale documents for registration in your state.
URL:https://jbauctioneers.net/event/otay-mesa-auto-auction-20230215/
LOCATION:Western Towing\, 738 Heritage Rd.\, San Diego\, CA\, 92154\, United States
END:VEVENT
BEGIN:VEVENT
DTSTART;TZID=America/Los_Angeles:20230221T103000
DTEND;TZID=America/Los_Angeles:20230221T143000
DTSTAMP:20260423T174048
CREATED:20230204T151632Z
LAST-MODIFIED:20230218T152932Z
UID:16028-1676975400-1676989800@jbauctioneers.net
SUMMARY:OCEANSIDE - AUTO AUCTION
DESCRIPTION:Presented By:Auctions the 1st and 3rd Tuesdays of each monthPUBLIC AUTO AUCTIONUp to 80 Selected Vehicles\nTuesday February 7th @ 10:30am1060 Airport Rd. (in the Oceanside location towing yard)Oceanside 92058Phone. 760-722-6686For a map and directions\, click here\nHere are some photos of vehicles available at this week’s S&R Towing auction.Vehicles posted are subject to change without notice.Click on any of the images below to see the larger picture.*** RUNNERS / MOTORHOME ***\n\n\n\n\nno images were found \n\n\n*** NON-RUNNERS ***\n\n\n\nno images were found \n\n\n\nTo download a copy of the list in Adobe pdf format\, Click here.\n\n\n\n\n\n\n\n	Lot #Call #YearMakeModelPlateExp DateVINMilesS/T\n\n\n\n\n	1902422003BMW540I8VJU261WBADN63423GN88156\n\n\n	2882601990ChryslerNew Yorker2URG5251C3XY66R1LD905882\n\n\n	3860752003AcuraMDX8FMY2322HNYD18673H531826\n\n\n	4924001997Toyota4Runner8B13094JT3HN87R9V0094916\n\n\n	5885972004VolksGolf8RDY4009BWFL61J744008015\n\n\n	6876422006FordFive Hundred5TCD8361FAHP23146G162508\n\n\n	7902211998BMW3 SeriesWBABK8325WEY86758\n\n\n	8901032004GMCEnvoy6FYW3191GKES12S346169568T\n\n\n	9905702001LexusGS 3006GGN947JT8BD69S810137045T\n\n\n	10900322007SaturnVue8WBS5385GZCZ33Z67S864403\n\n\n	11896142004GMCYukon8TVN7641GKEC13V04R267459\n\n\n	12912392003ToyotaCorolla5BAY956JTDBR32E430036299\n\n\n	13909321998DodgeCaravan8WZK5452B4GP25R4WR837021\n\n\n	14922011997ToyotaCorolla6YLB5831NXBA02E5VZ615122\n\n\n	15943862015ChevCruze7LLC0251G1PC5SB6F7149605\n\n\n	16950252011FordFocus6PVM8271FAHP3FN2BW166951\n\n\n	17886602009ToyotaTacoma8V648005TENX22N59Z651787\n\n\n	18866821999HondaCivic7AAA4192HGEJ6676XH589685\n\n\n	19901672014ToyotaCorolla7DVF9675YFBURHE6EP076885\n\n\n	20906222001BMW3 Series7NOB473WBAAV53411FT01387\n\n\n	21945341995PlymouthVoyager6KMR6242P4GH25J5SR329205\n\n\n	22939572000FordFocus6ZKK4853FAFP3132YR256593\n\n\n	23942632013ChevMalibu6SSE177 1G11C5SA6DF193281T\n\n\n	24916992005ToyotaCorolla5KFR5031NXBR32E75Z381432\n\n\n	25923352003ToyotaCorolla5UKJ681JTDBR32E930028327\n\n\n	26851962017KiaSportage7WBV052KNDPMCAC7H7113864\n\n\n	27916692002ChevTrailblazer5WKG8751GNDT13S422160554\n\n\n	28906101993FordCrown Victoria083AJT2FALP74W1PX165802\n\n\n	29850052005FordExplorer78722R21FMZU77K85UB45178\n\n\n	30932141999MercuryGrand Marquis8JWE8222MEFM75WXXX652736\n\n\n	31897981999FordWindstar6LZ56072FMZA5349XBB21565\n\n\n	32901292003BuickCentury6RJH6192G4WS52J431105863\n\n\n	33884832004FordTaurus5GDH5231FAFP56S34A112101\n\n\n	34923712008BMW5 SeriesNAWBANU53548CT18709\n\n\n	35911822018SubaruCrosstrek8HPU357JF2GTABC6JH229421\n\n\n	36907422013FordEdge8YQE1701702FMDK4JC3DBA53318\n\n\n	37906812004ToyotaHighlander5HLH604JTEDP21A040027491\n\n\n	38900912008ChryslerTown & Country7LPS3372A8HR54P98R701921\n\n\n	39913022003MitsLancer9DRT179JA3AJ26E43U114014\n\n\n	40900032000ToyotaCamry4KFR140JT2BG22K4Y0448132\n\n\n	41900872009BMW3 Series8XDM1614/22/2023WBAPH57509NL79908174238\n\n\n	42899192004NissanXterraLPT208411/30/20235N1ED28T64C613762200079\n\n\n	43915912012DodgeAvenger8XUF1737/2/20221C3CDZAGXCN327793143934\n\n\n	44903552003JaguarS-Type7CNG11812/8/2019SAJEA01T83FM72834142296\n\n\n	45910402006FordF-250NP7/31/20231FTSX20P96EC02702137359\n\n\n	46899162010HondaCivic389867OOS2HGFG1B67AH50325988245\n\n\n	47923481999FordExpedition4ENR4631/8/20231FMRU17L4XLA79212T\n\n\n	48901632008FordFocusEGG9293OOS1FAHP35N68W175808227747\n\n\n	49892262005NissanPathfinder5RHT1609/8/20215N1AR18U05C774743176299\n\n\n	50903632000DodgeDurango7WJE9251/8/20231B4HS28N6YF217986247983\n\n\n	51900272008MerzCLS5508SCF9685/16/2023WDDDJ72X48A135754142584\n\n\n	52916081999PontiacGrand Prix24KTONI5/16/20231G2WJ52K9XF253963196802\n\n\n	53875852008PontiacG6ZB8C5DOOS1G2ZG57N98411155891212\n\n\n	54906722007KiaOptima8RQG9966/12/2023KNAGE123175127976161966\n\n\n	55906672004ToyotaHighlander7PCB44411/10/2022JTEDP21AX40004185331159\n\n\n	56932212007KiaRondo6DYV1744/2/2021KNAFG525477081367287802\n\n\n	57934222002ToyotaCamry6FEK6411/28/2022JTDBE32K82006048988218SAL\n\n\n	58934232004BMW3 Series7PEP1039/28/2021WBABW53444PL43956107670\n\n\n	59933922001JeepGrand Cherokee4SWM8635/28/20221J4GX58S11C658787331672\n\n\n	60933912007VolksEOS8KSY8889/26/2020WVWFA71F27V001991101581SAL\n\n\n	61933092013SubaruXV CrosstrekLILSLTY11/8/2022JF2GPAGCXDH844040160359SAL\n\n\n	62933102000NissanMaxima4TMP8544/12/2022JN1CA31D8YT753222200220\n\n\n	63950272003FordRanger9.92E+054/30/20231FTYR10U73PA55168321440\n\n\n	64940942008ToyotaYaris7YKS2535/8/2023JTDBT923481233056115807SAL\n\n\n	65945332001VolksCabrio6MXC2458/20/20223VWCC21V11M804040148643\n\n\n	66950242016KiaForte7TKX0356/24/2023KNAFK4A64G555978587815\n\n\n	67832441990ChevP302VAH4241/8/20191GBKP37N1L332314764342\n\n\n	68904061994FordChassis3SEL7768/26/20221FDKE30G2RHA5158367415\n\n\n\n\n\n\n\n\nTERMS AND CONDITIONS\n\nBuyers fees: Dealers & Dismantlers $35.00\nGeneral Public $65.00\n$200.00 cash deposit required to bid\nAll vehicles must be paid for in full CASH ONLY at the conclusion of the auction\nAll vehicles must be removed by Friday following the auction\nLien sale vehicles sold to the general public are sold as is with all vaults and defects\, you are required to pay all DMV back registration and obtain a smog certificate before receiving your title from the DMV\, sales tax for your purchase will be paid directly to the DMV upon submission of the lien sale packet you will receive at the conclusion of the auction. Out of state buyers\, check with your local DMV to be sure that they will accept California lien sale documents for registration in your state.\nFor more info call direct 760-722-6686
URL:https://jbauctioneers.net/event/oceanside-auto-auction-20230221/
LOCATION:S&R Towing\, 1060 Airport Rd.\, Oceanside\, CA\, 92058\, United States
END:VEVENT
BEGIN:VEVENT
DTSTART;TZID=America/Los_Angeles:20230222T123500
DTEND;TZID=America/Los_Angeles:20230222T123500
DTSTAMP:20260423T174048
CREATED:20230204T151411Z
LAST-MODIFIED:20230217T232032Z
UID:15921-1677069300-1677069300@jbauctioneers.net
SUMMARY:OTAY MESA - AUTO AUCTION
DESCRIPTION:Presented By: PUBLIC AUTO AUCTIONUp to 70 Lien Sale VehiclesWednesday February 15th  @ 12:35pm(Preview 12:00pm) Auctions held Wednesdays*** NEW LOCATION ***Otay Valley Rd & Heritage Rd\, Chula Vista(Look for signs to the new facility from this location\, actual site is up the hill on 738 Heritage Rd.)Phone: 619-694-7809For a map and directions\, click here Here are some photos of vehicles available at this week’s Western Towing Auto Auction.Click on any of the images below to see the larger picture.\n\n\n\nno images were found \n\n\n\nTo download a copy of the list in Adobe pdf format\, Click here.\n\n\n\n\n\n\n	NOCONTROLYEAR/MAKEMODELREF NOLS/T\n\n\n\n\n	122-331904 VOLKSWAGENPASSAT296618LS\n\n\n	223-008704 BUICKREGAL303773LS\n\n\n	323-025798 BMW740i305581LS\n\n\n	423-034601 INFINITII30306649LS\n\n\n	523-016203 MERCEDESE-CLASS304500LS\n\n\n	622-359209 KIARONDO299562LS\n\n\n	723-041907 SCIONTC307425LS\n\n\n	823-040003 FORDESCAPE307345LS\n\n\n	923-044206 HONDAACCORD380001LS\n\n\n	1023-019802 MAZDAMPV304749LS\n\n\n	1123-024509 BMW328i305479LS\n\n\n	1223-024412 KIASOUL305437LS\n\n\n	1322-096314 VOLVOS60269975LS\n\n\n	1423-026896 SUBARULEGACY305812LS\n\n\n	1523-031293 CHEVROLETGMT400306296LS\n\n\n	1623-036304 MERCEDESE320306896LS\n\n\n	1723-037600 LINCOLNNAVIGATOR305757LS\n\n\n	1823-043800 GMCJIMMY307837LS\n\n\n	1921-130615 FORDFUSION232155LS\n\n\n	2023-017000 MERCEDESS-CLASS304394LS\n\n\n	2123-042794 TOYOTACELICA307706LS\n\n\n	2222-345505 TOYOTACAMRY298079LS\n\n\n	2322-221304 PONTIACSUNFIRE284143LS\n\n\n	2422-292175 CHEVROLETEL CAMINO292087LS\n\n\n	2523-013807 BMW335i304082LS\n\n\n	2623-026901 HONDACIVIC305692LS\n\n\n	2723-036903 JEEPLIBERTY306795LS\n\n\n	2823-032300 FORDWINDSTAR306289LS\n\n\n	29\n\n\n	3023-027115 HONDACIVIC305301LS\n\n\n	3122-055114 INFINITIQ50265214LS\n\n\n	3223-037994 FORDEXPLORER306907LS\n\n\n	3323-042497 FORDEXPLORER307590LS\n\n\n	3422-332002 TOYOTACAMRY296657LS\n\n\n	3523-003004 CHEVROLETMONTE CARLO303050LS\n\n\n	3623-042202 SATURNSL307876LS\n\n\n	3723-039697 ACURARL307307LS\n\n\n	3823-041405 CHEVROLETCOBALT307499LS\n\n\n	3923-037801 BMW325i306786LS\n\n\n	4023-039304 TOYOTACOROLLA307133LS\n\n\n	4123-038001 TOYOTAECHO306911LS\n\n\n	4223-039798 FORDF150307264LS\n\n\n	4323-035510 FORDEXPLORER307168LS\n\n\n	4422-383104 HONDACIVIC302456LS\n\n\n	4523-008898 MITSUBISHIECLIPSE303955LS\n\n\n	4623-008112 NISSANVERSA303875LS\n\n\n	4723-009812 DODGEGRD CARAVAN303704LS\n\n\n	4823-019501 DODGERAM P/U304621LS\n\n\n	4923-022300 FORDWINDSTAR305251LS\n\n\n	5023-029899 GMCSUBURBAN305953LS\n\n\n	51N/A02 BMW745iN/ATITLE\n\n\n	52N/A03 LANDROVERDISCOVERYN/ALS\n\n\n\n\n\n\n\nTERMS AND CONDITIONS\n\nCash Only – All Sales are Final\n$200.00 refundable cash deposit to bid\nRefunds are available anytime during auction\nAll cars must be paid for and picked up by 4pm on Thursday ( no exceptions )\nAdditional deposits are required on vehicle’s over $1000.00\nLien sale vehicles sold to the general public are sold as is with all vaults and defects\, you are required to pay all DMV back registration and obtain a smog certificate before receiving your title from the DMV\, sales tax for your purchase will be paid directly to the DMV upon submission of the lien sale packet you will receive at the conclusion of the auction. Out of state buyers\, check with your local DMV to be sure that they will accept California lien sale documents for registration in your state.
URL:https://jbauctioneers.net/event/otay-mesa-auto-auction-20230222/
LOCATION:Western Towing\, 738 Heritage Rd.\, San Diego\, CA\, 92154\, United States
END:VEVENT
END:VCALENDAR