BEGIN:VCALENDAR
VERSION:2.0
PRODID:-//Joe Bradley Auctioneers - ECPv6.15.20//NONSGML v1.0//EN
CALSCALE:GREGORIAN
METHOD:PUBLISH
X-WR-CALNAME:Joe Bradley Auctioneers
X-ORIGINAL-URL:https://jbauctioneers.net
X-WR-CALDESC:Events for Joe Bradley Auctioneers
REFRESH-INTERVAL;VALUE=DURATION:PT1H
X-Robots-Tag:noindex
X-PUBLISHED-TTL:PT1H
BEGIN:VTIMEZONE
TZID:America/Los_Angeles
BEGIN:DAYLIGHT
TZOFFSETFROM:-0800
TZOFFSETTO:-0700
TZNAME:PDT
DTSTART:20220313T100000
END:DAYLIGHT
BEGIN:STANDARD
TZOFFSETFROM:-0700
TZOFFSETTO:-0800
TZNAME:PST
DTSTART:20221106T090000
END:STANDARD
BEGIN:DAYLIGHT
TZOFFSETFROM:-0800
TZOFFSETTO:-0700
TZNAME:PDT
DTSTART:20230312T100000
END:DAYLIGHT
BEGIN:STANDARD
TZOFFSETFROM:-0700
TZOFFSETTO:-0800
TZNAME:PST
DTSTART:20231105T090000
END:STANDARD
BEGIN:DAYLIGHT
TZOFFSETFROM:-0800
TZOFFSETTO:-0700
TZNAME:PDT
DTSTART:20240310T100000
END:DAYLIGHT
BEGIN:STANDARD
TZOFFSETFROM:-0700
TZOFFSETTO:-0800
TZNAME:PST
DTSTART:20241103T090000
END:STANDARD
END:VTIMEZONE
BEGIN:VEVENT
DTSTART;TZID=America/Los_Angeles:20230307T103000
DTEND;TZID=America/Los_Angeles:20230307T143000
DTSTAMP:20260423T161802
CREATED:20230204T151708Z
LAST-MODIFIED:20230304T151130Z
UID:16029-1678185000-1678199400@jbauctioneers.net
SUMMARY:OCEANSIDE - AUTO AUCTION
DESCRIPTION:Presented By:Auctions the 1st and 3rd Tuesdays of each monthPUBLIC AUTO AUCTIONUp to 80 Selected Vehicles\nTuesday March 7th @ 10:30am1060 Airport Rd. (in the Oceanside location towing yard)Oceanside 92058Phone. 760-722-6686For a map and directions\, click here\nHere are some photos of vehicles available at this week’s S&R Towing auction.Vehicles posted are subject to change without notice.Click on any of the images below to see the larger picture.*** RUNNERS ***\n\n\n\n\nno images were found \n\n\n*** NON-RUNNERS ***\n\n\n\nno images were found \n\n\n\nTo download a copy of the list in Adobe pdf format\, Click here.\n\n\n\n\n\n\n\n	LOT #CALL #YEARMAKEMODELPLATEEXP DATEVINMILESS/T\n\n\n\n\n	1913992008ToyotaCamry494DWS4T4BE46K18R012593\n\n\n	2924011999JeepGrand Cherokee9DRY0851J4GW68N4XC714264\n\n\n	3899082009DodgeGrand Caravan6HJG3321D8HN44E99B512411\n\n\n	4917392006DodgeCharger7JUD4592B3KA53H56H530376\n\n\n	5923092019HyundaiELANTRA9DOB5795NPD84LFXKH424129\n\n\n	6909722012FordFiesta6VOP2943FADP4EJ0CM153894\n\n\n	7947192005ChevroletColorado7W531301GCCS198758253606\n\n\n	8761871971FordMustang3VGE1431F04F163470\n\n\n	9790912010HyundaiGenesisBKZ1233KMHGC4DF7AU072492\n\n\n	10917102000ToyotaCamry4NIA981JT2BF28K2Y0278363\n\n\n	11921971999JeepCherokee6XUH5131J4FF28S2XL633211\n\n\n	12921091984CadillacEldorado6JUS0881G6AL5788EE625781\n\n\n	13909852008PontiacG6NONE1G2ZG57B584203790\n\n\n	14899072004HyundaiSONATAJJL1125KMHWF35H34A981347\n\n\n	15908251999HondaCivic8GEA4431HGEJ8241XL045668SAL\n\n\n	16955802006FordEscape Hybrid8PZV6881FMCU95H46KA56505TITLE\n\n\n	17935282011FordFocus7EBC2651FAHP3GN6BW148516TITLE\n\n\n	18902822005PontiacAztek6VUZ2013G7DA03E55S513670\n\n\n	19885342005Mercedes-BenzE32047A8V78WDBUF65J25A606680\n\n\n	20929862006ChevroletColorado29898V11GCCS198568258384TITLE\n\n\n	21957221981LDAZ1BPR691F44CD9V720680\n\n\n	22943642005GMCSierra 150029022H22GTEC19V951141162T / SAL\n\n\n	23901612011HyundaiAccent8UCF517KMHCN4AC4BU610277\n\n\n	24908322011KiaOptimaJCR5659KNAGN4A71B5098106\n\n\n	25929181999FordRanger89012S21FTYR10X6XUA52425TITLE\n\n\n	26921022007BMWX58EHX5955UXFE83587LZ39471\n\n\n	27962401993FordEscort3VPA0081FAPP1281PW100821\n\n\n	28926952003ToyotaCorolla4VDS1321NXBR32E03Z000548\n\n\n	29930852013HyundaiVELOSTER6YBS039KMHTC6AEXDU112848\n\n\n	30926972006PontiacGrand Prix6HWZ2982G2WP552861254523\n\n\n	31962981988HondaPreludeDP 521MUJHMBA4149JC045001\n\n\n	32934242005AcuraTL8JAG41319UUA66225A068698SAL\n\n\n	33917001999MazdaProtege8XUP051JM1BJ2210X0150191\n\n\n	34933682006ChryslerTown and Country5TJR0132A8GP64L06R725347TITLE\n\n\n	35848072002AudiA45AHX477WAULC68E82A313489\n\n\n	36926931989ToyotaVan3T78522JT4YR28V8K5068380\n\n\n	37931362000SaturnS-Series6VDM7901G8ZK5270YZ239882\n\n\n	38892302000MitsubishiMONTERO SPORT5PNC041JA4LS41R6YP050619\n\n\n	39879202003BuickCentury5AVP0932G4WS52J731266837\n\n\n	40935131992PontiacFirebird6WLF9961G2FS23E5NL214368\n\n\n	41893482008HondaAccordOOSJMV32771HGCP26868A145231170029\n\n\n	42901532007LexusIS 2501/14/20218RCV946JTHBK262075034152158469\n\n\n	43910042003FordMustang6/2/20207WFC9221FAFP40463F346870192738\n\n\n	44843211997HondaCR-V1/8/20224AXX896JHLRD1858VC073031163692\n\n\n	45939132007NissanMaxima10/12/20206TZK7711N4BA41E67C830097184424SAL\n\n\n	46892232014DodgeChallenger5/14/2022U5104902C3CDYBT7EH15385968388\n\n\n	47894962007SubaruImpreza4/26/20208DDH387JF1GD74667G507826112470\n\n\n	48911122004HondaCivic1/2/20235FPY7141HGEM22144L009009134198\n\n\n	49909862004MazdaMazda39/12/20228UDG332JM1BK323641217841269754\n\n\n	50914071998Toyota4Runner11/12/20227ECD772JT3GN86R6W0062228247513SAL\n\n\n	51920722005ChevroletSilverado 2500HD1/31/202193328Y11GCHK23215F871113290703\n\n\n	52920992009JeepWrangler3/10/20216HGS6471J4FA24179L71159387624\n\n\n	53929922004HyundaiTiburon7/18/2006939 FVLKMHHN65F24U136449178662TITLE\n\n\n	54901632008FordFocus10/19/2021EGG92931FAHP35N68W175808227747\n\n\n	55893822005MazdaTribute4/8/20227RUB8584F2CZ961X5KM57997174681SAL\n\n\n	56961482003Mercedes-BenzE-Class8/14/20176TEL802WDBUF70JX3A348614146184TITLE\n\n\n	57962392007FordMustang4/14/20216VLX0651ZVFT84N075368680126186\n\n\n	58953832007SciontC5/14/20216MVU141JTKDE177570207675189423TITLE\n\n\n	59962532004HondaAccord9/16/20225WFA1153HGCM56324G711718189689\n\n\n	60962652007NissanSentra8/14/2020NONE3N1CB61E57L713626170901\n\n\n	61962492005ChevroletTahoe6/26/20111GNEK13T55J202384277524\n\n\n	62962482006BuickLucerne9/10/20208MBM2551G4HP57286U169487239318\n\n\n	63962521997FordEscort1/24/20215YNP6881FALP13P0VW234169146222SAL\n\n\n\n\n\n\n\n\nTERMS AND CONDITIONS\n\nBuyers fees: Dealers & Dismantlers $35.00\nGeneral Public $65.00\n$200.00 cash deposit required to bid\nAll vehicles must be paid for in full CASH ONLY at the conclusion of the auction\nAll vehicles must be removed by Friday following the auction\nLien sale vehicles sold to the general public are sold as is with all vaults and defects\, you are required to pay all DMV back registration and obtain a smog certificate before receiving your title from the DMV\, sales tax for your purchase will be paid directly to the DMV upon submission of the lien sale packet you will receive at the conclusion of the auction. Out of state buyers\, check with your local DMV to be sure that they will accept California lien sale documents for registration in your state.\nFor more info call direct 760-722-6686
URL:https://jbauctioneers.net/event/oceanside-auto-auction-20230307/
LOCATION:S&R Towing\, 1060 Airport Rd.\, Oceanside\, CA\, 92058\, United States
END:VEVENT
BEGIN:VEVENT
DTSTART;TZID=America/Los_Angeles:20230308T123500
DTEND;TZID=America/Los_Angeles:20230308T123500
DTSTAMP:20260423T161802
CREATED:20230204T151542Z
LAST-MODIFIED:20230304T152242Z
UID:15923-1678278900-1678278900@jbauctioneers.net
SUMMARY:OTAY MESA - AUTO AUCTION
DESCRIPTION:Presented By: PUBLIC AUTO AUCTIONUp to 70 Lien Sale VehiclesWednesday March 8th  @ 12:35pm(Preview 12:00pm) Auctions held Wednesdays*** NEW LOCATION ***Otay Valley Rd & Heritage Rd\, Chula Vista(Look for signs to the new facility from this location\, actual site is up the hill on 738 Heritage Rd.)Phone: 619-694-7809For a map and directions\, click here Here are some photos of vehicles available at this week’s Western Towing Auto Auction.Click on any of the images below to see the larger picture.\n\n\n\nno images were found \n\n\n\nTo download a copy of the list in Adobe pdf format\, Click here.\n\n\n\n\n\n\n	NOCONTROLYEAR/MAKEMODELREF NOLS/T\n\n\n\n\n	123-050701 MITSUBISHIGALANT308721LS\n\n\n	223-043311 DODGEAVENGER307897LS\n\n\n	323-049101 DODGENEON308373LS\n\n\n	423-049707 BMW530i308490LS\n\n\n	523-051201 NISSANMAXIMA308493LS\n\n\n	623-043002 NISSANALTIMA307728LS\n\n\n	723-050606 FORDFREESTAR308554LS\n\n\n	823-023908 LEXUSES305247LS\n\n\n	923-042502 DODGEGRD CARAVAN307604LS\n\n\n	1023-043103 FORDEXPEDITION307865LS\n\n\n	1123-036002 MERCEDESC230306763LS\n\n\n	1223-040309 PONTIACG6307413LS\n\n\n	1323-051106 CADILLACCTS308491LS\n\n\n	1423-045199 GMCYUKON307860LS\n\n\n	1523-010504 NISSANTITAN303606LS\n\n\n	1623-030904 CADILLACDEVILLE306357LS\n\n\n	1723-050887 NISSANPICKUP308724LS\n\n\n	1823-030406 DODGEGRD CARAVAN306298LS\n\n\n	1923-036104 SUBARUIMPREZA306826LS\n\n\n	2022-363702 TOYOTACAMRY300317LS\n\n\n	2123-045296 FORDTAURUS307726LS\n\n\n	2223-040704 NISSANARMADA307398LS\n\n\n	2323-023305 LINCOLNTOWNCAR305351LS\n\n\n	2423-048800 FORDMUSTANG308336LS\n\n\n	2521-377906 GMCCANYON257165LS\n\n\n	2622-366013 FORDEDGE300691LS\n\n\n	2723-049504 NISSANTITAN308419LS\n\n\n	2823-023703 BMW745i305327LS\n\n\n	2922-359404 JEEPGRD CHEROKEE299524LS\n\n\n	3022-362007 GMCACADIA299835LS\n\n\n	3121-167108 LEXUSIS250235569LS\n\n\n	3223-054007 TOYOTASOLARA309298LS\n\n\n	3323-050389 HONDAACCORD308598LS\n\n\n	3423-048602 VOLKSWAGENPASSAT308301LS\n\n\n	3522-207613 VOLKSWAGENPASSAT283133LS\n\n\n	3623-035300 FORDRANGER306812LS\n\n\n	3723-049303 LINCOLNAVIATOR308340LS\n\n\n	3823-037405 CHEVROLETEQUINOX307171LS\n\n\n	3923-048008 CHEVROLETIMPALA308263LS\n\n\n	4023-014506 CHRYSLERPT CRUISER304228LS\n\n\n	4123-045401 TOYOTACELICA307576LS\n\n\n	4223-014288 CHEVROLETPICKUP304121LS\n\n\n	4323-052007 CHRYSLER300308443LS\n\n\n	4423-049204 FORDEXPEDITION308313LS\n\n\n	4523-035406 MERCEDESCLK350306987LS\n\n\n	4623-000363 FORDTHUNDERBIRD302703LS\n\n\n	4723-044315 NISSANALTIMA307609LS\n\n\n	4823-050001 DODGEDURANGO308738LS\n\n\n	4923-036602 GMCEXPRESS VAN307033LS\n\n\n	5023-039291 DODGERAM 2500307256LS\n\n\n	51N/A98 VOLVOWAGONN/ATITLE\n\n\n\n\n\n\n\nTERMS AND CONDITIONS\n\nCash Only – All Sales are Final\n$200.00 refundable cash deposit to bid\nRefunds are available anytime during auction\nAll cars must be paid for and picked up by 4pm on Thursday ( no exceptions )\nAdditional deposits are required on vehicle’s over $1000.00\nLien sale vehicles sold to the general public are sold as is with all vaults and defects\, you are required to pay all DMV back registration and obtain a smog certificate before receiving your title from the DMV\, sales tax for your purchase will be paid directly to the DMV upon submission of the lien sale packet you will receive at the conclusion of the auction. Out of state buyers\, check with your local DMV to be sure that they will accept California lien sale documents for registration in your state.
URL:https://jbauctioneers.net/event/otay-mesa-auto-auction-20230308/
LOCATION:Western Towing\, 738 Heritage Rd.\, San Diego\, CA\, 92154\, United States
END:VEVENT
BEGIN:VEVENT
DTSTART;TZID=America/Los_Angeles:20230315T123500
DTEND;TZID=America/Los_Angeles:20230315T123500
DTSTAMP:20260423T161802
CREATED:20230304T153025Z
LAST-MODIFIED:20230310T034727Z
UID:16303-1678883700-1678883700@jbauctioneers.net
SUMMARY:OTAY MESA - AUTO AUCTION
DESCRIPTION:Presented By: PUBLIC AUTO AUCTIONUp to 70 Lien Sale VehiclesWednesday March 15th  @ 12:35pm(Preview 12:00pm) Auctions held Wednesdays*** NEW LOCATION ***Otay Valley Rd & Heritage Rd\, Chula Vista(Look for signs to the new facility from this location\, actual site is up the hill on 738 Heritage Rd.)Phone: 619-694-7809For a map and directions\, click here Here are some photos of vehicles available at this week’s Western Towing Auto Auction.Click on any of the images below to see the larger picture.\n\n\n\nno images were found \n\n\n\nTo download a copy of the list in Adobe pdf format\, Click here.\n\n\n\n\n\n\n	NOCONTROLYEAR/MAKEMODELREF NOLS/T\n\n\n\n\n	123-053000 HONDAACCORD309095LS\n\n\n	223-044603 TOYOTACOROLLA307574LS\n\n\n	323-060802 CHRYSLERPT CRUISER310061LS\n\n\n	422-294305 BMW645292071LS\n\n\n	523-054609 VOLVOS40309449LS\n\n\n	623-007500 TOYOTACOROLLA303650LS\n\n\n	723-045594 DODGEGRD CARAVAN307585LS\n\n\n	823-050995 JAGUARVANDENPLAS308422LS\n\n\n	923-045702 BUICKRENDEZVOUS307668LS\n\n\n	1023-058803 ACURATL309797LS\n\n\n	1123-054799 FORDEXPEDITION309404LS\n\n\n	1223-058594 TOYOTACAMRY309807LS\n\n\n	1323-025402 GMCSIERRA305685LS\n\n\n	1423-054891 GMCSONOMA309424LS\n\n\n	1523-039805 VOLVOS60307300LS\n\n\n	1622-353103 FORDMUSTANG298869LS\n\n\n	1723-044594 MERCEDESC CLASS307570LS\n\n\n	1823-032211 FORDFIESTA306279LS\n\n\n	1922-327210 TOYOTACOROLLA295884LS\n\n\n	2023-056904 CHEVROLETTAHOE309696LS\n\n\n	2120-345713 NISSANALTIMA215429LS\n\n\n	2223-059001 MITSUBISHIECLIPSE309825LS\n\n\n	2323-055006 KIASPECTRA309654LS\n\n\n	2422-292175 CHEVROLETEL CAMINO292087LS\n\n\n	2521-024214 NISSANALTIMA220945LS\n\n\n	2623-055302 CHEVROLETAVALANCHE309480LS\n\n\n	2722-101813 SCIONTC270312LS\n\n\n	2822-212408 BMWX5283449LS\n\n\n	2922-116311 MINI COOPERCOUNTRYMAN271852LS\n\n\n	3022-340302 TOYOTACAMRY297507LS\n\n\n	3122-055114 INFINITIQ50265215LS\n\n\n	3223-053202 TOYOTAECHO308718LS\n\n\n	3323-008908 SUZUKISX4303609LS\n\n\n	3423-047699 TOYOTA4RUNNER308141LS\n\n\n	3523-056695 CADILLACEL DORADO309408LS\n\n\n	3622-221174 CHEVROLETCAMARO284140LS\n\n\n	3723-060595 FORDRANGER310030LS\n\n\n	3823-041405 CHEVROLETCOBALT307499LS\n\n\n	3923-055505 FORDEXPLORER309683LS\n\n\n	4022-250704 NISSANXTERRA286828LS\n\n\n	4122-246804 MAZDARX8286676LS\n\n\n	4223-043909 MERCURYMARINER307891LS\n\n\n	4323-043606 CADILLACCTS307587LS\n\n\n	4423-060302 HONDAACCORD310081LS\n\n\n	4523-028890 MERCEDES190305939LS\n\n\n	4623-047509 KIASPECTRA308101LS\n\n\n	4723-061802 VOLVOS60310184LS\n\n\n	4822-362203 FORDF250300014LS\n\n\n	4923-052913 FORDFIESTA308975LS\n\n\n	5023-039593 CHEVROLETG SERIES307220LS\n\n\n\n\n\n\n\nTERMS AND CONDITIONS\n\nCash Only – All Sales are Final\n$200.00 refundable cash deposit to bid\nRefunds are available anytime during auction\nAll cars must be paid for and picked up by 4pm on Thursday ( no exceptions )\nAdditional deposits are required on vehicle’s over $1000.00\nLien sale vehicles sold to the general public are sold as is with all vaults and defects\, you are required to pay all DMV back registration and obtain a smog certificate before receiving your title from the DMV\, sales tax for your purchase will be paid directly to the DMV upon submission of the lien sale packet you will receive at the conclusion of the auction. Out of state buyers\, check with your local DMV to be sure that they will accept California lien sale documents for registration in your state.
URL:https://jbauctioneers.net/event/otay-mesa-auto-auction-20230315/
LOCATION:Western Towing\, 738 Heritage Rd.\, San Diego\, CA\, 92154\, United States
END:VEVENT
BEGIN:VEVENT
DTSTART;TZID=America/Los_Angeles:20230321T103000
DTEND;TZID=America/Los_Angeles:20230321T143000
DTSTAMP:20260423T161802
CREATED:20230304T152846Z
LAST-MODIFIED:20230318T045146Z
UID:16301-1679394600-1679409000@jbauctioneers.net
SUMMARY:OCEANSIDE - AUTO AUCTION
DESCRIPTION:Presented By:Auctions the 1st and 3rd Tuesdays of each monthPUBLIC AUTO AUCTIONUp to 80 Selected Vehicles\nTuesday March 21st @ 10:30am1060 Airport Rd. (in the Oceanside location towing yard)Oceanside 92058Phone. 760-722-6686For a map and directions\, click here\nHere are some photos of vehicles available at this week’s S&R Towing auction.Vehicles posted are subject to change without notice.Click on any of the images below to see the larger picture.*** RUNNERS ***\n\n\n\n\nno images were found \n\n\n*** NON-RUNNERS ***\n\n\n\nno images were found \n\n\n\nTo download a copy of the list in Adobe pdf format\, Click here.\n\n\n\n\n\n\n\n	Auction #YearMakeModelEXP DATEPlateVINOdometerTITLE / SAL\n\n\n\n\n	12006MINICooper6HVL083WMWRE33576TL18476\n\n\n	22008HondaAccord6EGT2601HGCP36818A071674T\n\n\n	32002HyundaiELANTRA4YWU333KMHDN55D92U070809\n\n\n	41992HondaCivic7WJZ8441HGEG8556NL045598SAL\n\n\n	51998Toyota4Runner7ECD772JT3GN86R6W0062228SAL\n\n\n	61998BuickCentury4BNV4422G4WS52M6W1521217\n\n\n	72005VolvoS605MTW716YV1RS592652462412\n\n\n	82007MiniCooper8MBM221WMWMF73557TL85612\n\n\n	92005AcuraRSXSBZ4092JH4DC53885S016514TITLE\n\n\n	102008Nissan350ZNRIE39JN1BZ34D78M702790\n\n\n	112000FordFocus4JSZ1351FAHP36PXYW112291\n\n\n	122006ChevSilverado 1500426ZYJ3GCEC14T76G141241\n\n\n	132004GMCYukon7JZY0481GKEC13V44R161418JS\n\n\n	142008MerzE-Class8DWZ897WDBUF56X88B315032SAL\n\n\n	152008Land RoverLR26HXB817SALFP24N58H013355\n\n\n	162010NissanAltima8SGH0201N4AL2AP6AN500080\n\n\n	172011ChevCamaroDM556872G1FB1ED7B9158424\n\n\n	181977MG000WQAG5UH420250\n\n\n	192000HondaAccord659 JXG1HGCG3258YA010057\n\n\n	202003FordMustang6HAV3391FAFP44463F414966\n\n\n	212014ChevCruze7GRR8781G1PC5SB4E7103768\n\n\n	222021HondaAccord Hybrid8VAX3011HGCV3F41MA010757\n\n\n	232003HondaCivic7PHA801SHHEP33503U406648\n\n\n	242004VolksPassat5END071WVWRH63B14P044313\n\n\n	251989ChevCorvette5KIM947 1G1YY2183K5102029\n\n\n	262013BMW3 Series9DFP283WBA3A5C59DF354937SAL\n\n\n	272008JeepLiberty8XSM620 1J8GN28K48W180375\n\n\n	282000HondaAccord4LQJ161 1HGCG165XYA064409T\n\n\n	292005AcuraMDX8ZVL3852HNYD188X5H546146\n\n\n	302002FordExplorer4XSL0211FMZU62E22UC11120\n\n\n	311997ChevS105M720601GCCS19X0V8161342\n\n\n	321990HondaAccord7LEG378JHMCB7651LC003591\n\n\n	332004BuickRendezvous6GUV4583G5DA03E64S558172\n\n\n	342008MazdaCX-96NWP536JM3TB28V380124401\n\n\n	351999HondaAccordEMA4DNA1HGCG1650XA062084\n\n\n	361999MitsubishiMirage7ECJ565JA3AY36C8XU034110\n\n\n	372010HyundaiSONATAU097WH5NPET4AC6AH655619\n\n\n	382001ChevroletImpalaDDMG22G1WF52E119326114SAL\n\n\n	392004ChevroletExpress VanNOPLATE1GCFG15X041200703\n\n\n	402000ChevroletS-106K377181GCCS1956Y8298966\n\n\n	412001NissanXterra12/16/20214ZVA1505N1ED28T81C544424172890\n\n\n	422014ToyotaCamry6/24/20237FPT1084T4BF1FK4ER37019576216\n\n\n	442007HondaCivic8/18/20226ABU0012HGFA16537H312773194636\n\n\n	452000HondaAccord7/8/20234MHU3283HGCG6655YG701348260252T\n\n\n	462006LexusIS 2508/2/20225VYL800JTHBK262162020566219142\n\n\n	472002SaturnL-Series10/8/20228KOR3041G8JW54R22Y578155134241\n\n\n	482005KiaAmanti10/12/2020NPKNALD12455507051353204SAL\n\n\n	492006AcuraTSX2/24/20228BTL962JH4CL95936C008146139394SAL\n\n\n	502003NissanAltima9/8/20176UIN7531N4BL11E43C109943181605\n\n\n	512011ChevroletCruze4/18/20216RRW5331G1PG5S91B7235285145378\n\n\n	522005Chrysler3006/2/20225JBM3892C3JA53GX5H168548176948\n\n\n	532002FordEscape6/8/20195VBS2341FMCU03142KC09041237159\n\n\n	542010MazdaMazda61/8/20218CZW0631YVHZ8BH3A5M12535205831\n\n\n	552006Chevrolet2500HD10/31/2023NOPLATE1GCHC23U66F267802289903\n\n\n	562001FordRanger4/30/20208C492641FTYR10U51PA94192195317\n\n\n	572007ToyotaTacoma5/31/20238L260645TEJU62N27Z427419478390T\n\n\n	582007NissanSentra8/14/2020NONE3N1CB61E57L713626170901\n\n\n\n\n\n\n\n\nTERMS AND CONDITIONS\n\nBuyers fees: Dealers & Dismantlers $35.00\nGeneral Public $65.00\n$200.00 cash deposit required to bid\nAll vehicles must be paid for in full CASH ONLY at the conclusion of the auction\nAll vehicles must be removed by Friday following the auction\nLien sale vehicles sold to the general public are sold as is with all vaults and defects\, you are required to pay all DMV back registration and obtain a smog certificate before receiving your title from the DMV\, sales tax for your purchase will be paid directly to the DMV upon submission of the lien sale packet you will receive at the conclusion of the auction. Out of state buyers\, check with your local DMV to be sure that they will accept California lien sale documents for registration in your state.\nFor more info call direct 760-722-6686
URL:https://jbauctioneers.net/event/oceanside-auto-auction-20230321/
LOCATION:S&R Towing\, 1060 Airport Rd.\, Oceanside\, CA\, 92058\, United States
END:VEVENT
BEGIN:VEVENT
DTSTART;TZID=America/Los_Angeles:20230322T123500
DTEND;TZID=America/Los_Angeles:20230322T123500
DTSTAMP:20260423T161802
CREATED:20230304T153107Z
LAST-MODIFIED:20230320T040019Z
UID:16304-1679488500-1679488500@jbauctioneers.net
SUMMARY:OTAY MESA - AUTO AUCTION
DESCRIPTION:Presented By: PUBLIC AUTO AUCTIONUp to 70 Lien Sale VehiclesWednesday March 22nd  @ 12:35pm(Preview 12:00pm) Auctions held Wednesdays*** NEW LOCATION ***Otay Valley Rd & Heritage Rd\, Chula Vista(Look for signs to the new facility from this location\, actual site is up the hill on 738 Heritage Rd.)Phone: 619-694-7809For a map and directions\, click here Here are some photos of vehicles available at this week’s Western Towing Auto Auction.Click on any of the images below to see the larger picture.\n\n\n\nno images were found \n\n\n\nTo download a copy of the list in Adobe pdf format\, Click here.\n\n\n\n\n\n\n	NOCONTROLYEAR/MAKEMODELREF NOLS/T\n\n\n\n\n	123-053000 HONDAACCORD309095LS\n\n\n	223-044603 TOYOTACOROLLA307574LS\n\n\n	323-060802 CHRYSLERPT CRUISER310061LS\n\n\n	422-294305 BMW645292071LS\n\n\n	523-054609 VOLVOS40309449LS\n\n\n	623-007500 TOYOTACOROLLA303650LS\n\n\n	723-045594 DODGEGRD CARAVAN307585LS\n\n\n	823-050995 JAGUARVANDENPLAS308422LS\n\n\n	923-045702 BUICKRENDEZVOUS307668LS\n\n\n	1023-058803 ACURATL309797LS\n\n\n	1123-054799 FORDEXPEDITION309404LS\n\n\n	1223-058594 TOYOTACAMRY309807LS\n\n\n	1323-025402 GMCSIERRA305685LS\n\n\n	1423-054891 GMCSONOMA309424LS\n\n\n	1523-039805 VOLVOS60307300LS\n\n\n	1622-353103 FORDMUSTANG298869LS\n\n\n	1723-044594 MERCEDESC CLASS307570LS\n\n\n	1823-032211 FORDFIESTA306279LS\n\n\n	1922-327210 TOYOTACOROLLA295884LS\n\n\n	2023-056904 CHEVROLETTAHOE309696LS\n\n\n	2120-345713 NISSANALTIMA215429LS\n\n\n	2223-059001 MITSUBISHIECLIPSE309825LS\n\n\n	2323-055006 KIASPECTRA309654LS\n\n\n	2422-292175 CHEVROLETEL CAMINO292087LS\n\n\n	2521-024214 NISSANALTIMA220945LS\n\n\n	2623-055302 CHEVROLETAVALANCHE309480LS\n\n\n	2722-101813 SCIONTC270312LS\n\n\n	2822-212408 BMWX5283449LS\n\n\n	2922-116311 MINI COOPERCOUNTRYMAN271852LS\n\n\n	3022-340302 TOYOTACAMRY297507LS\n\n\n	3122-055114 INFINITIQ50265215LS\n\n\n	3223-053202 TOYOTAECHO308718LS\n\n\n	3323-008908 SUZUKISX4303609LS\n\n\n	3423-047699 TOYOTA4RUNNER308141LS\n\n\n	3523-056695 CADILLACEL DORADO309408LS\n\n\n	3622-221174 CHEVROLETCAMARO284140LS\n\n\n	3723-060595 FORDRANGER310030LS\n\n\n	3823-041405 CHEVROLETCOBALT307499LS\n\n\n	3923-055505 FORDEXPLORER309683LS\n\n\n	4022-250704 NISSANXTERRA286828LS\n\n\n	4122-246804 MAZDARX8286676LS\n\n\n	4223-043909 MERCURYMARINER307891LS\n\n\n	4323-043606 CADILLACCTS307587LS\n\n\n	4423-060302 HONDAACCORD310081LS\n\n\n	4523-028890 MERCEDES190305939LS\n\n\n	4623-047509 KIASPECTRA308101LS\n\n\n	4723-061802 VOLVOS60310184LS\n\n\n	4822-362203 FORDF250300014LS\n\n\n	4923-052913 FORDFIESTA308975LS\n\n\n	5023-039593 CHEVROLETG SERIES307220LS\n\n\n\n\n\n\n\nTERMS AND CONDITIONS\n\nCash Only – All Sales are Final\n$200.00 refundable cash deposit to bid\nRefunds are available anytime during auction\nAll cars must be paid for and picked up by 4pm on Thursday ( no exceptions )\nAdditional deposits are required on vehicle’s over $1000.00\nLien sale vehicles sold to the general public are sold as is with all vaults and defects\, you are required to pay all DMV back registration and obtain a smog certificate before receiving your title from the DMV\, sales tax for your purchase will be paid directly to the DMV upon submission of the lien sale packet you will receive at the conclusion of the auction. Out of state buyers\, check with your local DMV to be sure that they will accept California lien sale documents for registration in your state.
URL:https://jbauctioneers.net/event/otay-mesa-auto-auction-20230322/
LOCATION:Western Towing\, 738 Heritage Rd.\, San Diego\, CA\, 92154\, United States
END:VEVENT
BEGIN:VEVENT
DTSTART;TZID=America/Los_Angeles:20230329T123500
DTEND;TZID=America/Los_Angeles:20230329T123500
DTSTAMP:20260423T161802
CREATED:20230304T153145Z
LAST-MODIFIED:20230324T152123Z
UID:16305-1680093300-1680093300@jbauctioneers.net
SUMMARY:OTAY MESA - AUTO AUCTION
DESCRIPTION:Presented By: PUBLIC AUTO AUCTIONUp to 70 Lien Sale VehiclesWednesday March 29th  @ 12:35pm(Preview 12:00pm) Auctions held Wednesdays*** NEW LOCATION ***Otay Valley Rd & Heritage Rd\, Chula Vista(Look for signs to the new facility from this location\, actual site is up the hill on 738 Heritage Rd.)Phone: 619-694-7809For a map and directions\, click here Here are some photos of vehicles available at this week’s Western Towing Auto Auction.Click on any of the images below to see the larger picture.\n\n\n\nno images were found \n\n\n\nTo download a copy of the list in Adobe pdf format\, Click here.\n\n\n\n\n\n\n	NOCONTROLYEAR/MAKEMODELREF NOLS/T\n\n\n\n\n	123-049906 BMW330ci308620LS\n\n\n	223-070500 CHEVROLETVENTURE311420LS\n\n\n	323-071598 TOYOTACAMRY311466LS\n\n\n	423-066998 VOLKSWAGENCABRIO310716LS\n\n\n	523-060907 PONTIACG6310070LS\n\n\n	623-070105 CHEVROLETEQUINOX311482LS\n\n\n	722-329196 JEEPCHEROKEE296133LS\n\n\n	823-063203 HONDAODYSSEY310564LS\n\n\n	923-050107 NISSANSENTRA308746LS\n\n\n	1023-067802 CHEVROLETSILVERADO310942LS\n\n\n	1123-069498 FORDEXPEDITION311482LS\n\n\n	1223-069305 GMCENVOY311462LS\n\n\n	1323-066504 MERCEDESC230310872LS\n\n\n	1423-063102 MERCEDESCLK CLASS310469LS\n\n\n	1523-067900 HONDAACCORD311056LS\n\n\n	1623-050501 FORDMUSTANG308474LS\n\n\n	1723-073494 BMW740i311613LS\n\n\n	1823-072798 FORDWINDSTAR311591LS\n\n\n	1923-062894 LEXUSLS310431LS\n\n\n	2022-079913 BMW5 SERIES267932LS\n\n\n	2121-303612 VOLVOS60249698LS\n\n\n	2223-067108 DODGEMAGNUM310939LS\n\n\n	2323-060201 BMW525i310078LS\n\n\n	2423-060406 NISSANALTIMA310097LS\n\n\n	2523-062709 SATURNVUE310317LS\n\n\n	2623-064491 VOLKSWAGENJETTA310285LS\n\n\n	2723-063503 MAZDA6310429LS\n\n\n	2823-053907 NISSANALTIMA309230LS\n\n\n	2923-068501 TOYOTACOROLLA311080LS\n\n\n	3022-286708 GMCACADIA291143LS\n\n\n	3123-022907 HYUNDAIAZERA305294LS\n\n\n	3220-106616 NISSANVERSA189988LS\n\n\n	3323-036501 FORDMUSTANG307030LS\n\n\n	3423-009205 FORDMUSTANG303998LS\n\n\n	3523-061601 MITSUBISHIECLIPSE310167LS\n\n\n	3621-319713 HYUNDAISONATA250932LS\n\n\n	3723-067702 NISSANALTIMA310965LS\n\n\n	3823-062607 BMW550i310305LS\n\n\n	3923-000210 VOLVOV50302661LS\n\n\n	4023-042006 AUDIA8307438LS\n\n\n	4123-062509 VOLKSWAGENJETTA310298LS\n\n\n	42N/A01 TOYOTACAMRY311202TITLE\n\n\n	4323-062403 HONDAPILOT310289LS\n\n\n	4423-063600 LANDROVERDISCOVERY310300LS\n\n\n	4523-033816 NISSANROGUE306261LS\n\n\n	4623-069706 DODGESTRATUS311456LS\n\n\n	4723-066298 HONDACR-V310902LS\n\n\n	4823-070097 DODGERAM 1500311446LS\n\n\n	4923-047800 FORDE150308242LS\n\n\n	5022-228195 DODGERAM VANILLS\n\n\n\n\n\n\n\nTERMS AND CONDITIONS\n\nCash Only – All Sales are Final\n$200.00 refundable cash deposit to bid\nRefunds are available anytime during auction\nAll cars must be paid for and picked up by 4pm on Thursday ( no exceptions )\nAdditional deposits are required on vehicle’s over $1000.00\nLien sale vehicles sold to the general public are sold as is with all vaults and defects\, you are required to pay all DMV back registration and obtain a smog certificate before receiving your title from the DMV\, sales tax for your purchase will be paid directly to the DMV upon submission of the lien sale packet you will receive at the conclusion of the auction. Out of state buyers\, check with your local DMV to be sure that they will accept California lien sale documents for registration in your state.
URL:https://jbauctioneers.net/event/otay-mesa-auto-auction-20230329/
LOCATION:Western Towing\, 738 Heritage Rd.\, San Diego\, CA\, 92154\, United States
END:VEVENT
END:VCALENDAR