BEGIN:VCALENDAR
VERSION:2.0
PRODID:-//Joe Bradley Auctioneers - ECPv6.15.20//NONSGML v1.0//EN
CALSCALE:GREGORIAN
METHOD:PUBLISH
X-WR-CALNAME:Joe Bradley Auctioneers
X-ORIGINAL-URL:https://jbauctioneers.net
X-WR-CALDESC:Events for Joe Bradley Auctioneers
REFRESH-INTERVAL;VALUE=DURATION:PT1H
X-Robots-Tag:noindex
X-PUBLISHED-TTL:PT1H
BEGIN:VTIMEZONE
TZID:America/Los_Angeles
BEGIN:DAYLIGHT
TZOFFSETFROM:-0800
TZOFFSETTO:-0700
TZNAME:PDT
DTSTART:20230312T100000
END:DAYLIGHT
BEGIN:STANDARD
TZOFFSETFROM:-0700
TZOFFSETTO:-0800
TZNAME:PST
DTSTART:20231105T090000
END:STANDARD
BEGIN:DAYLIGHT
TZOFFSETFROM:-0800
TZOFFSETTO:-0700
TZNAME:PDT
DTSTART:20240310T100000
END:DAYLIGHT
BEGIN:STANDARD
TZOFFSETFROM:-0700
TZOFFSETTO:-0800
TZNAME:PST
DTSTART:20241103T090000
END:STANDARD
BEGIN:DAYLIGHT
TZOFFSETFROM:-0800
TZOFFSETTO:-0700
TZNAME:PDT
DTSTART:20250309T100000
END:DAYLIGHT
BEGIN:STANDARD
TZOFFSETFROM:-0700
TZOFFSETTO:-0800
TZNAME:PST
DTSTART:20251102T090000
END:STANDARD
END:VTIMEZONE
BEGIN:VEVENT
DTSTART;TZID=America/Los_Angeles:20240109T103000
DTEND;TZID=America/Los_Angeles:20240109T143000
DTSTAMP:20260422T230806
CREATED:20231215T163401Z
LAST-MODIFIED:20240106T112426Z
UID:19796-1704796200-1704810600@jbauctioneers.net
SUMMARY:OCEANSIDE - AUTO AUCTION
DESCRIPTION:Presented By:Auctions the 1st and 3rd Tuesdays of each monthPUBLIC AUTO AUCTIONUp to 80 Selected Vehicles\nTuesday January 9th @ 10:30am1060 Airport Rd. (in the Oceanside location towing yard)Oceanside 92058Phone. 760-722-6686For a map and directions\, click here\nHere are some photos of vehicles available at this week’s S&R Towing auction.Vehicles posted are subject to change without notice.Click on any of the images below to see the larger picture.*** RUNNERS ***\n\n\n\n\nno images were found \n\n\n*** EXTRAS ***\n\n\n\nno images were found \n\n\n*** NON-RUNNERS ***\n\n\n\nno images were found \n\n\n\nTo download a copy of the list in Adobe pdf format\, Click here.\n\n\n\n\n\n\n\n	Call #LOT #YearMakeModelPlateVINT / SALEXP DATEOdometer\n\n\n\n\n	11503412012DodgeCharger8XNJ0502C3CDXBG3CH264483SAL\n\n\n	11685522007DodgeRam Pickup 150087695D23D7KR19D97G712772TITLE\n\n\n	11685632005FordRanger7T026381FTYR44U95PA10229TITLE\n\n\n	11020141991DodgeRam Van2XHE5372B6HB21Y8MK448749\n\n\n	11731952000PontiacFirebird6VDU5412G2FS22K8Y2123834TITLE\n\n\n	11475462001HondaCivic4RNS8642HGES26701H549485TITLE\n\n\n	11740372003HondaCR-V5BJK966JHLRD788X3C005890TITLE\n\n\n	11632982010FordFocus6NYD3011FAHP3HN8AW296843\n\n\n	11780392008Smartfortwo6GRE356WMEEJ31X28K198064TITLE\n\n\n	115220102000DodgeDakota6D406101B7GL22X5YS598307TITLE\n\n\n	115255111985ToyotaCelica2BVY561JT2MA67L0F0153058\n\n\n	116265122002LexusLS 4303ER9957JTHBN30F820063669\n\n\n	115951131985FordF-2502P129651FTHF25L2FPA73323\n\n\n	118005142011InfinitiG25 Sedan9CSZ792JN1DV6AP4BM830917TITLE\n\n\n	116854152006AudiA48RQK613WAUDF78E26A196323TITLE\n\n\n	116569162009HondaCR-VDZ682DP5J6RE38369L008845\n\n\n	115373171997SaturnS-Series6VDN4881G8ZK5277VZ241267\n\n\n	113667181995BMW5 Series3JMY409WBAHE2323SGE91042TITLE\n\n\n	116100192000BMW3 Series4MCK314WBABM534XYJN94740\n\n\n	115768202019ChevroletCamaroOMG2SS1G1FH1R78K0137451\n\n\n	115158212007VolkswagenJetta6ANG5663VWEG71K97M188645TITLE\n\n\n	112300222003FordF-150DP599CH1FTRF172X3NA04972\n\n\n	112608231996HondaCivic7PHL7561HGEJ8140TL013595\n\n\n	107600242006LincolnNavigator8ESK2735LMFU28516LJ03552\n\n\n	114949251994HondaAccord8POA313JHMCD563XRC031993\n\n\n	116473262007ToyotaMatrix5WQJ2262T1KR32E57C639614TITLE\n\n\n	114766272003NissanXterra5EGR1045N1ED28T03C691579\n\n\n	111173282016HyundaiSANTA FE Sport8YKF9445XYZU3LB2GG374186\n\n\n	104092292014VolkswagenJetta9CYZ4093VWD17AJ0EM387553\n\n\n	113679302006ToyotaPrius7VQY263JTDKB20U863194267\n\n\n	115590312000FordExplorer6PWT9401FMDU73E3YZA38699\n\n\n	111224322004ChryslerSebring5BQE4631C3EL65R24N119611\n\n\n	116664331998LexusLS 400JT8BH28FXW0111409SAL\n\n\n	116127342003FordE-Series Chassis7FEB2861FDSS31L53HB00206\n\n\n	118453351992HondaCivic9ASV5432HGEH235XNH544219TITLE\n\n\n	116162362004ChevroletMonte Carlo5LPV5812G1WZ151249200048\n\n\n	114204372001VolkswagenJetta6GCN0153VWSB69M71M206648\n\n\n	110794382007AudiA4V864385WAUDF78EX7A011503SAL\n\n\n	109876392004DodgeRam Pickup 150065560P11D7HA18K74J102736\n\n\n	113976401995JeepGrand Cherokee3LZX5231J4FX58SXSC739638\n\n\n	115919411991ChevroletC/K 2500 Series75765J21GCGC24K9ME139534\n\n\n	115143422006FordE-Series Cargo12446F31FTSE34L36DA39795SAL\n\n\n	114092432007FordF-150C74840R1FTPW14577FB75782OOS107370\n\n\n	116197442009Nissancube6KPD899JN8AZ28R09T12764610/21159405\n\n\n	113635452005SciontC5KPP113JTKDE17715001953810/21228101\n\n\n	116216462003HondaCivic5EPM8252HGES26703H62623109/23223935\n\n\n	112723472009FordFusion6FKS5153FAHP08189R14997904/23165931\n\n\n	113713482011InfinitiG25 Sedan8DXT445JN1DV6AP4BM83026801/23155755\n\n\n	113549492005BuickLeSabre5MDA1091G4HP54K45U18300301/2398096\n\n\n	113649502000ToyotaTacoma6G641094TAVL52N0YZ65098504/23220821\n\n\n	111046512004ChevroletAvalanche7H173113GNEC12T74G12177310/22347426\n\n\n	115106521992ChevroletC/K 1500 Series8U333442GCEC19HXN121956904/23209095\n\n\n	115502532003ChevroletTahoe6 37699C1GNEC13TX3J34254008/19190923\n\n\n	113527542009FordFlex6HGE6412FMDK53C29BA5113403/23135325\n\n\n	113726552015HyundaiVELOSTER8KNZ380KMHTC6AD7FU23659906/23140608\n\n\n	112982561998HondaAccordCS19V771HGCG1656WA01824801/23346550\n\n\n	114306572004JeepGrand Cherokee9CDC4191J4GX48S54C13256403/24171487\n\n\n	115600581978Amell2x218UFJF34BD7V8573900000\n\n\n	117840A2009SuzukiSV 650SF20C1346JS1VP53A392100480TITLE\n\n\n	114738B1982Honda20D9483JH2PC0202CM105081\n\n\n	108852C2017Harley-DavidsonSportster SuperLow23H11371HD4CR238HC405004\n\n\n	114043E1987DONG FANGSXTR24P5459LXDTCABE8H1030663\n\n\n\n\n\n\n\n\n\n\nTERMS AND CONDITIONS\n\nBuyers fees: Dealers & Dismantlers $35.00\nGeneral Public $65.00\n$200.00 cash deposit required to bid\nAll vehicles must be paid for in full CASH ONLY at the conclusion of the auction\nAll vehicles must be removed by Friday following the auction\nLien sale vehicles sold to the general public are sold as is with all vaults and defects\, you are required to pay all DMV back registration and obtain a smog certificate before receiving your title from the DMV\, sales tax for your purchase will be paid directly to the DMV upon submission of the lien sale packet you will receive at the conclusion of the auction. Out of state buyers\, check with your local DMV to be sure that they will accept California lien sale documents for registration in your state.\nFor more info call direct 760-722-6686
URL:https://jbauctioneers.net/event/oceanside-auto-auction-20240109/
LOCATION:S&R Towing\, 1060 Airport Rd.\, Oceanside\, CA\, 92058\, United States
END:VEVENT
BEGIN:VEVENT
DTSTART;TZID=America/Los_Angeles:20240110T123500
DTEND;TZID=America/Los_Angeles:20240110T123500
DTSTAMP:20260422T230806
CREATED:20231201T163536Z
LAST-MODIFIED:20240105T235019Z
UID:19576-1704890100-1704890100@jbauctioneers.net
SUMMARY:OTAY MESA - AUTO AUCTION
DESCRIPTION:Presented By: PUBLIC AUTO AUCTIONUp to 70 Lien Sale VehiclesWednesday January 10th  @ 12:35pm(Preview 12:00pm) Auctions held WednesdaysOtay Valley Rd & Heritage Rd\, Chula Vista(Look for signs to our facility from this location\, actual site is up the hill on 738 Heritage Rd.)Phone: 619-694-7809For a map and directions\, click here Here are some photos of vehicles available at this week’s Western Towing Auto Auction.Click on any of the images below to see the larger picture.\n\n\n\n\nno images were found \n\n\n\n\nTo download a copy of the list in Adobe pdf format\, Click here.\n\n\n\n\n\n\n	NOCONTROLYEAR/MAKE MODELREF#LS/T\n\n\n\n\n	123-320702 HYUNDAISONATA340635LS\n\n\n	223-334504 HONDACIVIC342280LS\n\n\n	323-318809 TOYOTACAMRY339821LS\n\n\n	423-298510 KIARIO338063LS\n\n\n	523-319601 TOYOTACOROLLA340517LS\n\n\n	623-328906 VOLKSWAGENTOUAREG341500LS\n\n\n	723-323406 BMW325i340815LS\n\n\n	823-327402 HYUNDAIXG350341372LS\n\n\n	923-342504 VOLKSWAGENJETTA343267LS\n\n\n	1023-290611 BUICKREGAL337036LS\n\n\n	1122-268102 BMWX5289204LS\n\n\n	1223-323007 BMW328i340975LS\n\n\n	1323-302701 BMW325i338343LS\n\n\n	1423-312408 LANDROVERLR2339521LS\n\n\n	1523-284502 MERCEDESS-CLASS336287LS\n\n\n	1623-304407 BMWX3338334LS\n\n\n	1723-297113 VOLKSWAGENJETTA337833LS\n\n\n	1823-298901 FORDCROWN VIC337937LS\n\n\n	1923-334011 CHRYSLER200342272LS\n\n\n	2023-348602 FORDEXPEDITION344022LS\n\n\n	2123-269603 LEXUSGS300334669LS\n\n\n	2223-309804 LEXUSGS339250LS\n\n\n	2323-103074 DATSUN240Z315439LS\n\n\n	2423-310099 LEXUSES300338967LS\n\n\n	2523-315904 MERCURYMOUNTAINEER340226LS\n\n\n	2623-3275 07 VOLKSWAGENJETTA341379LS\n\n\n	2723-326408 FORDFUSION341214LS\n\n\n	2823-281404 FORDMUSTANG336281LS\n\n\n	2923-322994 NISSANQUEST340729LS\n\n\n	3023-300711 DODGECHARGER338137LS\n\n\n	3123-317109 TOYOTACAMRY339851LS\n\n\n	3223-334401 TOYOTACELICA342265LS\n\n\n	3323-333305 NISSANMAXIMA342143LS\n\n\n	3423-342405 HONDAACCORD343252LS\n\n\n	3523-276407 NISSANARMADA335484LS\n\n\n	3623-295508 HONDACIVIC337710LS\n\n\n	3723-323209 MERCEDESGL450340727LS\n\n\n	3823-321897 TOYOTACAMRY340586LS\n\n\n	3923-249703 FORDEXPEDITION332773LS\n\n\n	4023-287503 INFINITIG35336669LS\n\n\n	4123-322406 DODGECHARGER340943LS\n\n\n	4223-306507 TOYOTATUNDRA338747LS\n\n\n	4323-313501 BUICKCENTURY339594LS\n\n\n	4423-335597 HONDAACCORD342352LS\n\n\n	4523-254507 LANDROVERRANGEROVER333340LS\n\n\n	4623-339306 DODGEDAKOTA342808LS\n\n\n	4723-251503 CADILLACESCALADE333049LS\n\n\n	4823-349598 GMCSIERRA344139LS\n\n\n	4923-327301 DODGERAM VAN341400LS\n\n\n	5023-348989 FORDECONOLINE344128LS\n\n\n\n\n\n\n\nTERMS AND CONDITIONS\n\nCash Only – All Sales are Final\n$200.00 refundable cash deposit to bid\nRefunds are available anytime during auction\nAll cars must be paid for and picked up by 4pm on Thursday ( no exceptions )\nAdditional deposits are required on vehicle’s over $1000.00\nLien sale vehicles sold to the general public are sold as is with all vaults and defects\, you are required to pay all DMV back registration and obtain a smog certificate before receiving your title from the DMV\, sales tax for your purchase will be paid directly to the DMV upon submission of the lien sale packet you will receive at the conclusion of the auction. Out of state buyers\, check with your local DMV to be sure that they will accept California lien sale documents for registration in your state.
URL:https://jbauctioneers.net/event/otay-mesa-auto-auction-20240110/
LOCATION:Western Towing\, 738 Heritage Rd.\, San Diego\, CA\, 92154\, United States
END:VEVENT
BEGIN:VEVENT
DTSTART;TZID=America/Los_Angeles:20240117T123500
DTEND;TZID=America/Los_Angeles:20240117T123500
DTSTAMP:20260422T230806
CREATED:20231201T163655Z
LAST-MODIFIED:20240112T174324Z
UID:19577-1705494900-1705494900@jbauctioneers.net
SUMMARY:OTAY MESA - AUTO AUCTION
DESCRIPTION:Presented By: PUBLIC AUTO AUCTIONUp to 70 Lien Sale VehiclesWednesday January 17th  @ 12:35pm(Preview 12:00pm) Auctions held WednesdaysOtay Valley Rd & Heritage Rd\, Chula Vista(Look for signs to our facility from this location\, actual site is up the hill on 738 Heritage Rd.)Phone: 619-694-7809For a map and directions\, click here Here are some photos of vehicles available at this week’s Western Towing Auto Auction.Click on any of the images below to see the larger picture.\n\n\n\n\nno images were found \n\n\n\n\nTo download a copy of the list in Adobe pdf format\, Click here.\n\n\n\n\n\n\n	NOCONTROLYEAR/MAKE MODELREF#LS/T\n\n\n\n\n	123-344811 AUDIA4343659LS\n\n\n	223-055910 DODGECHARGER309577LS\n\n\n	323-285712 TOYOTAHIGHLANDER336427LS\n\n\n	422-276413 MINI COOPER290095LS\n\n\n	521-342713 MERCEDESC250253484LS\n\n\n	622-339316 KIAFORTE297531LS\n\n\n	723-319704 NISSANTITAN340465LS\n\n\n	823-347096 TOYOTACOROLLA343751LS\n\n\n	923-348505 DODGECARAVAN343993LS\n\n\n	1023-344105 INFINITIG35343651LS\n\n\n	1123-331314 NISSANMURANO341791LS\n\n\n	1223-310606 BMW525i338969LS\n\n\n	1323-338091 HONDACIVIC342501LS\n\n\n	1423-334304 HYUNDAISONATA340728LS\n\n\n	1523-330198 CHEVROLETS10342044LS\n\n\n	1623-341308 MERCEDESC-CLASS343221LS\n\n\n	1723-325614 DODGECARAVAN341182LS\n\n\n	1823-337308 TOYOTACAMRY342828LS\n\n\n	1923-342111 KIASOUL343266LS\n\n\n	2023-337709 HYUNDAIELANTRA342750LS\n\n\n	2123-343510 VOLKSWAGENJETTA343539LS\n\n\n	2223-268907 HYUNDAIELANTRA343679LS\n\n\n	2323-341007 DODGECALIBER343156LS\n\n\n	2423-335697 GMCSAFARI342457LS\n\n\n	2523-338203 HYUNDAIELANTRA342790LS\n\n\n	2623-352209 MINI COOPER344492LS\n\n\n	2723-326210 TOYOTACOROLLA341344LS\n\n\n	2823-322300 DODGECARAVAN340909LS\n\n\n	2923-321403 LINCOLNAVIATOR340588LS\n\n\n	3023-339211 HONDAODYSSEY342758LS\n\n\n	3123-355408 MINI COOPER344637LS\n\n\n	3223-365403 FORDTAURUS345997LS\n\n\n	3323-330503 MERCEDESS-500341653LS\n\n\n	34N/A02 LEXUSGS341397TITLE\n\n\n	3523-301108 CHRYSLER300338111LS\n\n\n	3623-341202 HONDACIVIC343161LS\n\n\n	3723-262409 PONTIACVIBE334202LS\n\n\n	3823-344004 GMCYUKON343635LS\n\n\n	3923-345011 MERCEDESS-550343362LS\n\n\n	4023-357509 HONDAACCORD344950LS\n\n\n	4123-317912 MERCEDESC-CLASS340073LS\n\n\n	4223-347508 SCIONXB343848LS\n\n\n	4323-335103 MITSUBISHIECLIPSE342274LS\n\n\n	4423-348012 CHRYSLER200344007LS\n\n\n	4523-349607 NISSANALTIMA344141LS\n\n\n	023-337500 DODGEDURANGO342482LS\n\n\n	4723-322605 HONDACIVIC341035LS\n\n\n	4824-001404 INFINITIG35346324LS\n\n\n	4923-265711 HONDACIVIC334432LS\n\n\n	5023-333497 NISSANPICKUP342049LS\n\n\n\n\n\n\n\nTERMS AND CONDITIONS\n\nCash Only – All Sales are Final\n$200.00 refundable cash deposit to bid\nRefunds are available anytime during auction\nAll cars must be paid for and picked up by 4pm on Thursday ( no exceptions )\nAdditional deposits are required on vehicle’s over $1000.00\nLien sale vehicles sold to the general public are sold as is with all vaults and defects\, you are required to pay all DMV back registration and obtain a smog certificate before receiving your title from the DMV\, sales tax for your purchase will be paid directly to the DMV upon submission of the lien sale packet you will receive at the conclusion of the auction. Out of state buyers\, check with your local DMV to be sure that they will accept California lien sale documents for registration in your state.
URL:https://jbauctioneers.net/event/otay-mesa-auto-auction-20240117/
LOCATION:Western Towing\, 738 Heritage Rd.\, San Diego\, CA\, 92154\, United States
END:VEVENT
BEGIN:VEVENT
DTSTART;TZID=America/Los_Angeles:20240123T103000
DTEND;TZID=America/Los_Angeles:20240123T143000
DTSTAMP:20260422T230806
CREATED:20240102T161930Z
LAST-MODIFIED:20240120T005403Z
UID:19914-1706005800-1706020200@jbauctioneers.net
SUMMARY:OCEANSIDE - AUTO AUCTION
DESCRIPTION:Presented By:Auctions the 1st and 3rd Tuesdays of each monthPUBLIC AUTO AUCTIONUp to 80 Selected Vehicles\nTuesday January 23rd @ 10:30am1060 Airport Rd. (in the Oceanside location towing yard)Oceanside 92058Phone. 760-722-6686For a map and directions\, click here\nHere are some photos of vehicles available at this week’s S&R Towing auction.Vehicles posted are subject to change without notice.Click on any of the images below to see the larger picture.*** RUNNERS ***\n\n\n\n\nno images were found \n\n\n*** NON-RUNNERS ***\n\n\n\nno images were found \n\n\n\nTo download a copy of the list in Adobe pdf format\, Click here.\n\n\n\n\n\n\n\n	Call #lot #YearMakeModelExp DatePlateVin #MilesT/Sal\n\n\n\n\n	11870412005PontiacVibe8ZON1625Y2SN63L15Z408996TITLE\n\n\n	11627122020JeepCompass8NDD1543C4NJCCB9LT154599\n\n\n	11874331998FordExplorer3XNA7211FMZU32E8WZA14802TITLE\n\n\n	11663642003ToyotaMatrixTMP07222T1KR32EX3C062816\n\n\n	11810151994AcuraIntegra4KVH287JH4DC2386RS002552TITLE\n\n\n	11810062000ToyotaTacoma6C490064TASM92N3YZ611881TITLE\n\n\n	11570771999LexusGS 3006YVS358JT8BD68S0X0083122\n\n\n	11785682015HyundaiSONATAKZNY845NPE24AF8FH083814\n\n\n	11596991999ChevroletC/K 1500 SeriesNONE1GCEK19R0XR138828\n\n\n	118270102006BMW3 SERIES8CIV329WBAVB13546PT06676TITLE\n\n\n	108221112004JaguarXJ-SeriesNONESAJWA71C44SG24438\n\n\n	117850122005ToyotaTacoma12493A35TETU22N25Z104339TITLE\n\n\n	116644132002FordF-350 Super Duty7J210571FTSW31S92EB93716\n\n\n	116646142002SaturnS-Series5GEZ7931G8ZK52702Z238769\n\n\n	118017152006SciontC8ZOY161JTKDE177160083547TITLE\n\n\n	118185162005ToyotaCorolla7UCD1481NXBR32E75Z540644TITLE\n\n\n	115833172004HondaCR-V5FFM600JHLRD78884C005775\n\n\n	118015182001MazdaMX-5 Miata4RSZ870JM1NB353210200965TITLE\n\n\n	114449192000HondaAccordCC 169291HGCG2253YA036298\n\n\n	119051202007MazdaMazda35YLF504JM1BK324471663046TITLE\n\n\n	114573212004AcuraTL5FYU90619UUA66204A020096\n\n\n	117081222007ChevroletHHR8EVN0493GNDA13D37S537426\n\n\n	114626232000ChevroletMalibu5UNF7841G1ND52J5Y6337973\n\n\n	117114241998DodgeRam Van8W337312B7LB31Z3WK147216\n\n\n	116329252010FordFocus6NYD3011FAHP3HN8AW296843\n\n\n	114572262010VolkswagenJettaZHY99L3VWRZ7AJXAM062448\n\n\n	115927272012HyundaiGenesis Coupe7WHH034KMHHT6KD8CU075860\n\n\n	113726282015HyundaiVELOSTER8KNZ380KMHTC6AD7FU236599\n\n\n	109690292005Chrysler3008NQW3412C3AA63H35H529164\n\n\n	115995302015ChevroletEquinox8XKL9102GNALBEK1F6226993\n\n\n	110896311999MitsubishiGalant7VVE9734A3AA46L0XE026053\n\n\n	119437322003FordExpedition7VKG0181FMRU15L23LA26537\n\n\n	117609331996ToyotaAvalon8XWC4144T1BF12B8TU119001SAL\n\n\n	111932342006HondaAccord5SJZ5421HGCM56166A021969\n\n\n	110195351978Mercedes-Benz123C7HIH25912315012004598 .SAL\n\n\n	115197362006ToyotaSienna5WMU9385TDZA23C66S543042\n\n\n	117644372001HondaCR-V4UNL371JHLRD18601C024697TITLE\n\n\n	116328381999Mercedes-BenzM-Class4HGF6754JGAB54E2XA137264\n\n\n	111804392000FordExplorer7WJX8761FMZU63E8YZB62970TITLE SAL\n\n\n	116822401990FordF-2503Y716381FTHX25G2LKA70933\n\n\n	115375412004ToyotaCamry SolaraOOS4WY1914T1CA38P04U019185246736\n\n\n	115453422005FordFive Hundred01/238KIH1821FAFP23185G169905243026SAL\n\n\n	116778432001HondaAccord12/224PQB9131HGCG22561A007089191523\n\n\n	116057442002ToyotaCamry03/238UKS113JTDBE32K320025651234498\n\n\n	116402451999ToyotaCamry03/249ELK306JT2BF28K1X0180567389096\n\n\n	116122462014FordC-MAX Hybrid3/237KTB5441FADP5BU9EL503189311097SAL\n\n\n	111340472021SubaruForester10/248YNK638JF2SKAUC4MH58509028483\n\n\n	116054482004FordTaurus7/225ZIF7991FAFP53U04A130027117506\n\n\n	115903492004HondaCivic4/235GPK927SHHEP33534U500623236402\n\n\n	115106501992ChevroletC/K 1500 Series4/238U333442GCEC19HXN1219569209095\n\n\n	116430512007BMW3 Series5/235ZMW743WBAVB73557VF53756170061\n\n\n	115011522004SaturnIon4/20DPX46521G8AL52FX4Z171473117399\n\n\n	111046532004ChevroletAvalanche10/227H173113GNEC12T74G121773347426\n\n\n	109172541997NissanTruck10/235X367411N6SD16SXVC352162328080\n\n\n	116595551991FordF-15011/22LNRQRVM2FTDF15Y6MCA3307160556\n\n\n	119874562007AcuraMDX11/235XMT8002HNYD28527H506044317761\n\n\n\n\n\n\n\n\n\n\nTERMS AND CONDITIONS\n\nBuyers fees: Dealers & Dismantlers $35.00\nGeneral Public $65.00\n$200.00 cash deposit required to bid\nAll vehicles must be paid for in full CASH ONLY at the conclusion of the auction\nAll vehicles must be removed by Friday following the auction\nLien sale vehicles sold to the general public are sold as is with all vaults and defects\, you are required to pay all DMV back registration and obtain a smog certificate before receiving your title from the DMV\, sales tax for your purchase will be paid directly to the DMV upon submission of the lien sale packet you will receive at the conclusion of the auction. Out of state buyers\, check with your local DMV to be sure that they will accept California lien sale documents for registration in your state.\nFor more info call direct 760-722-6686
URL:https://jbauctioneers.net/event/oceanside-auto-auction-20240123/
LOCATION:S&R Towing\, 1060 Airport Rd.\, Oceanside\, CA\, 92058\, United States
END:VEVENT
BEGIN:VEVENT
DTSTART;TZID=America/Los_Angeles:20240124T123500
DTEND;TZID=America/Los_Angeles:20240124T123500
DTSTAMP:20260422T230806
CREATED:20240102T162220Z
LAST-MODIFIED:20240120T004903Z
UID:19911-1706099700-1706099700@jbauctioneers.net
SUMMARY:OTAY MESA - AUTO AUCTION
DESCRIPTION:Presented By: PUBLIC AUTO AUCTIONUp to 70 Lien Sale VehiclesWednesday January 24th  @ 12:35pm(Preview 12:00pm) Auctions held WednesdaysOtay Valley Rd & Heritage Rd\, Chula Vista(Look for signs to our facility from this location\, actual site is up the hill on 738 Heritage Rd.)Phone: 619-694-7809For a map and directions\, click here Here are some photos of vehicles available at this week’s Western Towing Auto Auction.Click on any of the images below to see the larger picture.\n\n\n\n\nno images were found \n\n\n\n\nTo download a copy of the list in Adobe pdf format\, Click here.\n\n\n\n\n\n\n	NOCONTROLYEAR/MAKE MODELREF#LS/T\n\n\n\n\n	123-364502 LEXUSES345865LS\n\n\n	223-278307 CHRYSLERPACIFICA335700LS\n\n\n	323-358608 NISSANALTIMA345283LS\n\n\n	423-353498 HONDACRV344623LS\n\n\n	523-352807 FORDFOCUS344264LS\n\n\n	623-342897 NISSANQUEST343241LS\n\n\n	723-361097 FORDEXPLORER345404LS\n\n\n	823-329889 NISSANPICKUP341892LS\n\n\n	923-271313 CHEVROLETCRUZE334802LS\n\n\n	1023-360902 DODGESTRATUS345357LS\n\n\n	1123-352302 FORDEXPLORER344566LS\n\n\n	1223-344502 VOLKSWAGENBEETLE343626LS\n\n\n	1323-330800 HYUNDAIACCENT341656LS\n\n\n	1423-347412 FORDFUSION343648LS\n\n\n	1523-340904 FORDMUSTANG343202LS\n\n\n	1623-334806 MERCEDESM-CLASS342333LS\n\n\n	1723-359903 BMW530i345286LS\n\n\n	1823-322006 HONDARIDGELINE340564LS\n\n\n	1923-320599 LEXUSRX300340575LS\n\n\n	2023-342709 FORDFUSION343283LS\n\n\n	2123-355503 BMW745i344648LS\n\n\n	2223-338996 FORDEXPLORER342756LS\n\n\n	2323-103074 DATSUN280Z315439LS\n\n\n	2423-338602 NISSANMAXIMA342510LS\n\n\n	2522-236206 CHEVROLETCOBALT285669LS\n\n\n	2623-359700 FORDFOCUS345062LS\n\n\n	2723-355703 TOYOTAHIGHLANDER344236LS\n\n\n	2823-093096 JEEPGRD CHEROKEE313835LS\n\n\n	2923-273905 FORDMUSTANG335263LS\n\n\n	3023-317011 VOLKSWAGENGTI339847LS\n\n\n	3123-338300 GMCSIERRA342487LS\n\n\n	3223-356411 HYUNDAISANTA FE344868LS\n\n\n	3323-348307 DODGEGRD CARAVAN344075LS\n\n\n	3423-277198 HONDAACCORD335713LS\n\n\n	3523-329900 ACURAINTEGRA341911LS\n\n\n	3623-364902 DODGEGRD CARAVAN345863LS\n\n\n	3723-300208 FORDF150338107LS\n\n\n	3823-359805 CHRYSLER300345181LS\n\n\n	3923-352706 CHRYSLER300344259LS\n\n\n	4023-351904 HONDAACCORD344251LS\n\n\n	4123-321602 BMW325i340568LS\n\n\n	4223-294407 TOYOTAPRIUS337222LS\n\n\n	4323-349308 BMW328i344216LS\n\n\n	4423-180599 FORDF150324697LS\n\n\n	4523-363204 MERCEDESS-CLASS345654LS\n\n\n	4623-363402 DODGEDURANGO345740LS\n\n\n	4723-362616 DODGEJOURNEY345661LS\n\n\n	4823-230703 GMCSAVANA VAN330746LS\n\n\n	4923-360206 CHEVROLETSUBURBAN345191LS\n\n\n	5021-167891 FORDECONOLINE235587LS\n\n\n\n\n\n\n\nTERMS AND CONDITIONS\n\nCash Only – All Sales are Final\n$200.00 refundable cash deposit to bid\nRefunds are available anytime during auction\nAll cars must be paid for and picked up by 4pm on Thursday ( no exceptions )\nAdditional deposits are required on vehicle’s over $1000.00\nLien sale vehicles sold to the general public are sold as is with all vaults and defects\, you are required to pay all DMV back registration and obtain a smog certificate before receiving your title from the DMV\, sales tax for your purchase will be paid directly to the DMV upon submission of the lien sale packet you will receive at the conclusion of the auction. Out of state buyers\, check with your local DMV to be sure that they will accept California lien sale documents for registration in your state.
URL:https://jbauctioneers.net/event/otay-mesa-auto-auction-20240124/
LOCATION:Western Towing\, 738 Heritage Rd.\, San Diego\, CA\, 92154\, United States
END:VEVENT
BEGIN:VEVENT
DTSTART;TZID=America/Los_Angeles:20240131T123500
DTEND;TZID=America/Los_Angeles:20240131T123500
DTSTAMP:20260422T230806
CREATED:20240102T162305Z
LAST-MODIFIED:20240126T184048Z
UID:19912-1706704500-1706704500@jbauctioneers.net
SUMMARY:OTAY MESA - AUTO AUCTION
DESCRIPTION:Presented By: PUBLIC AUTO AUCTIONUp to 70 Lien Sale VehiclesWednesday January 31st  @ 12:35pm(Preview 12:00pm) Auctions held WednesdaysOtay Valley Rd & Heritage Rd\, Chula Vista(Look for signs to our facility from this location\, actual site is up the hill on 738 Heritage Rd.)Phone: 619-694-7809For a map and directions\, click here Here are some photos of vehicles available at this week’s Western Towing Auto Auction.Click on any of the images below to see the larger picture.\n\n\n\n\nno images were found \n\n\n\n\nTo download a copy of the list in Adobe pdf format\, Click here.\n\n\n\n\n\n\n	NOCONTROLYEAR/MAKE MODELREF#LS/T\n\n\n\n\n	123-359307 NISSANALTIMA345231LS\n\n\n	223-338107 VOLKSRABBIT452752LS\n\n\n	323-341101 HYUNDAIXG300343157LS\n\n\n	434-349494 FORDRANGER344019LS\n\n\n	521-342713 MERCEDESC250253484LS\n\n\n	623-356590 GEO METRO344863LS\n\n\n	723-344205 TOYOTACOROLLA343393LS\n\n\n	823-343798 TOYOTASIENNA343636LS\n\n\n	9N/A02 FORDFOCUS341180LS\n\n\n	1023-350808 AUDIA3344413LS\n\n\n	1123-327605 FORDEXPEDITION341395LS\n\n\n	1223-343906 CHEVROLETMONTE CARLO343502LS\n\n\n	1323-337810 FORDFOCUS342519LS\n\n\n	1423-312408 LANDROVERLR2335921LS\n\n\n	1523-338503 HYUNDAIACCENT342496LS\n\n\n	1623-364705 INFINITIFX35345952LS\n\n\n	1723-270604 FORDEXPEDITION335043LS\n\n\n	1823-333200 BMW540i341992LS\n\n\n	1923-101702 MERCEDESCLK400315066LS\n\n\n	2023-331088 FORDMUSTANG341898LS\n\n\n	2123-357306 MERCEDESE-CLASS344922LS\n\n\n	2223-337908 NISSANALTIMA342479LS\n\n\n	2323-335002 DODGEDURANGO342354LS\n\n\n	2423-358905 HONDAACCORD345284LS\n\n\n	2523-346902 VOLVOV70343744LS\n\n\n	2623-334103 MERCEDESE320342318LS\n\n\n	2723-267906 BMWZ4334608LS\n\n\n	2823-362305 HONDAACCORD345519LS\n\n\n	2923-332896 TOYOTA 4RUNNER341762LS\n\n\n	3023-335205 HONDACRV342276LS\n\n\n	3123-359415 HONDACIVIC345171LS\n\n\n	3223-342608 CHEVROLETMALIBU343272LS\n\n\n	3324-017305 FORDFREESTYLE348269LS\n\n\n	3423-342405 HONDAACCORD343252LS\n\n\n	3523-342295 INFINITIJ30343265LS\n\n\n	3623-317710  FORDF150340110LS\n\n\n	3723-349088 TOYOTACAMRY344144LS\n\n\n	3823-249202 FORDF150332720LS\n\n\n	3920-071908 VOLKSWAGENGOLF186100LS\n\n\n	4023-009005 CHEVROLETCORVETTE303862LS\n\n\n	4124-010398 FORDRANGER347408LS\n\n\n	4223-348289 NISSANPICKUP344011LS\n\n\n	4323-307811 HONDAACCORD338864LS\n\n\n	4423-342304 BMWX5343268LS\n\n\n	4523-343404 INFINITIFX35343511LS\n\n\n	4623-316601 FORDRANGER339834LS\n\n\n	4723-358705 MERCURYGRD MARQUIS345192LS\n\n\n	4823-328197 DODGERAM341371LS\n\n\n	4924-001901 CHEVROLETSILVERADO346361LS\n\n\n	5023-351092 CHEVROLETG-SERIES VAN344481LS\n\n\n\n\n\n\n\nTERMS AND CONDITIONS\n\nCash Only – All Sales are Final\n$200.00 refundable cash deposit to bid\nRefunds are available anytime during auction\nAll cars must be paid for and picked up by 4pm on Thursday ( no exceptions )\nAdditional deposits are required on vehicle’s over $1000.00\nLien sale vehicles sold to the general public are sold as is with all vaults and defects\, you are required to pay all DMV back registration and obtain a smog certificate before receiving your title from the DMV\, sales tax for your purchase will be paid directly to the DMV upon submission of the lien sale packet you will receive at the conclusion of the auction. Out of state buyers\, check with your local DMV to be sure that they will accept California lien sale documents for registration in your state.
URL:https://jbauctioneers.net/event/otay-mesa-auto-auction-20240131/
LOCATION:Western Towing\, 738 Heritage Rd.\, San Diego\, CA\, 92154\, United States
END:VEVENT
END:VCALENDAR