BEGIN:VCALENDAR
VERSION:2.0
PRODID:-//Joe Bradley Auctioneers - ECPv6.15.20//NONSGML v1.0//EN
CALSCALE:GREGORIAN
METHOD:PUBLISH
X-WR-CALNAME:Joe Bradley Auctioneers
X-ORIGINAL-URL:https://jbauctioneers.net
X-WR-CALDESC:Events for Joe Bradley Auctioneers
REFRESH-INTERVAL;VALUE=DURATION:PT1H
X-Robots-Tag:noindex
X-PUBLISHED-TTL:PT1H
BEGIN:VTIMEZONE
TZID:America/Los_Angeles
BEGIN:DAYLIGHT
TZOFFSETFROM:-0800
TZOFFSETTO:-0700
TZNAME:PDT
DTSTART:20230312T100000
END:DAYLIGHT
BEGIN:STANDARD
TZOFFSETFROM:-0700
TZOFFSETTO:-0800
TZNAME:PST
DTSTART:20231105T090000
END:STANDARD
BEGIN:DAYLIGHT
TZOFFSETFROM:-0800
TZOFFSETTO:-0700
TZNAME:PDT
DTSTART:20240310T100000
END:DAYLIGHT
BEGIN:STANDARD
TZOFFSETFROM:-0700
TZOFFSETTO:-0800
TZNAME:PST
DTSTART:20241103T090000
END:STANDARD
BEGIN:DAYLIGHT
TZOFFSETFROM:-0800
TZOFFSETTO:-0700
TZNAME:PDT
DTSTART:20250309T100000
END:DAYLIGHT
BEGIN:STANDARD
TZOFFSETFROM:-0700
TZOFFSETTO:-0800
TZNAME:PST
DTSTART:20251102T090000
END:STANDARD
END:VTIMEZONE
BEGIN:VEVENT
DTSTART;TZID=America/Los_Angeles:20240206T103000
DTEND;TZID=America/Los_Angeles:20240206T143000
DTSTAMP:20260422T214929
CREATED:20240102T162044Z
LAST-MODIFIED:20240205T185253Z
UID:19915-1707215400-1707229800@jbauctioneers.net
SUMMARY:OCEANSIDE - AUTO AUCTION
DESCRIPTION:Presented By:Auctions the 1st and 3rd Tuesdays of each monthPUBLIC AUTO AUCTIONUp to 80 Selected Vehicles\n*** TUESDAY’S AUCTION HAS BEEN POSTPONED. Please join us next Tuesday\, February 13th. ***1060 Airport Rd. (in the Oceanside location towing yard)Oceanside 92058Phone. 760-722-6686For a map and directions\, click here\n\n\n\nTERMS AND CONDITIONS\n\nBuyers fees: Dealers & Dismantlers $35.00\nGeneral Public $65.00\n$200.00 cash deposit required to bid\nAll vehicles must be paid for in full CASH ONLY at the conclusion of the auction\nAll vehicles must be removed by Friday following the auction\nFor more info call direct 760-722-6686
URL:https://jbauctioneers.net/event/oceanside-auto-auction-20240206/
LOCATION:S&R Towing\, 1060 Airport Rd.\, Oceanside\, CA\, 92058\, United States
END:VEVENT
BEGIN:VEVENT
DTSTART;TZID=America/Los_Angeles:20240207T123500
DTEND;TZID=America/Los_Angeles:20240207T123500
DTSTAMP:20260422T214929
CREATED:20240102T162344Z
LAST-MODIFIED:20240206T193507Z
UID:19913-1707309300-1707309300@jbauctioneers.net
SUMMARY:OTAY MESA - AUTO AUCTION
DESCRIPTION:Presented By:PUBLIC AUTO AUCTIONUp to 70 Lien Sale VehiclesThe Wednesday Feb 7th Auction has been Postponed due to the Severe Weather\nPlease join us next Wednesday\, Feb 14th Auctions held Wednesdays*** NEW LOCATION ***Otay Valley Rd & Heritage Rd\, Chula Vista(Look for signs to the new facility from this location\, actual site is up the hill on Heritage Rd.)Phone: 619-694-7809For a map and directions\, click here \n\n\n\nTERMS AND CONDITIONS\n\nCash Only – All Sales are Final\n$200.00 refundable cash deposit to bid\nRefunds are available anytime during auction\nAll cars must be paid for and picked up by 4pm on Thursday ( no exceptions )\nAdditional deposits are required on vehicle’s over $1000.00
URL:https://jbauctioneers.net/event/otay-mesa-auto-auction-20240207/
LOCATION:Western Towing\, 738 Heritage Rd.\, San Diego\, CA\, 92154\, United States
END:VEVENT
BEGIN:VEVENT
DTSTART;TZID=America/Los_Angeles:20240213T103000
DTEND;TZID=America/Los_Angeles:20240213T143000
DTSTAMP:20260422T214929
CREATED:20240205T184207Z
LAST-MODIFIED:20240210T155915Z
UID:20475-1707820200-1707834600@jbauctioneers.net
SUMMARY:OCEANSIDE - AUTO AUCTION
DESCRIPTION:Presented By:Auctions the 1st and 3rd Tuesdays of each monthPUBLIC AUTO AUCTIONUp to 80 Selected Vehicles\nTuesday February 13th @ 10:30am1060 Airport Rd. (in the Oceanside location towing yard)Oceanside 92058Phone. 760-722-6686For a map and directions\, click here\nHere are some photos of vehicles available at this week’s S&R Towing auction.Vehicles posted are subject to change without notice.Click on any of the images below to see the larger picture.*** RUNNERS ***\n\n\n\n\nno images were found \n\n\n*** NON-RUNNERS ***\n\n\n\nno images were found \n\n\n\nTo download a copy of the list in Adobe pdf format\, Click here.\n\n\n\n\n\n\n\n	Call #lot #YearMakeModelExp DatePlateVinMilesT/Sal\n\n\n\n\n	11388212014HondaPilot7DBK2785FNYF3H41EB006277\n\n\n	11650422015HyundaiACCENT9EMY080KMHCU4AE0FU923806\n\n\n	11583632006HondaAccord302 LWA1HGCM56366A077055\n\n\n	11522442001ToyotaCelica4WBU375JTDDR32T110100674\n\n\n	11791952016SubaruWRXJF1VA1E65G9829003\n\n\n	11773862018AudiA48GDR932WAUKMAF41JA085436TITLE\n\n\n	11933172013HyundaiSONATA Hybrid7CMD117KMHEC4A46DA090658TITLE\n\n\n	11776482000FordExcursionBM7F6681FMNU42S8YEB86591\n\n\n	11637091995ChevroletC/K 1500 Series07622P22GCEC19K7S1183878SAL\n\n\n	117528101989ChevroletChevy Van6HAB6861GBEG25K0K7110956\n\n\n	110794112007AudiA4V864385WAUDF78EX7A011503SAL\n\n\n	116732121998HondaAccord6MXM8831HGCG2254WA019684\n\n\n	119955PT132006ChevroletColorado8V538091GCCS148868263554JUNK\n\n\n	120356PT142003BuickCentury4ZQW4672G4WS52J531203803\n\n\n	117226151990LexusLS 4006W0A262JT8UF11E4L0028659\n\n\n	118282162008ToyotaTacoma57020N33TMLU42NX8M014708\n\n\n	117120171994ChevroletCamaro3JBH8502G1FP22S9R2161564\n\n\n	115973182014FordC-MAX Hybrid7LGL7031FADP5AU6EL507170\n\n\n	114974192004BMW5 Series6JXT461WBANA53564B173925\n\n\n	118059202002Chrysler300M4YRR1012C3AE66G32H202346\n\n\n	118924212005HondaCivic5LLY2881HGEM225X5L044769TITLE\n\n\n	118092222015ScionFR-S7KCK307 JF1ZNAA19F8700377\n\n\n	108504231992GMCForward Control ChassisNONE1GDKP32K9N3501796\n\n\n	116760242007ChryslerTown and Country5ZKM5181A4GP44R47B180943SAL\n\n\n	117928252004LincolnTown Car8WQL4471LNHM83W24Y621023SAL\n\n\n	117646262018DodgeCharger9DCZ8612C3CDXCT3JH173352\n\n\n	114637272010VolkswagenJetta9AZK6273VWAX7AJ9AM142049\n\n\n	117562281999AcuraRL4FKZ682JH4KA9657XC005569\n\n\n	120026291999ToyotaTacomaRIKSTR14TANL42N5XZ519799TITLE\n\n\n	115032301990VolkswagenJetta2TTC678WVWRA21G3LW596203\n\n\n	120376312006AcuraRSX6PUA425JH4DC54836S002147TITLE\n\n\n	117282322003SaturnIon5BPT7411G8AL52FX3Z126533\n\n\n	120315331997NissanTruck82801M31N6SD16S6VC423793TITLE\n\n\n	118153342013AcuraILX6XJW60119VDE1F38DE000604\n\n\n	117130352009ChevroletMalibuMYP67521G1ZH57B594170468\n\n\n	116328361999Mercedes-BenzM-Class4HGF6754JGAB54E2XA137264\n\n\n	118668372000NissanMaxima6YKM020JN1CA31D1YT519746\n\n\n	117705381999FordRangerNOPLATE1FTYR14V4XPB05176\n\n\n	115455391995CadillacDeVille1G6KD52B1SU275755\n\n\n	116329402010FordFocus6NYD3011FAHP3HN8AW296843\n\n\n	116212411999BMW3 Series4EZE539WBAAM5336XFR06413\n\n\n	115079422010FordRanger09058T31FTKR1AD6APA62002\n\n\n	114288431998FordExplorer5CJT4921FMYU22X7WUC74743\n\n\n	118874442004LincolnAviator9CEU159 5LMEU68H84ZJ54229\n\n\n	114089452005HyundaiElantra7CNZ914 KMHDN46D85U001297\n\n\n	118432462008ToyotaCamry7T0J1304T1BE46K98U214012\n\n\n	115895472011KiaForte8VQT256KNAFU6A26B5460851\n\n\n	116248482003Mercedes-BenzC-CLASS5CNP997WDBRF40J03A526809\n\n\n	116082492001FordF-1506L211671FTSW31S31EA23091\n\n\n	96752502016VolkswagenJettaOOS6WF8193VW167AJ7GM28162561423\n\n\n	115986512000ToyotaCamrySep-224NGF444JT2BG22KXY0527109178719\n\n\n	117852522003BMW5 SeriesOOSNONEWBADT43443GY99064171835\n\n\n	116053531996HondaAccordJun-237ENW6851HGCD5537TA269582208197\n\n\n	117939541986ToyotaPickupMar-2428850S1JT5RN75T9G0004798236923\n\n\n	118301552009ToyotaCamryDec-236GDH9794T4BE46K09R119121157504\n\n\n	113714562004MazdaMazda6Mar-228XLY1651YVHP84D445N61413124518\n\n\n	113764572012HyundaiELANTRAAug-238KIG6735NPDH4AE6CH090340166747\n\n\n	116544582014FordFusionSep-237NQM6033FA6P0H70ER299736197267\n\n\n	116778592001HondaAccordDec-224PQB9131HGCG22561A007089191523\n\n\n	118679602016JeepPatriotJun-197SXU9091C4NJPBA8GD710753107698\n\n\n	117655612007HondaAccordMay-215YOL7981HGCM563X7A152082206191\n\n\n	117668622014JeepPatriotFeb-248UVU6431C4NJPFB6ED671273111153\n\n\n	117429631999ChevroletSuburbanJan-247SEM347 3GNFK16R2XG124980226547\n\n\n	116200642001FordRangerDec-2395077L1 1FTYR14U11PA55237222201\n\n\n	115913652004ToyotaMatrixJun-225HFM335 2T1CR32E44C206835158262\n\n\n	114862662004HondaCivicAug-23 6HAS5862HGES16554H602095168615\n\n\n	117052672007ChevroletMalibuOOSENA723 1G1ZW5197F202675176875\n\n\n	118031682009SuzukiSX4OOSTPP5337 JS2YC414296201059154542\n\n\n	114966692000HondaAccordFeb-245LQE729 JHMCG5674YC017984159150\n\n\n	119124702002NissanAltimaAug-194YXX930 1N4AL11D32C709693155858\n\n\n	115809711999ChevroletSuburbanOct-204HTW929 3GNEC16RXXG273128211952\n\n\n\n\n\n\n\n\n\n\nTERMS AND CONDITIONS\n\nBuyers fees: Dealers & Dismantlers $35.00\nGeneral Public $65.00\n$200.00 cash deposit required to bid\nAll vehicles must be paid for in full CASH ONLY at the conclusion of the auction\nAll vehicles must be removed by Friday following the auction\nLien sale vehicles sold to the general public are sold as is with all vaults and defects\, you are required to pay all DMV back registration and obtain a smog certificate before receiving your title from the DMV\, sales tax for your purchase will be paid directly to the DMV upon submission of the lien sale packet you will receive at the conclusion of the auction. Out of state buyers\, check with your local DMV to be sure that they will accept California lien sale documents for registration in your state.\nFor more info call direct 760-722-6686
URL:https://jbauctioneers.net/event/oceanside-auto-auction-20240213/
LOCATION:S&R Towing\, 1060 Airport Rd.\, Oceanside\, CA\, 92058\, United States
END:VEVENT
BEGIN:VEVENT
DTSTART;TZID=America/Los_Angeles:20240214T123500
DTEND;TZID=America/Los_Angeles:20240214T123500
DTSTAMP:20260422T214929
CREATED:20240202T184634Z
LAST-MODIFIED:20240206T193212Z
UID:20344-1707914100-1707914100@jbauctioneers.net
SUMMARY:OTAY MESA - AUTO AUCTION
DESCRIPTION:Presented By: PUBLIC AUTO AUCTIONUp to 70 Lien Sale VehiclesWednesday February 14th  @ 12:35pm(Preview 12:00pm) Auctions held WednesdaysOtay Valley Rd & Heritage Rd\, Chula Vista(Look for signs to our facility from this location\, actual site is up the hill on 738 Heritage Rd.)Phone: 619-694-7809For a map and directions\, click here Here are some photos of vehicles available at this week’s Western Towing Auto Auction.Click on any of the images below to see the larger picture.\n\n\n\n\nno images were found \n\n\n\n\nTo download a copy of the list in Adobe pdf format\, Click here.\n\n\n\n\n\n\n	NOCONTROLYEAR/MAKE MODELREF#LS/T\n\n\n\n\n	123-275014 FORDFIESTA335365LS\n\n\n	224-006107 HONDAACCORD346811LS\n\n\n	324-015408 VOLKSWAGENRABBIT348409LS\n\n\n	424-000598 FORDTAURUS346263LS\n\n\n	524-006304 BMW530i346923LS\n\n\n	624-015599 CHEVROLETSILVERADO348430LS\n\n\n	724-015609 NISSANALTIMA348436LS\n\n\n	824-009807 BUICKRENDEZVOUS347527LS\n\n\n	924-004995 TOYOTACAMRY346571LS\n\n\n	1023-344403 CHEVROLETASTROVAN343519LS\n\n\n	1124-012809 BMW128i347122LS\n\n\n	1223-310606 BMW525i338969LS\n\n\n	1323-355003 HYUNDAISANTA FE344651LS\n\n\n	1424-002499 JEEPGRD CHEROKEE346464LS\n\n\n	1523-348704 BMW325ci344104LS\n\n\n	1624-007398 LINCOLNNAVIGATOR347165LS\n\n\n	1724-013602 FORDESCORT ZX2347992LS\n\n\n	1824-015296 HONDAACCORD348158LS\n\n\n	1923-281304 FORDF150336093LS\n\n\n	2022-253512 BMW528i287429LS\n\n\n	2124-001104 JEEPGRD CHEROKEE346343LS\n\n\n	2223-362904 BMW525i345791LS\n\n\n	2323-341007 DODGECALIBER343156LS\n\n\n	2423-340400 BUICKREGAL343009LS\n\n\n	2523-306102 CHRYSLER300338829LS\n\n\n	2623-353105 TOYOTACAMRY344491LS\n\n\n	2723-299302 BUICKRENDEZVOUS337964LS\n\n\n	2824-001801 HONDAACCORD346344LS\n\n\n	2923-365108 FORDEDGE345936LS\n\n\n	3023-339211 HONDAODYSSEY342758LS\n\n\n	3123-343206 FORDFREESTAR343358LS\n\n\n	3224-010410 FORDFUSION347450LS\n\n\n	3324-000002 HONDAACCORD346246LS\n\n\n	3424-023905 SCIONTC349211LS\n\n\n	3523-350911 JEEPLIBERTY344477LS\n\n\n	3624-015300 FORDRANGER348217LS\n\n\n	3724-017600 HONDAACCORD348242LS\n\n\n	3823-344004 GMCYUKON343635LS\n\n\n	3924-013497 HONDACIVIC348000LS\n\n\n	4023-319193 CHRYSLERCONCORDE340348LS\n\n\n	4123-349702 GMCENVOY344142LS\n\n\n	4223-364608 HONDAACCORD345932LS\n\n\n	4323-355103 MITSUBISHIECLIPSE342274LS\n\n\n	4424-007703 BMW325i347152LS\n\n\n	4523-360493 FORDRANGER345306LS\n\n\n	4623-337500 DODGEDURANGO342482LS\n\n\n	4723-322605 HONDACIVIC341035LS\n\n\n	4824-001404 INFINITIG35346324LS\n\n\n	4923-338700 JEEPGRD CHEROKEE342727LS\n\n\n	5024-005007 VOLKSWAGENRABBIT346788LS\n\n\n\n\n\n\n\nTERMS AND CONDITIONS\n\nCash Only – All Sales are Final\n$200.00 refundable cash deposit to bid\nRefunds are available anytime during auction\nAll cars must be paid for and picked up by 4pm on Thursday ( no exceptions )\nAdditional deposits are required on vehicle’s over $1000.00\nLien sale vehicles sold to the general public are sold as is with all vaults and defects\, you are required to pay all DMV back registration and obtain a smog certificate before receiving your title from the DMV\, sales tax for your purchase will be paid directly to the DMV upon submission of the lien sale packet you will receive at the conclusion of the auction. Out of state buyers\, check with your local DMV to be sure that they will accept California lien sale documents for registration in your state.
URL:https://jbauctioneers.net/event/otay-mesa-auto-auction-20240214/
LOCATION:Western Towing\, 738 Heritage Rd.\, San Diego\, CA\, 92154\, United States
END:VEVENT
BEGIN:VEVENT
DTSTART;TZID=America/Los_Angeles:20240221T123500
DTEND;TZID=America/Los_Angeles:20240221T123500
DTSTAMP:20260422T214929
CREATED:20240202T184708Z
LAST-MODIFIED:20240216T182734Z
UID:20345-1708518900-1708518900@jbauctioneers.net
SUMMARY:OTAY MESA - AUTO AUCTION
DESCRIPTION:Presented By: PUBLIC AUTO AUCTIONUp to 70 Lien Sale VehiclesWednesday February 21st  @ 12:35pm(Preview 12:00pm) Auctions held WednesdaysOtay Valley Rd & Heritage Rd\, Chula Vista(Look for signs to our facility from this location\, actual site is up the hill on 738 Heritage Rd.)Phone: 619-694-7809For a map and directions\, click here Here are some photos of vehicles available at this week’s Western Towing Auto Auction.Click on any of the images below to see the larger picture.\n\n\n\n\nno images were found \n\n\n\n\nTo download a copy of the list in Adobe pdf format\, Click here.\n\n\n\n\n\n\n	NOCONTROLYEAR/MAKE MODELREF#LS/T\n\n\n\n\n	123-349108 MAZDA3344041LS\n\n\n	224-021001 INFINITII30348892LS\n\n\n	324-018607 HONDACIVIC348571LS\n\n\n	424-021798 TOYOTACAMRY349221LS\n\n\n	524-019001 FORDEXPEDITION 348640LS\n\n\n	624-020612 MITSUBISHIECLIPSE348906LS\n\n\n	724-008308 MAZDA3347299LS\n\n\n	824-001309 DODGEJOURNEY346319LS\n\n\n	923-355893 TOYOTA4RUNNER344765LS\n\n\n	1023-332896 TOYOTA4RUNNER341762LS\n\n\n	1124-017208 VOLKSWAGENJETTA348499LS\n\n\n	1223-352104 MERCEDESE500344378LS\n\n\n	1324-016807 KIASPORTAGE348293LS\n\n\n	1424-012799 BMW528i347946LS\n\n\n	1523-355205 NISSANSENTRA344125LS\n\n\n	1624-007506 SCIONTC347238LS\n\n\n	1724-014802 HONDACIVIC348109LS\n\n\n	1824-015007 VOLKSWAGENPASSAT348103LS\n\n\n	1924-005305 HONDAACCORD346699LS\n\n\n	2024-023696 CADILLACEL DORADO349023LS\n\n\n	2124-005204 HONDACIVIC346681LS\n\n\n	2223-263612 JEEPLIBERTY333926LS\n\n\n	2323-290508 BMW328i337049LS\n\n\n	2423-361300 HONDAACCORD345409LS\n\n\n	2523-366710 HONDAACCORD346096LS\n\n\n	2624-004209 TOYOTAYARIS346627LS\n\n\n	2724-022905 HYUNDAITUCSON348999LS\n\n\n	2823-358512 SCIONTC345057LS\n\n\n	2923-329105 FORDFREESTAR341494LS\n\n\n	3023-317011 VOLKSWAGENGTI339847LS\n\n\n	3123-331106 HONDAODYSSEY341904LS\n\n\n	3222-376616 FORDTAURUS301996LS\n\n\n	3324-017096 HONDAACCORD348438LS\n\n\n	3424-024110 FORDFREESTYLE359281LS\n\n\n	3523-347807 BMW328i344099LS\n\n\n	3624-022200 NISSANXTERRA349225LS\n\n\n	3724-019207 BMW328i348678LS\n\n\n	3824-024004 CHEVROLETTAHOE349216LS\n\n\n	3924-011306 BMW530i347537LS\n\n\n	4024-005905 TOYOTACAMRY346555LS\n\n\n	4124-005410 VOLKSWAGENPASSAT346857LS\n\n\n	4222-222808 SUBARUIMPREZA284391LS\n\n\n	4323-328600 AUDIA4341499LS\n\n\n	4424-015103 FORDMUSTANG348114LS\n\n\n	4523-284676 CHEVROLETSCOTTSDALE336297LS\n\n\n	4624-020400 DODGEDURANGO348907LS\n\n\n	4724-026304 FORDFOCUS349412LS\n\n\n	4824-006410 HONDACIVIC347008LS\n\n\n	4924-029702 LEXUSLS349815LS\n\n\n	5024-023086 FORDF250349119LS\n\n\n\n\n\n\n\nTERMS AND CONDITIONS\n\nCash Only – All Sales are Final\n$200.00 refundable cash deposit to bid\nRefunds are available anytime during auction\nAll cars must be paid for and picked up by 4pm on Thursday ( no exceptions )\nAdditional deposits are required on vehicle’s over $1000.00\nLien sale vehicles sold to the general public are sold as is with all vaults and defects\, you are required to pay all DMV back registration and obtain a smog certificate before receiving your title from the DMV\, sales tax for your purchase will be paid directly to the DMV upon submission of the lien sale packet you will receive at the conclusion of the auction. Out of state buyers\, check with your local DMV to be sure that they will accept California lien sale documents for registration in your state.
URL:https://jbauctioneers.net/event/otay-mesa-auto-auction-20240221/
LOCATION:Western Towing\, 738 Heritage Rd.\, San Diego\, CA\, 92154\, United States
END:VEVENT
BEGIN:VEVENT
DTSTART;TZID=America/Los_Angeles:20240228T123500
DTEND;TZID=America/Los_Angeles:20240228T123500
DTSTAMP:20260422T214929
CREATED:20240202T184740Z
LAST-MODIFIED:20240224T010552Z
UID:20346-1709123700-1709123700@jbauctioneers.net
SUMMARY:OTAY MESA - AUTO AUCTION
DESCRIPTION:Presented By: PUBLIC AUTO AUCTIONUp to 70 Lien Sale VehiclesWednesday February 28th  @ 12:35pm(Preview 12:00pm) Auctions held WednesdaysOtay Valley Rd & Heritage Rd\, Chula Vista(Look for signs to our facility from this location\, actual site is up the hill on 738 Heritage Rd.)Phone: 619-694-7809For a map and directions\, click here Here are some photos of vehicles available at this week’s Western Towing Auto Auction.Click on any of the images below to see the larger picture.\n\n\n\n\nno images were found \n\n\n\n\nTo download a copy of the list in Adobe pdf format\, Click here.\n\n\n\n\n\n\n	NOCONTROLYEAR/MAKE MODELREF#LS/T\n\n\n\n\n	124-013912 NISSANVERSA247994LS\n\n\n	223-261313 HYUNDAISONATA333817LS\n\n\n	324-034202 SATURNLW2350443LS\n\n\n	423-329698 TOYOTACOROLLA341639LS\n\n\n	5N/A13 MINI COOPERN/ATITLE\n\n\n	623-324115 NISSANSENTRA340730LS\n\n\n	724-038008 CHEVROLETIMPALA350836LS\n\n\n	824-023205 FORDESCAPE349006LS\n\n\n	924-011705 KIARIO347810LS\n\n\n	1024-002002 LEXUSIS346368LS\n\n\n	1124-016605 KIASPECTRA348229LS\n\n\n	1224-008506 ACURATL347361LS\n\n\n	1324-029806 HONDAACCORD349878LS\n\n\n	1424-021899 CHEVROLETBLAZER349024LS\n\n\n	1523-328505 AUDITT341474LS\n\n\n	1623-362110 AUDIA3345598LS\n\n\n	1724-014707 MERCEDESC-CLASS348149LS\n\n\n	1824-005700 HONDAACCORD346880LS\n\n\n	1924-027607 AUDIA4349605LS\n\n\n	20TITLE97 BMW540i349196LS\n\n\n	2124-033004 VOLVOXC90350503LS\n\n\n	2224-036893 TOYOTACOROLLA350795LS\n\n\n	2324-022695 SUZUKISWIFT349091LS\n\n\n	2424-040505 HYUNDAITUCSON351189LS\n\n\n	2524-013506 VOLKSWAGENPASSAT347980LS\n\n\n	2624-020597 LEXUSLS400348857LS\n\n\n	2723-237906 BMWZ4334608LS\n\n\n	2824-010698 TOYOTAAVALON347630LS\n\n\n	2924-033503 HYUNDAISANTA FE350436LS\n\n\n	3024-029202 FORDESCAPE349922LS\n\n\n	3124-031914 NISSANVERSA350230LS\n\n\n	3224-032911 CHEVROLETHHR350294LS\n\n\n	3323-297803 TOYOTAAVALON337838LS\n\n\n	3424-011506 NISSANALTIMA347664LS\n\n\n	3524-029003 HYUNDAIACCENT349559LS\n\n\n	3624-010507 TOYOTAYARIS347699LS\n\n\n	3723-321792 VOLVO740340569LS\n\n\n	3824-007805 MAZDA3347143LS\n\n\n	3924-032604 CHEVROLETSUBURBAN350428LS\n\n\n	40N/A06 TOYOTACAMRYN/ATITLE\n\n\n	4124-023398 FORDEXPLORER349229LS\n\n\n	4224-003205 CHRYSLERPT CRUISER346435LS\n\n\n	4324-021397 TOYOTATERCEL348933LS\n\n\n	4424-043203 INFINITIG35351552LS\n\n\n	4523-110601 FORDE350316506LS\n\n\n	4623-295000 FORDEXPLORER337730LS\n\n\n	4724-013897 TOYOTA4RUNNER347999LS\n\n\n	4823-328197 DODGERAM PICKUP341371LS\n\n\n	4924-031301 GMCYUKON349980LS\n\n\n	5024-018703 FORDFOCUS348583LS\n\n\n\n\n\n\n\nTERMS AND CONDITIONS\n\nCash Only – All Sales are Final\n$200.00 refundable cash deposit to bid\nRefunds are available anytime during auction\nAll cars must be paid for and picked up by 4pm on Thursday ( no exceptions )\nAdditional deposits are required on vehicle’s over $1000.00\nLien sale vehicles sold to the general public are sold as is with all vaults and defects\, you are required to pay all DMV back registration and obtain a smog certificate before receiving your title from the DMV\, sales tax for your purchase will be paid directly to the DMV upon submission of the lien sale packet you will receive at the conclusion of the auction. Out of state buyers\, check with your local DMV to be sure that they will accept California lien sale documents for registration in your state.
URL:https://jbauctioneers.net/event/otay-mesa-auto-auction-20240228/
LOCATION:Western Towing\, 738 Heritage Rd.\, San Diego\, CA\, 92154\, United States
END:VEVENT
END:VCALENDAR