BEGIN:VCALENDAR
VERSION:2.0
PRODID:-//Joe Bradley Auctioneers - ECPv6.15.20//NONSGML v1.0//EN
CALSCALE:GREGORIAN
METHOD:PUBLISH
X-ORIGINAL-URL:https://jbauctioneers.net
X-WR-CALDESC:Events for Joe Bradley Auctioneers
REFRESH-INTERVAL;VALUE=DURATION:PT1H
X-Robots-Tag:noindex
X-PUBLISHED-TTL:PT1H
BEGIN:VTIMEZONE
TZID:America/Los_Angeles
BEGIN:DAYLIGHT
TZOFFSETFROM:-0800
TZOFFSETTO:-0700
TZNAME:PDT
DTSTART:20230312T100000
END:DAYLIGHT
BEGIN:STANDARD
TZOFFSETFROM:-0700
TZOFFSETTO:-0800
TZNAME:PST
DTSTART:20231105T090000
END:STANDARD
BEGIN:DAYLIGHT
TZOFFSETFROM:-0800
TZOFFSETTO:-0700
TZNAME:PDT
DTSTART:20240310T100000
END:DAYLIGHT
BEGIN:STANDARD
TZOFFSETFROM:-0700
TZOFFSETTO:-0800
TZNAME:PST
DTSTART:20241103T090000
END:STANDARD
BEGIN:DAYLIGHT
TZOFFSETFROM:-0800
TZOFFSETTO:-0700
TZNAME:PDT
DTSTART:20250309T100000
END:DAYLIGHT
BEGIN:STANDARD
TZOFFSETFROM:-0700
TZOFFSETTO:-0800
TZNAME:PST
DTSTART:20251102T090000
END:STANDARD
END:VTIMEZONE
BEGIN:VEVENT
DTSTART;TZID=America/Los_Angeles:20240305T103000
DTEND;TZID=America/Los_Angeles:20240305T143000
DTSTAMP:20260422T203018
CREATED:20240202T185108Z
LAST-MODIFIED:20240302T153309Z
UID:20409-1709634600-1709649000@jbauctioneers.net
SUMMARY:OCEANSIDE - AUTO AUCTION
DESCRIPTION:Presented By:Auctions the 1st and 3rd Tuesdays of each monthPUBLIC AUTO AUCTIONUp to 80 Selected Vehicles\nTuesday March 5thth @ 10:30am1060 Airport Rd. (in the Oceanside location towing yard)Oceanside 92058Phone. 760-722-6686For a map and directions\, click here\nHere are some photos of vehicles available at this week’s S&R Towing auction.Vehicles posted are subject to change without notice.Click on any of the images below to see the larger picture.*** MOTORCYCLES ***\n\n\n\n\nno images were found \n\n\n*** RUNNERS ***\n\n\n\nno images were found \n\n\n*** NON-RUNNERS ***\n\n\n\nno images were found \n\n\n\nTo download a copy of the list in Adobe pdf format\, Click here.\n\n\n\n\n\n\n\n	Call #Auct #YearMakeModelExp DatePlateVINOdometerT/Sal\n\n\n\n\n	11934512002DodgeRam 150015949B31D7HA16N82J223530\n\n\n	11879922016FordFocus8MVB5791FADP3K26GL272452\n\n\n	11958332002BuickLeSabre8JAG8401G4HR54K82U250241\n\n\n	121851Pt42011LincolnTown Car68594S22LNBL8EV2BX756707T\n\n\n	12157152012NissanMaxima6WJS7571N4AA5AP3CC808488T\n\n\n	12134362009ToyotaCamry654478DV4T1BK46K99U593863T\n\n\n	11907172002HondaCivic5AMT8952HGES26702H585632\n\n\n	12003382006NissanAltima5TGF0261N4AL11D86N355700\n\n\n	11266892012Fiat500NO PLT3C3CFFFH1CT330284\n\n\n	120547102003ChevroletTrailBlazer7BAL1491GNDS13S132122008T\n\n\n	119634112000MazdaProtege5DDG083JM1BJ2219Y0302695\n\n\n	119410122011ToyotaPrius8FOP127JTDKN3DU5B1381981\n\n\n	119425132010FordFusion6SNZ3283FAHP0GA5AR236762\n\n\n	119435142017KiaForte7XOR3233KPFK4A7XHE014546\n\n\n	119767152000HondaCivic7EDN0661HGEM1154YL041172\n\n\n	119211161982PontBonneville196ZKL2R69RAX102964\n\n\n	119933172003BuickCentury5EXC6712G4WS52J131130011\n\n\n	119402182002SubaruOutback6BUV3214S3BH665527620599\n\n\n	121041192013Smartfortwo6ZLU798WMEEJ3BA4DK647510T\n\n\n	120764202014ChevroletImpala Limited8ARB0222G1WB5E3XE1164736SAL/T\n\n\n	120384212016FordFiesta7SBP9433FADP4GXXGM157023\n\n\n	117765222007AcuraTLHYX115619UUA66207A041857\n\n\n	119460232007KiaSpectra6DXS462KNAFE122775484100\n\n\n	120892242012ToyotaCamry Hybrid6VFW8894T1BD1FK2CU006323T\n\n\n	118527252001BMW5 Series6TRM776WBADT53471CE90425\n\n\n	119651262003Mercedes-BenzE-Class5DCR762WDBUF65J13A292338\n\n\n	119652272004FordMustang6HEV0011FAFP42X04F126908\n\n\n	119412282000HondaAccordTJP84751HGCG1650YA072986\n\n\n	119023292014DodgeDartENL 00551C3CDFBB9ED866402\n\n\n	115081302013VolkswagenCC8GCA887WVWBN7AN7DE541357\n\n\n	110068312012VolkswagenJetta6RCZ1133VW4A7AJ5CM062183\n\n\n	121125322011BMW3 Series7EWR595WBAPH5C53BA441644T\n\n\n	121522332005JeepGrand Cherokee5NXG8251J4GS48K85C658218T\n\n\n	118952341998FordExpeditionZPA63E1FMRU17L8WLC27344\n\n\n	119439352000ToyotaCamry5RGP965JT2BF22K9Y0241836\n\n\n	122384362001FordExplorer Sport Trac6L692631FMZU67E51UC03214T\n\n\n	117541371998FordF-1505R371271FTDX0768WKA03507\n\n\n	117919382016SubaruWRXN/PJF1VA1E65G9829003\n\n\n	106718392005DodgeDakota88594J31D7HE28NX5S204371SAL\n\n\n	121872401990JeepWagoneer2UCD843 1J4FN78L5LL243822\n\n\n	120014412006ToyotaTacoma02067Z15TETU62N46Z210977\n\n\n	116329422010FordFocus6NYD301 1FAHP3HN8AW296843\n\n\n	120144432007ToyotaCamry Hybrid8EVB759JTNBB46K173026470\n\n\n	118451442008ChevroletUplander8VFN8451GNDV33118D127120\n\n\n	116853A2015YamahaF20726M6529JYARMO6Y5F001149\n\n\n	117679B2017YamahaFZ 0925G0886JYARN53Y1HA000145\n\n\n	109824C1983HondaCM250C13K0776JH2MC0605DK106414\n\n\n	110770D2012YamahaZuma 12520S4178RKRSE48Y3CA080929\n\n\n	118989E2009KawasakiNinja 650R23P8558JKAEXEC129DA35936\n\n\n	103098F2016KawasakiKLR 65023H1315JKAKLEE19GDA87654T\n\n\n	115612G2002YamahaV Star 650 Classic16U6466JYAVM01Y02A006727\n\n\n	104100H1999KawasakiKX 25006AX99JKAKXMLCXXA005335T\n\n\n	118225I2005Harley-DavidsonSoftail Heritage Softail Classic17K32851HD1BWB365Y082266\n\n\n	117871J2016Harley-DavidsonSportster 1200 Custom22X79591HD1CT330GC440746\n\n\n	115991K2005HondaRebel Base17Y6839JH2MC13175K100618\n\n\n	111479L2004YamahaWR450N/PJYACJO4324A003749\n\n\n	89224M2014Yamahamotorcycle24K2402JYAVN08Y7HA000211\n\n\n	101953N2019Harley-DavidsonSportster Iron 120024D20871HD1LP338KC402777\n\n\n	104208OTrailerBlackNONENOVIN#\n\n\n	117650452018ToyotaCorolla4/26/2024NOPLATE5YFBURHE9JP80274876454\n\n\n	119208462005LexusES 33012/20/20225LTE914JTHBA30G855084632243855\n\n\n	116053471996HondaAccord8/8/20237ENW6851HGCD5537TA269582208197\n\n\n	118641481999AcuraTL8/22/20175FHZ69819UUA5649XA051671238474\n\n\n	119006492001FordF-150 SuperCrew12/31/20116L446801FTRW07L21KF98653189960\n\n\n	118872502014VolkswagenPassat8/20/20198FZY3301VWBT7A33EC118743112620\n\n\n	119573512000InfinitiG206/2/20234MAK020JNKCP11AXYT311305153710\n\n\n	114681522011NissanAltima5/10/20246PZP5801N4AL2AP2BN469525183750\n\n\n	115376532008FordEscapeOOSHBC1551FMCU03138KC83642148846\n\n\n	118937542002NissanSentra3/28/20224WTW4063N1CB51D32L653985256557\n\n\n	120380552008AcuraRDX1/8/20257XNZ2055J8TB18278A008882127758\n\n\n	119862562005ToyotaPrius2/8/20237YPZ320JTDKB22U453053899223097\n\n\n	120151572001ToyotaCamry4/2/20244SIL7294T1BF22KX1U121092165623\n\n\n	118666582004ToyotaCorolla3/2/20245GGT7281NXBR32E94Z304561299999SAL\n\n\n	117675592007HondaCivicoos6CNC1031HGFA16807L065841289423\n\n\n	122704JB602012NissanQuest3/8/20246VNR766JN8AE2KP8C9032114183574\n\n\n	122705JB612002ToyotaRav46/26/20248MFF647JTEGH20V420067360188574\n\n\n\n\n\n\n\n\n\n\nTERMS AND CONDITIONS\n\nBuyers fees: Dealers & Dismantlers $35.00\nGeneral Public $65.00\n$200.00 cash deposit required to bid\nAll vehicles must be paid for in full CASH ONLY at the conclusion of the auction\nAll vehicles must be removed by Friday following the auction\nLien sale vehicles sold to the general public are sold as is with all vaults and defects\, you are required to pay all DMV back registration and obtain a smog certificate before receiving your title from the DMV\, sales tax for your purchase will be paid directly to the DMV upon submission of the lien sale packet you will receive at the conclusion of the auction. Out of state buyers\, check with your local DMV to be sure that they will accept California lien sale documents for registration in your state.\nFor more info call direct 760-722-6686
URL:https://jbauctioneers.net/event/oceanside-auto-auction-20240305/
LOCATION:S&R Towing\, 1060 Airport Rd.\, Oceanside\, CA\, 92058\, United States
END:VEVENT
BEGIN:VEVENT
DTSTART;TZID=America/Los_Angeles:20240306T123500
DTEND;TZID=America/Los_Angeles:20240306T123500
DTSTAMP:20260422T203018
CREATED:20240202T184825Z
LAST-MODIFIED:20240301T163446Z
UID:20347-1709728500-1709728500@jbauctioneers.net
SUMMARY:OTAY MESA - AUTO AUCTION
DESCRIPTION:Presented By: PUBLIC AUTO AUCTIONUp to 70 Lien Sale VehiclesWednesday March 6th  @ 12:35pm(Preview 12:00pm) Auctions held WednesdaysOtay Valley Rd & Heritage Rd\, Chula Vista(Look for signs to our facility from this location\, actual site is up the hill on 738 Heritage Rd.)Phone: 619-694-7809For a map and directions\, click here Here are some photos of vehicles available at this week’s Western Towing Auto Auction.Click on any of the images below to see the larger picture.\n\n\n\n\nno images were found \n\n\n\n\nTo download a copy of the list in Adobe pdf format\, Click here.\n\n\n\n\n\n\n	NOCONTROLYEAR/MAKE MODELREF#LS/T\n\n\n\n\n	124-016514 KIARIO348457LS\n\n\n	224-037705 PONTIACG6350832LS\n\n\n	324-050408 CHEVROLETCOBALT35210LS\n\n\n	423-302505 TOYOTACAMRY338242LS\n\n\n	524-034705 HONDACIVIC350453LS\n\n\n	624-039507 VOLVOXC90350745LS\n\n\n	724-037401 TOYOTACOROLLA350577LS\n\n\n	824-017514 TOYOTACAMRY348466LS\n\n\n	924-013304 FORDFOCUS348030LS\n\n\n	1024-049005 CHYRSLERPACIFICA352115LS\n\n\n	1124-020991 CHEVROLETCAMARO348914LS\n\n\n	1224-006204 NISSAN SENTRA346914LS\n\n\n	1324-043099 TOYOTACOROLLA351297LS\n\n\n	1424-034991 OLDSMOBILESILHOUETTE350667LS\n\n\n	1524-038206 BMW325i350548LS\n\n\n	1624-034305 CHEVROLETMALIBU350464LS\n\n\n	1724-048598 BUICKLESABRE352227LS\n\n\n	1824-001704 MITSUBISHIENDEAVOR346345LS\n\n\n	1924-041397 MERCEDESE-CLASS351434LS\n\n\n	2024-031006 DODGEMAGNUM350167LS\n\n\n	2124-027001 LEXUSES300349509LS\n\n\n	2224-046406 KIASPORTAGE351785LS\n\n\n	2324-018506 LEXUSES330348685LS\n\n\n	2424-041699 LEXUSGS300351191LS\n\n\n	2524-041704 LEXUSGS300351286LS\n\n\n	2624-022500 CHRYSLERCONCORDE349332LS\n\n\n	2724-046300 VOLKSWAGENJETTA351770LS\n\n\n	2824-020707 FORDRANGER348903LS\n\n\n	2924-027314 NISSANVERSA349466LS\n\n\n	3024-003309 FORDEDGE346453LS\n\n\n	3124-026614 VOLKSWAGENJETTA349560LS\n\n\n	3224-031810 TOYOTAPRIUS350187LS\n\n\n	3324-053208 AUDIA4352463LS\n\n\n	3424-011913 FORDFOCUS347522LS\n\n\n	3524-010812 FORD FOCUS347379LS\n\n\n	3624-033899 BUICKREGAL350549LS\n\n\n	3724-003183 INFINITIFX35346444LS\n\n\n	3824-046502 BUICKLESABRE351755LS\n\n\n	3924-008212 NISSANSENTRA347265LS\n\n\n	4024-001298 VOLKSWAGENGOLF346398LS\n\n\n	4124-004804 CHEVROLETAVALANCHE346780LS\n\n\n	4224-040904 CHEVROLETMALIBU351216LS\n\n\n	4323-338407 FORDMUSTANG342746LS\n\n\n	4424-042107 SATURNOUTLOOK351181LS\n\n\n	4524-018903 FORDTAURUS348579LS\n\n\n	4624-012600 TOYOTASIENNA347906LS\n\n\n	4724-042901JEEPGRD CHEROKEE351362LS\n\n\n	4823-344385 CHEVROLETCAVALIER343399LS\n\n\n	4924-042202 DODGEDAKOTA351290LS\n\n\n	5024-031502 LINCOLNNAVIGATOR350196LS\n\n\n\n\n\n\n\nTERMS AND CONDITIONS\n\nCash Only – All Sales are Final\n$200.00 refundable cash deposit to bid\nRefunds are available anytime during auction\nAll cars must be paid for and picked up by 4pm on Thursday ( no exceptions )\nAdditional deposits are required on vehicle’s over $1000.00\nLien sale vehicles sold to the general public are sold as is with all vaults and defects\, you are required to pay all DMV back registration and obtain a smog certificate before receiving your title from the DMV\, sales tax for your purchase will be paid directly to the DMV upon submission of the lien sale packet you will receive at the conclusion of the auction. Out of state buyers\, check with your local DMV to be sure that they will accept California lien sale documents for registration in your state.
URL:https://jbauctioneers.net/event/otay-mesa-auto-auction-20240306/
LOCATION:Western Towing\, 738 Heritage Rd.\, San Diego\, CA\, 92154\, United States
END:VEVENT
BEGIN:VEVENT
DTSTART;TZID=America/Los_Angeles:20240313T123500
DTEND;TZID=America/Los_Angeles:20240313T123500
DTSTAMP:20260422T203018
CREATED:20240302T152201Z
LAST-MODIFIED:20240313T165544Z
UID:20827-1710333300-1710333300@jbauctioneers.net
SUMMARY:OTAY MESA - AUTO AUCTION
DESCRIPTION:Presented By: PUBLIC AUTO AUCTIONUp to 70 Lien Sale VehiclesWednesday March 13th  @ 12:35pm(Preview 12:00pm) Auctions held WednesdaysOtay Valley Rd & Heritage Rd\, Chula Vista(Look for signs to our facility from this location\, actual site is up the hill on 738 Heritage Rd.)Phone: 619-694-7809For a map and directions\, click here Here are some photos of vehicles available at this week’s Western Towing Auto Auction.Click on any of the images below to see the larger picture.\n\n\n\n\nno images were found \n\n\n\n\nTo download a copy of the list in Adobe pdf format\, Click here.\n\n\n\n\n\n\n	NOCONTROLYEAR/MAKE MODELREF#LS/T\n\n\n\n\n	124-013912 NISSANVERSA347994LS\n\n\n	223-364211 VOLKSWAGENJETTA345866LS\n\n\n	324-042411 TOYOTAPRIUS351424LS\n\n\n	424-028109 CHEVROLETMALIBU349802LS\n\n\n	524-034597 BUICKLESABRE350328LS\n\n\n	624-050395 NISSANPATHFINDER351995LS\n\n\n	724-028203 HYUNDAIELANTRA349805LS\n\n\n	824-049207 NISSANXTERRA352233LS\n\n\n	924-050904 TOYOTASOLARA352242LS\n\n\n	1024-042604 JEEPLIBERTY351553LS\n\n\n	1124-022811 NISSANALTIMA349383LS\n\n\n	1224-011204 HONDAACCORD347509LS\n\n\n	1324-048806 HONDAACCORD351970LS\n\n\n	1424-046002 HONDAACCORD351745LS\n\n\n	1524-050804 GMCENVOY352240LS\n\n\n	1623-362110 AUDIA3345598LS\n\n\n	1724-005697 MERCEDESSL-CLASS346794LS\n\n\n	1824-042596 CHEVROLETS10351427LS\n\n\n	1924-042004 ACURARSX351175LS\n\n\n	2024-038508 TOYOTAPRIUS350809LS\n\n\n	2124-047501 MERCEDESCLK430351881LS\n\n\n	2224-031602 MITSUBISHILANCER350194LS\n\n\n	2324-043506 CHEVROLETTRAILBLAZER351398LS\n\n\n	2424-002603 VOLKSWAGENBEETLE346512LS\n\n\n	2524-049601 BMW325i352125LS\n\n\n	2624-028406 LEXUSRSX349683LS\n\n\n	2724-050604 HONDACIVIC352170LS\n\n\n	2824-041400 TOYOTACAMRY351494LS\n\n\n	2923-354804 LEXUSRX344624LS\n\n\n	3024-049194 FORDRANGER352176LS\n\n\n	3124-031914 NISSANVERSA350230LS\n\n\n	3224-040804 LEXUSRX351614LS\n\n\n	3324-020311 KIAOPTIMA348910LS\n\n\n	3424-029403 FORDEXPEDITION349742LS\n\n\n	3524-047606 TOYOTACAMRY351882LS\n\n\n	3624-048297 TOYOTACAMRY352214LS\n\n\n	3724-050594 MERCURYVILLAGER352133LS\n\n\n	3824-004412 BMW750li346893LS\n\n\n	3924-040698 TOYOTATACOMA351273LS\n\n\n	4024-029507 LEXUSIS349791LS\n\n\n	4124-023398 FORDEXPLORER349229LS\n\n\n	4224-039607 HONDACIVIC351092LS\n\n\n	4324-049905 NISSANSENTRA351983LS\n\n\n	4424-027203 CHEVROLETTAHOE349545LS\n\n\n	4523-110601 FORDE350316506LS\n\n\n	4624-026502 MERCEDESS-CLASS349452LS\n\n\n	4724-001692 JEEPCHEROKEE346320LS\n\n\n	4824-069607 HONDAACCORD354355LS\n\n\n	4924-036917 INFINITIQ50350719LS\n\n\n	5024-046195 GEOPRISM351766LS\n\n\n\n\n\n\n\nTERMS AND CONDITIONS\n\nCash Only – All Sales are Final\n$200.00 refundable cash deposit to bid\nRefunds are available anytime during auction\nAll cars must be paid for and picked up by 4pm on Thursday ( no exceptions )\nAdditional deposits are required on vehicle’s over $1000.00\nLien sale vehicles sold to the general public are sold as is with all vaults and defects\, you are required to pay all DMV back registration and obtain a smog certificate before receiving your title from the DMV\, sales tax for your purchase will be paid directly to the DMV upon submission of the lien sale packet you will receive at the conclusion of the auction. Out of state buyers\, check with your local DMV to be sure that they will accept California lien sale documents for registration in your state.
URL:https://jbauctioneers.net/event/otay-mesa-auto-auction-20240313/
LOCATION:Western Towing\, 738 Heritage Rd.\, San Diego\, CA\, 92154\, United States
END:VEVENT
BEGIN:VEVENT
DTSTART;TZID=America/Los_Angeles:20240319T103000
DTEND;TZID=America/Los_Angeles:20240319T143000
DTSTAMP:20260422T203018
CREATED:20240302T152356Z
LAST-MODIFIED:20240316T170633Z
UID:20879-1710844200-1710858600@jbauctioneers.net
SUMMARY:OCEANSIDE - AUTO AUCTION
DESCRIPTION:Presented By:Auctions the 1st and 3rd Tuesdays of each monthPUBLIC AUTO AUCTIONUp to 80 Selected Vehicles\nTuesday March 19th @ 10:30am1060 Airport Rd. (in the Oceanside location towing yard)Oceanside 92058Phone. 760-722-6686For a map and directions\, click here\nHere are some photos of vehicles available at this week’s S&R Towing auction.Vehicles posted are subject to change without notice.Click on any of the images below to see the larger picture.*** RUNNERS ***\n\n\n\n\nno images were found \n\n\n*** NON-RUNNERS ***\n\n\n\nno images were found \n\n\n\nTo download a copy of the list in Adobe pdf format\, Click here.\n\n\n\n\n\n\n\n	Call #Auction #YearMakeModelExp Date PlateVINOdomT/S\n\n\n\n\n	11952412007HondaRidgeline62263U12HJYK16337H501020\n\n\n	12079421995VolkGTI7NCS4993VWHE81H3SM096369\n\n\n	11678831999HondaPreludeNO PLATEJHMBB6240XC004935\n\n\n	11900741997HondaAccord8NON2601HGCD565XVA118688\n\n\n	11975852010NissanRogue8VWY477JN8AS5MT4AW504635\n\n\n	12040861993HondaAccord6SNY7241HGCB7652PA165279\n\n\n	11710771996NissanMaxima3NMX281JN1CA21DXTT106386\n\n\n	11984282008DodgeAvenger5ZMB1601B3LC56RX8N603691\n\n\n	11868492008NissanVersa6DOM8903N1BC11E28L463453\n\n\n	117460102000HondaCivic8VLE5352HGEJ6672YH599700\n\n\n	118875112017HyundaiELANTRA7TCU915KMHD74LF5HU087818\n\n\n	120148122006HyundaiSANTA FE5VPE242KM8SC13D16U099560\n\n\n	119464131998ToyotaTacoma5R337094TAVL52N1WZ023533\n\n\n	119904141995Volvo940VDM229YV1JS8611S1195756\n\n\n	120455151988DodgeRam 503S93555JB7FL24D5JP089437\n\n\n	121132162007Volk Rabbit9DRU541WVWDR91KX7W044476\n\n\n	120548172006InfinitiFX359FVG008JNRAS08U46X100883\n\n\n	120743181992HondaAccord5NVJ1661HGCB7272NA002829\n\n\n	119977192009NissanMurano9FQY468JN8AZ18W69W128248\n\n\n	119743202010Chev TraverseMSZ6261GNLRGED7AS118373\n\n\n	119934212012JeepCompass9EYP4191C4NJCBB0CD579071\n\n\n	121104222014NissanAltima9AHR4311N4AL3AP4EN209167\n\n\n	117750232000FordExplorerNONE1FMZU63E7YZC61702\n\n\n	121115242012JeepLiberty7EKT5611C4PJMAK7CW161725\n\n\n	120695252005GMCYukon5NUB3301GKEC13TX5J247234\n\n\n	120744261995ChevSuburban7AAL9991GNFK16K6SJ458259\n\n\n	123263272007GMCYukon7WZR9581GKFC13J17J400153\n\n\n	114153281992ChevS-10DU0081GCCS14A6N8200101\n\n\n	116759292006ScionxA5TPD780JTKKT624960157577\n\n\n	111585302018Land Range Rover Sport27299X9SALWV2SV8JA406421\n\n\n	117108312001LexusIS 3007YZH303JTHBD182X10027814SAL\n\n\n	115119322014BMW3 Series7AXW484WBA3D3C57EK153171\n\n\n	114483332012FordFusion6UEF8093FAHP0HA2CR151282\n\n\n	116648342009NissanAltima Hybrid6HRS8711N4CL21E29C184059\n\n\n	119015352007ChevSilverado 1500 ClassicNOPLATE2GCEC13V671149568\n\n\n	121298362008AcuraTL9HDT50219UUA66258A018088\n\n\n	116356372003HondaAccord8UNH9751HGCM66583A028197SAL\n\n\n	115635382008BMW3 Series8FXY780WBAVA33568KX89506\n\n\n	120745392012BMW3 Series6XSJ611WBA3A5C51CF349634\n\n\n	119479402012ToyotaPrius8CQS335JTDKN3DU8C5490980SAL\n\n\n	115683412016SciontC7VVH187JTKJF5C7XGJ014364\n\n\n	118509421996JeepGrand CherokeeW2A1AR1J4GZ58Y5TC299834\n\n\n	117225432014ChevCruze7CJX7611G1PA5SG4E7146878\n\n\n	120437441997FordF-1507S199881FTDX17W7VKB82661\n\n\n	120943452001DodgeRam 150090168P23B7HC13Z11G180077\n\n\n	114652462004BMW3 Series5KLF683WBABW33464PL32574\n\n\n	116966472007BMW3 Series7WPY061WBAVC535X7FZ72839SAL\n\n\n	119582482010VolkJetta7DLU0303VWRJ7AJ9AM085372\n\n\n	117369492015VolkJetta8TPF6823VWD17AJ4FM352578\n\n\n	120156501993Chevc/k 1500OOSBH59WJ1GCDC14KXPZ214543149124\n\n\n	121065512006MerzCLK22-Aug7EUV173WDBTJ56J36F197998130601T\n\n\n	120375522010FordEdge24-Apr6KEB5482FMDK3KC0ABB21126198564T\n\n\n	120754532002NissanQuest22-Aug4YXM6594N2ZN16T22D818869165499\n\n\n	119722541989ToyotaCamry20-Oct2RER173JT2SV24E7K3396479186374\n\n\n	117000552011HondaCivic22-Jun6ULP17219XFA4F52BE000805152750\n\n\n	119873562005HondaPilot24-Jun5PBB8282HKYF187X5H560725173303\n\n\n	120189571993Merz400-Class24-Jun5VBS007WDBGA43E2PA103854269175T\n\n\n	118965582011ChevImpala24-Feb7WLX2692G1WG5EK6B1301952213294\n\n\n	116883591998FordF-15024-Jun46740Z11FTZX18W3WKB86504204248\n\n\n	120485602008MazdaMX-5 Miata20-NovNoneJM1NC26F380143508105170\n\n\n	120254612001NissanXterra22-Sep5AFT6255N1ED28Y81C500046220490\n\n\n	120963622000NissanXterra23-Sep8ESP8095N1ED28TXYC544645244939\n\n\n	120609632004SubaruForester24-May9BME715JF1SG63614H759471275191\n\n\n	118641641999AcuraTL17-Aug5FHZ69819UUA5649XA051671238474\n\n\n\n\n\n\n\n\n\n\nTERMS AND CONDITIONS\n\nBuyers fees: Dealers & Dismantlers $35.00\nGeneral Public $65.00\n$200.00 cash deposit required to bid\nAll vehicles must be paid for in full CASH ONLY at the conclusion of the auction\nAll vehicles must be removed by Friday following the auction\nLien sale vehicles sold to the general public are sold as is with all vaults and defects\, you are required to pay all DMV back registration and obtain a smog certificate before receiving your title from the DMV\, sales tax for your purchase will be paid directly to the DMV upon submission of the lien sale packet you will receive at the conclusion of the auction. Out of state buyers\, check with your local DMV to be sure that they will accept California lien sale documents for registration in your state.\nFor more info call direct 760-722-6686
URL:https://jbauctioneers.net/event/oceanside-auto-auction-20240319/
LOCATION:S&R Towing\, 1060 Airport Rd.\, Oceanside\, CA\, 92058\, United States
END:VEVENT
BEGIN:VEVENT
DTSTART;TZID=America/Los_Angeles:20240320T123500
DTEND;TZID=America/Los_Angeles:20240320T123500
DTSTAMP:20260422T203018
CREATED:20240302T152522Z
LAST-MODIFIED:20240302T152522Z
UID:20828-1710938100-1710938100@jbauctioneers.net
SUMMARY:OTAY MESA - AUTO AUCTION
DESCRIPTION:Presented By:PUBLIC AUTO AUCTIONUp to 70 Lien Sale VehiclesWednesday March 20th @ 12:35pm(Preview 12:00pm) Auctions held Wednesdays*** NEW LOCATION ***Otay Valley Rd & Heritage Rd\, Chula Vista(Look for signs to the new facility from this location\, actual site is up the hill on Heritage Rd.)Phone: 619-694-7809For a map and directions\, click here *** PHOTOS AND LIST FOR THE CURRENT AUCTION WILL BE POSTED SOON. PLEASE CHECK BACK. ***\n\n\n\nTERMS AND CONDITIONS\n\nCash Only – All Sales are Final\n$200.00 refundable cash deposit to bid\nRefunds are available anytime during auction\nAll cars must be paid for and picked up by 4pm on Thursday ( no exceptions )\nAdditional deposits are required on vehicle’s over $1000.00
URL:https://jbauctioneers.net/event/otay-mesa-auto-auction-20240320/
LOCATION:Western Towing\, 738 Heritage Rd.\, San Diego\, CA\, 92154\, United States
END:VEVENT
BEGIN:VEVENT
DTSTART;TZID=America/Los_Angeles:20240327T123500
DTEND;TZID=America/Los_Angeles:20240327T123500
DTSTAMP:20260422T203018
CREATED:20240302T152555Z
LAST-MODIFIED:20240322T155847Z
UID:20829-1711542900-1711542900@jbauctioneers.net
SUMMARY:OTAY MESA - AUTO AUCTION
DESCRIPTION:Presented By: PUBLIC AUTO AUCTIONUp to 70 Lien Sale VehiclesWednesday March 27th  @ 12:35pm(Preview 12:00pm) Auctions held WednesdaysOtay Valley Rd & Heritage Rd\, Chula Vista(Look for signs to our facility from this location\, actual site is up the hill on 738 Heritage Rd.)Phone: 619-694-7809For a map and directions\, click here Here are some photos of vehicles available at this week’s Western Towing Auto Auction.Click on any of the images below to see the larger picture.\n\n\n\n\nno images were found \n\n\n\n\nTo download a copy of the list in Adobe pdf format\, Click here.\n\n\n\n\n\n\n	NOCONTROLYEAR/MAKE MODELREF#LS/T\n\n\n\n\n	124-047807 HONDAACCORD352008LS\n\n\n	223-261313 HYUNDAISONATA333817TITLE\n\n\n	324-050408 CHEVROLETCOBALT352101LS\n\n\n	424-057902 TOYOTACAMRY352928LS\n\n\n	5N/A06 HONDAACCORD9ATITLE\n\n\n	624-071010 KIAFORTE354465LS\n\n\n	724-047204 NISSANMURANO351888LS\n\n\n	824-048490 FORDRANGER352309LS\n\n\n	924-031709 MAZDA6350179LS\n\n\n	1024-057492 TOYOTAPASEO353208LS\n\n\n	1124-061602 MAZDATRIBUTE353535LS\n\n\n	1224-057805 SCIONTC352890LS\n\n\n	1324-053803 HYUNDAITIBURON352534LS\n\n\n	1424-056907 FORDEDGE352905LS\n\n\n	1524-028989 LINCOLNTOWNCAR349924LS\n\n\n	1623-349207 BMW525i344147LS\n\n\n	1724-010202 CHEVROLETTAHOE347402LS\n\n\n	1824-060502 AUDITT353408LS\n\n\n	1924-050108 KIAOPTIMA351972LS\n\n\n	2024-019405 BMW325i348756LS\n\n\n	2124-042804 FORDF150351347LS\n\n\n	2224-070805 HONDAACCORD354368LS\n\n\n	2324-061713 MAZDA3353513LS\n\n\n	2424-061101 FORDFOCUS353413LS\n\n\n	2524-064011 MAZDACX9353809LS\n\n\n	2624-022084 TOYOTACELICA349210LS\n\n\n	2724-055810 MAZDA3353026LS\n\n\n	28N/A08 HONDAFITN/ATITLE\n\n\n	2924-060406 NISSANMAXIMA353456LS\n\n\n	3023-325015 NISSANVERSA340964LS\n\n\n	3122-310311 JEEPLIBERTY293876LS\n\n\n	3223-200313 CHEVROLETSONIC327392TITLE\n\n\n	3324-053208 AUDIA4352463LS\n\n\n	3423-347193 VOLKSWAGENEUROVAN343759LS\n\n\n	3524-043111 FORDESCAPE351358LS\n\n\n	3624-060602 JEEPGRD CHEROKEE353435LS\n\n\n	3723-348407 HONDACIVIC344140LS\n\n\n	3824-0438A11 VOLKSWAGENTIGUAN351435LS\n\n\n	3924-004703 MITSUBISHIOUTLANDER346579LS\n\n\n	4024-029507 LEXUSIS250349791LS\n\n\n	4124-023708 SCIONXB349031LS\n\n\n	4224-040904 CHEVROLETMALIBU351216LS\n\n\n	4324-059609 BMW328i353391LS\n\n\n	4424-042107 SATURNOUTLOOK351181LS\n\n\n	4524-065905 CADILLACSTS353971LS\n\n\n	4624-065700 DODGEDURANGO353959LS\n\n\n	4724-061406 MERCEDESE-CLASS353502LS\n\n\n	4824-041109 VOLKSWAGENTIGUAN351288LS\n\n\n	4924-040078 FORDECONOLINE351025LS\n\n\n	5023-339002 VOLVOC70342483LS\n\n\n\n\n\n\n\nTERMS AND CONDITIONS\n\nCash Only – All Sales are Final\n$200.00 refundable cash deposit to bid\nRefunds are available anytime during auction\nAll cars must be paid for and picked up by 4pm on Thursday ( no exceptions )\nAdditional deposits are required on vehicle’s over $1000.00\nLien sale vehicles sold to the general public are sold as is with all vaults and defects\, you are required to pay all DMV back registration and obtain a smog certificate before receiving your title from the DMV\, sales tax for your purchase will be paid directly to the DMV upon submission of the lien sale packet you will receive at the conclusion of the auction. Out of state buyers\, check with your local DMV to be sure that they will accept California lien sale documents for registration in your state.
URL:https://jbauctioneers.net/event/otay-mesa-auto-auction-20240327/
LOCATION:Western Towing\, 738 Heritage Rd.\, San Diego\, CA\, 92154\, United States
END:VEVENT
END:VCALENDAR