BEGIN:VCALENDAR
VERSION:2.0
PRODID:-//Joe Bradley Auctioneers - ECPv6.15.20//NONSGML v1.0//EN
CALSCALE:GREGORIAN
METHOD:PUBLISH
X-WR-CALNAME:Joe Bradley Auctioneers
X-ORIGINAL-URL:https://jbauctioneers.net
X-WR-CALDESC:Events for Joe Bradley Auctioneers
REFRESH-INTERVAL;VALUE=DURATION:PT1H
X-Robots-Tag:noindex
X-PUBLISHED-TTL:PT1H
BEGIN:VTIMEZONE
TZID:America/Los_Angeles
BEGIN:DAYLIGHT
TZOFFSETFROM:-0800
TZOFFSETTO:-0700
TZNAME:PDT
DTSTART:20230312T100000
END:DAYLIGHT
BEGIN:STANDARD
TZOFFSETFROM:-0700
TZOFFSETTO:-0800
TZNAME:PST
DTSTART:20231105T090000
END:STANDARD
BEGIN:DAYLIGHT
TZOFFSETFROM:-0800
TZOFFSETTO:-0700
TZNAME:PDT
DTSTART:20240310T100000
END:DAYLIGHT
BEGIN:STANDARD
TZOFFSETFROM:-0700
TZOFFSETTO:-0800
TZNAME:PST
DTSTART:20241103T090000
END:STANDARD
BEGIN:DAYLIGHT
TZOFFSETFROM:-0800
TZOFFSETTO:-0700
TZNAME:PDT
DTSTART:20250309T100000
END:DAYLIGHT
BEGIN:STANDARD
TZOFFSETFROM:-0700
TZOFFSETTO:-0800
TZNAME:PST
DTSTART:20251102T090000
END:STANDARD
END:VTIMEZONE
BEGIN:VEVENT
DTSTART;TZID=America/Los_Angeles:20240402T103000
DTEND;TZID=America/Los_Angeles:20240402T143000
DTSTAMP:20260422T184919
CREATED:20240302T152438Z
LAST-MODIFIED:20240330T145555Z
UID:20887-1712053800-1712068200@jbauctioneers.net
SUMMARY:OCEANSIDE - AUTO AUCTION
DESCRIPTION:Presented By:Auctions the 1st and 3rd Tuesdays of each monthPUBLIC AUTO AUCTIONUp to 80 Selected Vehicles\nTuesday April 2nd @ 10:30am1060 Airport Rd. (in the Oceanside location towing yard)Oceanside 92058Phone. 760-722-6686For a map and directions\, click here\nHere are some photos of vehicles available at this week’s S&R Towing auction.Vehicles posted are subject to change without notice.Click on any of the images below to see the larger picture.*** RUNNERS ***\n\n\n\n\nno images were found \n\n\n*** NON-RUNNERS ***\n\n\n\nno images were found \n\n\n\nTo download a copy of the list in Adobe pdf format\, Click here.\n\n\n\n\n\n\n\n	Call #LOT #YearMakeModelExp DatePlateVINOdomT/S\n\n\n\n\n	12147212006NissanPathfinder6HYY9365N1AR18WX6C675057\n\n\n	12154822005ToyotaTundra7Y826095TBRT38165S469720\n\n\n	12144432001ToyotaTacoma6M795695TESM92N81Z771947\n\n\n	124249PT42001FordExplorer Sport Trac6R326311FMZU67E11UC78346\n\n\n	12221852009KiaSpectra6MPB643KNAFE222195623890\n\n\n	124248PT62006MercuryMilan6SFB5013MEFM08Z06R653887\n\n\n	11745172013HyundaiELANTRA7PYK6675NPDH4AE1DH294805\n\n\n	12152082003ToyotaCorolla5BPB8491NXBR32E23Z161130T\n\n\n	12045292017InfinitiQ508ULM704JN1EV7AP4HM742551\n\n\n	122130102016HyundaiELANTRA GTHHD3821KMHD35LH4GU277224\n\n\n	120944112010HondaCivic6NAW2592HGFG1B84AH506895\n\n\n	123781JB121999ToyotaCamry8HQS788JT2BF22K7X0147338T/SAL\n\n\n	121791132004VolvoS605KLD687YV1RS59V242414415\n\n\n	115843142003FordExpedition98842S21FMFU15L53LB24867SAL\n\n\n	123941151999HondaAccord6KXF1771HGCG6650XA066004T\n\n\n	122221162006JeepGrand Cherokee5TSR1381J4GS48K76C201921\n\n\n	122948172010FordFusion6NSJ1293FAHP0HA2AR417106T\n\n\n	122347182004ScionxB7RHY645JTLKT324440133100SAL\n\n\n	119024192007DodgeChargerPPX78322B3KA43G47H890760\n\n\n	119465202013HyundaiSONATA9GOS1075NPEC4AB8DH594186\n\n\n	122380212003ToyotaMatrix9FQY9052T1KR32E23C033357SAL\n\n\n	121656222014MitsubishiLancer7TMT259JA32U2FU7EU019940T\n\n\n	122222232017SubaruBRZ8VIV174JF1ZCAC17H9600701\n\n\n	122224242002GMCSierra 15006Y931782GTEC19T221163417\n\n\n	122219252014LexusGS 3507FTK057JTHBE1BL1E5040216SAL\n\n\n	122368262000NissanXterra4HSR6515N1ED28T8YC500224\n\n\n	121760272011VolvoS80NPYV1940AS1B1146846\n\n\n	121810282012ToyotaPrius c6WCX512JTDKDTB3XC1511039\n\n\n	121806292012NissanAltima8UWT3981N4AL2AP0CN519369\n\n\n	119934302012JeepCompass9EYP4191C4NJCBB0CD579071\n\n\n	119743312010ChevroletTraverseMSZ6261GNLRGED7AS118373\n\n\n	117985321993Nissan300ZXJN1RZ24HXPX537052\n\n\n	122387331995OldsmobileNinety-Eight8RLM8091G3CX52K8S4313474\n\n\n	120870341998VolvoS704CDG983YV1LS5673W1538505\n\n\n	121515352013ToyotaHighlanderDP111CY5TDYK3EH6DS116433\n\n\n	112597362004HondaCivic5JUC7452HGES25894H618897\n\n\n	108438372012VolkswagenJetta8XDC3723VW4A7AJ3CM346377\n\n\n	92103382016ChevroletCruzeNP1G1BE5SM2G7315948\n\n\n	88013392018ChevroletMalibu8CQE3261G1ZD5ST1JF197154\n\n\n	118104402013ChevroletSilverado 150043831X21GCRCPEXXDZ192073\n\n\n	123485411999Chevroletc/k 150034332F3 1GCEC19R1XR126474T\n\n\n	115873422000CadillcaEscalade8DAV111 1GYEK13R1YR160289T\n\n\n	83589432017NissanRogue SportNov-218SVS420JN1BJ1CP6HW006613117087SAL\n\n\n	120038442013FordEscapeApr-247AKH4771FMCU0H96DUD56189191700\n\n\n	120888452006InfinitiQX56Nov-235XCR1255N3AA08A26N807942192896\n\n\n	119989462012ChevroletMalibuFeb-249EDT8011G1ZD5E02CF280712155941T/SAL\n\n\n	117195471994FordMustangJan-213GTT2891FALP4040RF128144158462\n\n\n	89217482016Hyundai SonataApr-207RYP0515NPE24AF6GH40175441772\n\n\n	119025492015JeepPatriotJun-238JAV9561C4NJPBA8FD386265130826\n\n\n	120877502011ChevroletAveoMay-236SDV420KL1TD5DE3BB232045102630\n\n\n	121732511999Toyota4RunnerMay-234EQJ095JT3HM84R1X0033750444003\n\n\n	117239522003InfinitiFX35Oct-235RNM082JNRAS08U33X101700225439\n\n\n	120428532005FordEscapeApr-225LEM7431FMCU94185KA44599190223\n\n\n	122165542004ChevroletSilverado 1500Jun-247L832061GCEC19X84Z326018151661T\n\n\n	117233552011MazdaMazda3Dec-236PAT681JM1BL1UG4B1383063145714\n\n\n	118287562009SubaruTribecaMar-227JIM4884S4WX97D194407393177439\n\n\n	119461572003FordF-350 Super DutyMar-23NOPLATE1FTSW31L23ED87126227426\n\n\n	124181PT582003ChevroletVentureSep-227CYN1031GNDU03E63D257648169511\n\n\n	120896591999ChevroletExpress VanNov-23B68985B1GBJG31RXX1111811148726\n\n\n\n\n\n\n\n\n\n\nTERMS AND CONDITIONS\n\nBuyers fees: Dealers & Dismantlers $35.00\nGeneral Public $65.00\n$200.00 cash deposit required to bid\nAll vehicles must be paid for in full CASH ONLY at the conclusion of the auction\nAll vehicles must be removed by Friday following the auction\nLien sale vehicles sold to the general public are sold as is with all vaults and defects\, you are required to pay all DMV back registration and obtain a smog certificate before receiving your title from the DMV\, sales tax for your purchase will be paid directly to the DMV upon submission of the lien sale packet you will receive at the conclusion of the auction. Out of state buyers\, check with your local DMV to be sure that they will accept California lien sale documents for registration in your state.\nFor more info call direct 760-722-6686
URL:https://jbauctioneers.net/event/oceanside-auto-auction-20240402/
LOCATION:S&R Towing\, 1060 Airport Rd.\, Oceanside\, CA\, 92058\, United States
END:VEVENT
BEGIN:VEVENT
DTSTART;TZID=America/Los_Angeles:20240403T123500
DTEND;TZID=America/Los_Angeles:20240403T123500
DTSTAMP:20260422T184920
CREATED:20240302T152626Z
LAST-MODIFIED:20240328T215534Z
UID:20830-1712147700-1712147700@jbauctioneers.net
SUMMARY:OTAY MESA - AUTO AUCTION
DESCRIPTION:Presented By: PUBLIC AUTO AUCTIONUp to 70 Lien Sale VehiclesWednesday April 3rd  @ 12:35pm(Preview 12:00pm) Auctions held WednesdaysOtay Valley Rd & Heritage Rd\, Chula Vista(Look for signs to our facility from this location\, actual site is up the hill on 738 Heritage Rd.)Phone: 619-694-7809For a map and directions\, click here Here are some photos of vehicles available at this week’s Western Towing Auto Auction.Click on any of the images below to see the larger picture.\n\n\n\n\nno images were found \n\n\n\n\nTo download a copy of the list in Adobe pdf format\, Click here.\n\n\n\n\n\n\n	NOCONTROLYEAR/MAKE MODELREF#LS/T\n\n\n\n\n	124-070307 VOLKSWAGENJETTA354284LS\n\n\n	224-057503 HONDACIVIC353209LS\n\n\n	324-059805 CHRYSLERPT CRUISER353403LS\n\n\n	424-060203 VOLVOS40353431LS\n\n\n	524-034404 TOYOTAAVALON350310LS\n\n\n	624-041005 NISSANXTERRA351287LS\n\n\n	723-291514 VOLKSWAGENJETTA337010LS\n\n\n	823-297612 HYUNDAIACCENT337841LS\n\n\n	924-057701 HONDACIVIC352760LS\n\n\n	1024-016293 DODGECARAVAN348253LS\n\n\n	1124-067802 HONDACIVIC354180LS\n\n\n	1224-071400 CHEVROLETCAVALIER354395LS\n\n\n	1323-335490 FORTHUNDERBIRD342343LS\n\n\n	1424-079306 SCIONXB355310LS\n\n\n	1524-065500 BMW528i353963LS\n\n\n	1624-009901 MITSUBISHIMONTERO347528LS\n\n\n	1723-291208 MERCEDESC-CLASS337054LS\n\n\n	1824-056506 BMW325i353171LS\n\n\n	1924-054497 FORDF150352569LS\n\n\n	2024-041500 HONDAACCORD351512LS\n\n\n	2124-065409 CHEVROLETIMPALA354019LS\n\n\n	2224-0216A14 MERCEDESGLK350348897LS\n\n\n	2324-028012 KIASOUL349771LS\n\n\n	2424-049504 HYUNDAISANTA FE352109LS\n\n\n	2524-055705 VOLKSWAGENBEETLE353025LS\n\n\n	2624-052705 CHEVROLETAVEO352106LS\n\n\n	2724-034110 VOLKSWAGENPASSAT350450LS\n\n\n	2824-047700 FORDRANGER351978LS\n\n\n	2924-037102 CHRYSLERVOYAGER350696LS\n\n\n	3024-010110 DODGENITRO347654LS\n\n\n	3124-059907 NISSANSENTRA353422LS\n\n\n	3224-061212 NISSANSENTRA353419LS\n\n\n	3324-064510 JEEPCOMMANDER353818LS\n\n\n	3424-071306 CHEVROLETIMPALA354396LS\n\n\n	3524-021498 DODGERAM348885LS\n\n\n	3624-057005 NISSANTITAN353104LS\n\n\n	3724-066702 VOLKSWAGENBEETLE354132LS\n\n\n	3824-068107 HONDAODYSSEY354192LS\n\n\n	3924-048395 TOYOTAAVALON352217LS\n\n\n	4023-352907 TOYOTASIENNA344372LS\n\n\n	4124-064997 MERCURYMOUNTAINEER353820LS\n\n\n	4224-085779 DODGEVAN356148LS\n\n\n	4324-063604 MERCEDESC-CLASS353594LS\n\n\n	4424-054603 FORDEXPLORER352619LS\n\n\n	4524-048904 MERCEDESC-CLASS351981LS\n\n\n	4624-077504 CHEVROLETMONTE CARLO355152LS\n\n\n	4723-117095 SCPNTRUCK317465LS\n\n\n	4824-055311 HYUNDAIGENESIS352779LS\n\n\n	4924-063815 FORDFOCUS353713LS\n\n\n	5024-063020 TOYOTACOROLLA353831LS\n\n\n\n\n\n\n\nTERMS AND CONDITIONS\n\nCash Only – All Sales are Final\n$200.00 refundable cash deposit to bid\nRefunds are available anytime during auction\nAll cars must be paid for and picked up by 4pm on Thursday ( no exceptions )\nAdditional deposits are required on vehicle’s over $1000.00\nLien sale vehicles sold to the general public are sold as is with all vaults and defects\, you are required to pay all DMV back registration and obtain a smog certificate before receiving your title from the DMV\, sales tax for your purchase will be paid directly to the DMV upon submission of the lien sale packet you will receive at the conclusion of the auction. Out of state buyers\, check with your local DMV to be sure that they will accept California lien sale documents for registration in your state.
URL:https://jbauctioneers.net/event/otay-mesa-auto-auction-20240403/
LOCATION:Western Towing\, 738 Heritage Rd.\, San Diego\, CA\, 92154\, United States
END:VEVENT
BEGIN:VEVENT
DTSTART;TZID=America/Los_Angeles:20240410T123500
DTEND;TZID=America/Los_Angeles:20240410T123500
DTSTAMP:20260422T184920
CREATED:20240405T041447Z
LAST-MODIFIED:20240405T153751Z
UID:21231-1712752500-1712752500@jbauctioneers.net
SUMMARY:OTAY MESA - AUTO AUCTION
DESCRIPTION:Presented By: PUBLIC AUTO AUCTIONUp to 70 Lien Sale VehiclesWednesday April 10th  @ 12:35pm(Preview 12:00pm) Auctions held WednesdaysOtay Valley Rd & Heritage Rd\, Chula Vista(Look for signs to our facility from this location\, actual site is up the hill on 738 Heritage Rd.)Phone: 619-694-7809For a map and directions\, click here Here are some photos of vehicles available at this week’s Western Towing Auto Auction.Click on any of the images below to see the larger picture.\n\n\n\n\nno images were found \n\n\n\n\nTo download a copy of the list in Adobe pdf format\, Click here.\n\n\n\n\n\n\n	NOCONTROLYEAR/MAKE MODELREF#LS/T\n\n\n\n\n	124-087506 ACURATL356334LS\n\n\n	224-080097 FORDEXPLORER355546LS\n\n\n	324-050408 CHEVROLETCOBALT352101LS\n\n\n	424-017409 BMW328i348459LS\n\n\n	524-074707 SCIONTC354528LS\n\n\n	624-079806 NISSANSENTRA355403LS\n\n\n	724-084801 NISSANSENTRA356083LS\n\n\n	824-005108 MERCURYMARINER346795LS\n\n\n	924-084502 NISSANMAXIMA355937LS\n\n\n	1024-077012 DODGEGRD CARAVAN355030LS\n\n\n	1124-085089 ACURALEGEND355947LS\n\n\n	1224-074394 MERCURYSABLE354615LS\n\n\n	1324-083904 VOLVOS60355884LS\n\n\n	1424-074807 HYUNDAISONATA354822LS\n\n\n	1524-061094 TOYOTACAMRY353412LS\n\n\n	1624-078506 MAZDA3355512LS\n\n\n	1724-079101 LEXUSES355302LS\n\n\n	1824-078705 MERCEDESCLK320355385LS\n\n\n	1924-079094 CADILLACEL DORADO355159LS\n\n\n	2024-078991 CHEVROLETGMT400355527LS\n\n\n	2124-064112 NISSANVERSA353721LS\n\n\n	2224-079706 HONDACIVIC355390LS\n\n\n	2324-048006 MERCURYMARINER352122LS\n\n\n	2424-054509 HONDAFIT352572LS\n\n\n	2524-059586 CHEVROLETCELEBRITY353308LS\n\n\n	2624-084706 SATURNION355984LS\n\n\n	2724-085399 HONDAACCORD356059LS\n\n\n	2824-068005 HONDAODYSSEY354191LS\n\n\n	2924-064313 CHEVROLETCRUZE353613LS\n\n\n	3024-082611 CHEVROLETAVEO355735LS\n\n\n	3124-065113 CHRYSLER200353599LS\n\n\n	3224-089408 DODGECALIBER356504LS\n\n\n	3324-075106 NISSANMURANO354698LS\n\n\n	3424-056406 FORDFUSION353163LS\n\n\n	3524-082878 CHEVROLETCK PICKUP355766LS\n\n\n	3624-047012 DODGECHARGER351891LS\n\n\n	3724-072611 HYUNDAIAZERA354462LS\n\n\n	3824-065307 CHRYSLERPT CRUISER353396LS\n\n\n	3924-061597 NISSANSENTRA353505LS\n\n\n	4024-001506 MERCURYGRD MARQUIS346348LS\n\n\n	4124-082593 NISSANPICKUP355733LS\n\n\n	4224-077704 GMCYUKON355304LS\n\n\n	4324-071604 FORDF150354649LS\n\n\n	4424-093305 NISSANPATHFINDER356985LS\n\n\n	4524-065905 CADILLACSTS353971LS\n\n\n	4624-057302 GMCSUBURBAN352901LS\n\n\n	4724-063995 MERCURYMONTERO353821LS\n\n\n	4823-343871 CHEVROLETC20 343360LS\n\n\n	4923-352405 CHRYSLER300344247LS\n\n\n	5024-066907 CHEVROLETSUBURBAN354067LS\n\n\n\n\n\n\n\nTERMS AND CONDITIONS\n\nCash Only – All Sales are Final\n$200.00 refundable cash deposit to bid\nRefunds are available anytime during auction\nAll cars must be paid for and picked up by 4pm on Thursday ( no exceptions )\nAdditional deposits are required on vehicle’s over $1000.00\nLien sale vehicles sold to the general public are sold as is with all vaults and defects\, you are required to pay all DMV back registration and obtain a smog certificate before receiving your title from the DMV\, sales tax for your purchase will be paid directly to the DMV upon submission of the lien sale packet you will receive at the conclusion of the auction. Out of state buyers\, check with your local DMV to be sure that they will accept California lien sale documents for registration in your state.
URL:https://jbauctioneers.net/event/otay-mesa-auto-auction-20240410/
LOCATION:Western Towing\, 738 Heritage Rd.\, San Diego\, CA\, 92154\, United States
END:VEVENT
BEGIN:VEVENT
DTSTART;TZID=America/Los_Angeles:20240416T103000
DTEND;TZID=America/Los_Angeles:20240416T143000
DTSTAMP:20260422T184920
CREATED:20240405T042820Z
LAST-MODIFIED:20240413T154802Z
UID:21238-1713263400-1713277800@jbauctioneers.net
SUMMARY:OCEANSIDE - AUTO AUCTION
DESCRIPTION:Presented By:Auctions the 1st and 3rd Tuesdays of each monthPUBLIC AUTO AUCTIONUp to 80 Selected Vehicles\nTuesday April 2nd @ 10:30am1060 Airport Rd. (in the Oceanside location towing yard)Oceanside 92058Phone. 760-722-6686For a map and directions\, click here\nHere are some photos of vehicles available at this week’s S&R Towing auction.Vehicles posted are subject to change without notice.Click on any of the images below to see the larger picture.*** RUNNERS ***\n\n\n\n\nno images were found \n\n\n*** NON-RUNNERS ***\n\n\n\nno images were found \n\n\n\nTo download a copy of the list in Adobe pdf format\, Click here.\n\n\n\n\n\n\n\n	Call #Lot #YearMakeModelExp DatePlateVINOdomT/Sal\n\n\n\n\n	12267012015HondaCivic7KKU67319XFB2F51FE221951\n\n\n	12380822010FordEscape6MUC3091FMCU0D79AKD20069T\n\n\n	12251131994ChevroletChevy Van4VSJ8581GBEG25KXRF149862\n\n\n	6838841999GMCForward Control Chassis29233D21GDJP32R6X3500181\n\n\n	12291952005JeepGrand Cherokee8KTZ9781J4HR58245C531035\n\n\n	12250362004HyundaiACCENT6HBP713KMHCG45C04U519384\n\n\n	12279372003MerzS-ClassN/PWDBNG70J93A372677\n\n\n	12150382006MazdaMazda38AST283JM1BK323461425347SAL\n\n\n	12234492006HondaAccord8GQK2951HGCM72666A000682T\n\n\n	120271102009HyundaiACCENTURL138KMHCM46C39U291590\n\n\n	122512112006BMW3 SeriesBTV2413WBAVB13566PT25116\n\n\n	122416121999ToyotaCorolla4FIN4041NXBR12E2XZ236855\n\n\n	122346132015Chrysler2008UMU9411C3CCCABXFN605858\n\n\n	123233141996FordRangerNA1FTCR10A6TPB04957\n\n\n	115638151995FordE-Series Cargo1FDEE14NXSHA12448\n\n\n	121787162007NissanFrontier8G747941N6AD0U07C421693\n\n\n	124992172004ToyotaCorolla5GJM4031NXBR32E24Z297548T\n\n\n	122762182001ToyotaCamry4SZA3444T1BG22K51U104911\n\n\n	124366192014MazdaMazda37GDC680JM1BM1M77E1202121\n\n\n	88014202016HyundaiSANTA FE SPORT7SBG0055XYZU3LB1GG370453\n\n\n	123298211984Chev CorvetteRZH27451G1AY0786E5108361\n\n\n	123381221997ToyotaTacoma5P823974TAVN52N8VZ328357\n\n\n	125504232015NissanAltima7RQX8441N4AL3AP5FN921513T\n\n\n	119238242003VolvoV705ATV827YV1SW53D531290361\n\n\n	122439252000DodgeCaravan4HYV5431B4GP45R4YB540277\n\n\n	123234262002FordExpedition4XTN2041FMRU15W12LA84552\n\n\n	123299271999ToyotaCorolla8TOA9441NXBR12E0XZ274052\n\n\n	123228281995GeoMetro3LXE9352C1MR2265S6752126\n\n\n	93509292007MazdaMazda35YZB918JM1BK12GX71674048\n\n\n	119024302007DodgeChargerPPX78322B3KA43G47H890760\n\n\n	122558311997HondaCivic5VBS6971HGEJ7127VL066256\n\n\n	123231322008BMW5 Series5ZXK611WBANU53578CT02200\n\n\n	114079332000LexusGS 300W856BRJT8BD68S2Y0101198\n\n\n	100654342008FordF-1508U132391FTRF12W68KD61956\n\n\n	121957352002FordF-250 Super Duty23T114721FTNW21F42EB34034T\n\n\n	122932361999Toyota4Runner8YKD562JT3HN86R3X0255846\n\n\n	123941371999HondaAccord6KXF1771HGCG6650XA066004T\n\n\n	110875382003FordRanger14333G21FTYR10U73PA89014\n\n\n	120394392007Chrysler3006LAK1652C3KA43R37H888373\n\n\n	122012402001ChevroletTahoe8FYV6091GNEC13T91R129397\n\n\n	123294411994FordMustang4XZL8961FALP45T8RF110541\n\n\n	123320422006BuickTerraza7ZRC3715GADX33L86D122290\n\n\n	121266432002NissanFrontier11/30/20228D345481N6DD26S42C315084110984\n\n\n	122963442005VolksGolf11/26/20225KML0359BWGL61J654007198178396\n\n\n	123396452012MazdaMazda310/2/20246XYT108JM1BL1W89C157804897077\n\n\n	122470462014DodgeGrand CaravanOOSKHE59602C4RDGEG2ER233255154613\n\n\n	121060472000ChevS-1010/31/20226K954261GCCS195XYK292963139924\n\n\n	121355482015FordMustang3/2/20179BTB4691FA6P8TH2F534291498327\n\n\n	122816492010ToyotaPrius7/28/20248PWT620JTDKN3DU0A0016869214651\n\n\n	122483502000HondaCivic10/8/20244HRB402JHMEJ6670YS002601157107\n\n\n	122312511973ChevroletCheyenne Super 204/30/202458390PCCY243Z14799785516\n\n\n	122299522007MitsubishiOutlander3/18/202452EF347JA4MS31X87U013052178571\n\n\n	115374532011ChevroletCruze9/2/20238BIR2961G1ZB5E1XBF285864140971\n\n\n	124935542004MitsubishiLancer8/8/20237YOP770JA3AJ26E04U037661114274T\n\n\n	122147552005FordCrown Victoria12/16/20249JNJ5092FAFP73WX5X124810165800\n\n\n	122636572003ChevroletSuburbanOOS398MEA3GNFK16273G150095234434\n\n\n	582014KiaForte 56/8/20247FWT944KNAFX5A88E5234076T\n\n\n\n\n\n\n\n\n\n\nTERMS AND CONDITIONS\n\nBuyers fees: Dealers & Dismantlers $35.00\nGeneral Public $65.00\n$200.00 cash deposit required to bid\nAll vehicles must be paid for in full CASH ONLY at the conclusion of the auction\nAll vehicles must be removed by Friday following the auction\nLien sale vehicles sold to the general public are sold as is with all vaults and defects\, you are required to pay all DMV back registration and obtain a smog certificate before receiving your title from the DMV\, sales tax for your purchase will be paid directly to the DMV upon submission of the lien sale packet you will receive at the conclusion of the auction. Out of state buyers\, check with your local DMV to be sure that they will accept California lien sale documents for registration in your state.\nFor more info call direct 760-722-6686
URL:https://jbauctioneers.net/event/oceanside-auto-auction-20240416/
LOCATION:S&R Towing\, 1060 Airport Rd.\, Oceanside\, CA\, 92058\, United States
END:VEVENT
BEGIN:VEVENT
DTSTART;TZID=America/Los_Angeles:20240417T123500
DTEND;TZID=America/Los_Angeles:20240417T123500
DTSTAMP:20260422T184920
CREATED:20240405T042550Z
LAST-MODIFIED:20240412T200517Z
UID:21234-1713357300-1713357300@jbauctioneers.net
SUMMARY:OTAY MESA - AUTO AUCTION
DESCRIPTION:Presented By: PUBLIC AUTO AUCTIONUp to 70 Lien Sale VehiclesWednesday April 17th  @ 12:35pm(Preview 12:00pm) Auctions held WednesdaysOtay Valley Rd & Heritage Rd\, Chula Vista(Look for signs to our facility from this location\, actual site is up the hill on 738 Heritage Rd.)Phone: 619-694-7809For a map and directions\, click here Here are some photos of vehicles available at this week’s Western Towing Auto Auction.Click on any of the images below to see the larger picture.\n\n\n\n\nno images were found \n\n\n\n\nTo download a copy of the list in Adobe pdf format\, Click here.\n\n\n\n\n\n\n	NOCONTROLYEAR/MAKE MODELREF#LS/T\n\n\n\n\n	124-085603  VOLVOV70356138LS\n\n\n	224-085805 CHEVROLETMALIBU356160LS\n\n\n	324-075905 CHRYSLERSEBRING354944LS\n\n\n	424-070713 HYUNDAIELANTRA354365LS\n\n\n	524-084307 NISSANXTERRA355834LS\n\n\n	624-072101 CHEVROLETMALIBU354584LS\n\n\n	724-028604 HONDAPILOT349806LS\n\n\n	824-089211 VOLKSWAGENGTI356489LS\n\n\n	924-066807 BMW328xi354084LS\n\n\n	1024-090605 CHRYSLERPACIFICA356605LS\n\n\n	1124-082097 HONDAACCORD355758LS\n\n\n	1224-077801 CHRYSLERTOWN&COUNTRY355346LS\n\n\n	1324-093189 TOYOTACELICA356863LS\n\n\n	1424-085998 FORDESCORT356171LS\n\n\n	1524-028989 LINCOLNTOWNCAR349924LS\n\n\n	1624-087777 MERCEDES300355976LS\n\n\n	1724-043303 BMW745li351186LS\n\n\n	1824-088004 MERCEDESE-CLASS356483LS\n\n\n	1924-088804 ACURATL356588LS\n\n\n	2024-072203 HYUNDAISONATA354599LS\n\n\n	2124-102199 HONDAACCORD357705LS\n\n\n	2224-076806 HONDAACCORD355065LS\n\n\n	2324-096206 HYUNDAISONATA356949LS\n\n\n	2424-095101  TOYOTACOROLLA357194LS\n\n\n	2524-063301 MERCURYSABLE353911LS\n\n\n	2624-093007 NISSANMURANO356754LS\n\n\n	2724-101208 TOYOTAPRIUS357824LS\n\n\n	2824-055407 HONDAFIT352877LS\n\n\n	2924-064612 SUBARUIMPREZA353600LS\n\n\n	3024-089712 CHEVROLETMALIBU356551LS\n\n\n	3124-083104 DODGEDURANGO355791LS\n\n\n	3224-081713 NISSANALTIMA355673LS\n\n\n	3324-100799 TOYOTACAMRY357560LS\n\n\n	3424-090302 HONDAODYSSEY356639LS\n\n\n	3523-312016 NISSANSENTRA339493LS\n\n\n	3624-078607 NISSANMAXIMA355329LS\n\n\n	3724-089507 FORDFOCUS356514LS\n\n\n	3824-093796 HONDAODYSSEY356763LS\n\n\n	3924-084104 NISSANMURANO355836LS\n\n\n	4024-066607 CADILLACSTS354127LS\n\n\n	4124-095901 HONDAACCORD357082LS\n\n\n	4224-083007 CADILLACCTS355755LS\n\n\n	4324-077999 DODGEDURANGO355386LS\n\n\n	4424-098999 CHEVROLETSILVERADO357432LS\n\n\n	4524-011406 AUDIA4347639LS\n\n\n	4624-053597 CHEVROLET2500352507LS\n\n\n	4724-082704 HONDACIVIC355747LS\n\n\n	4824-055590 DODGECARAVAN352894LS\n\n\n	4924-100805 GMCYUKON357562LS\n\n\n	5024-072589 FORDE350354364 \n\n\n\n\n\n\n\nTERMS AND CONDITIONS\n\nCash Only – All Sales are Final\n$200.00 refundable cash deposit to bid\nRefunds are available anytime during auction\nAll cars must be paid for and picked up by 4pm on Thursday ( no exceptions )\nAdditional deposits are required on vehicle’s over $1000.00\nLien sale vehicles sold to the general public are sold as is with all vaults and defects\, you are required to pay all DMV back registration and obtain a smog certificate before receiving your title from the DMV\, sales tax for your purchase will be paid directly to the DMV upon submission of the lien sale packet you will receive at the conclusion of the auction. Out of state buyers\, check with your local DMV to be sure that they will accept California lien sale documents for registration in your state.
URL:https://jbauctioneers.net/event/otay-mesa-auto-auction-20240417/
LOCATION:Western Towing\, 738 Heritage Rd.\, San Diego\, CA\, 92154\, United States
END:VEVENT
BEGIN:VEVENT
DTSTART;TZID=America/Los_Angeles:20240424T123500
DTEND;TZID=America/Los_Angeles:20240424T123500
DTSTAMP:20260422T184920
CREATED:20240405T042701Z
LAST-MODIFIED:20240405T042701Z
UID:21233-1713962100-1713962100@jbauctioneers.net
SUMMARY:OTAY MESA - AUTO AUCTION
DESCRIPTION:Presented By:PUBLIC AUTO AUCTIONUp to 70 Lien Sale VehiclesWednesday April 24th @ 12:35pm(Preview 12:00pm) Auctions held Wednesdays*** NEW LOCATION ***Otay Valley Rd & Heritage Rd\, Chula Vista(Look for signs to the new facility from this location\, actual site is up the hill on Heritage Rd.)Phone: 619-694-7809For a map and directions\, click here *** PHOTOS AND LIST FOR THE CURRENT AUCTION WILL BE POSTED SOON. PLEASE CHECK BACK. ***\n\n\n\nTERMS AND CONDITIONS\n\nCash Only – All Sales are Final\n$200.00 refundable cash deposit to bid\nRefunds are available anytime during auction\nAll cars must be paid for and picked up by 4pm on Thursday ( no exceptions )\nAdditional deposits are required on vehicle’s over $1000.00
URL:https://jbauctioneers.net/event/otay-mesa-auto-auction-20240424/
LOCATION:Western Towing\, 738 Heritage Rd.\, San Diego\, CA\, 92154\, United States
END:VEVENT
END:VCALENDAR