BEGIN:VCALENDAR
VERSION:2.0
PRODID:-//Joe Bradley Auctioneers - ECPv6.15.20//NONSGML v1.0//EN
CALSCALE:GREGORIAN
METHOD:PUBLISH
X-ORIGINAL-URL:https://jbauctioneers.net
X-WR-CALDESC:Events for Joe Bradley Auctioneers
REFRESH-INTERVAL;VALUE=DURATION:PT1H
X-Robots-Tag:noindex
X-PUBLISHED-TTL:PT1H
BEGIN:VTIMEZONE
TZID:America/Los_Angeles
BEGIN:DAYLIGHT
TZOFFSETFROM:-0800
TZOFFSETTO:-0700
TZNAME:PDT
DTSTART:20230312T100000
END:DAYLIGHT
BEGIN:STANDARD
TZOFFSETFROM:-0700
TZOFFSETTO:-0800
TZNAME:PST
DTSTART:20231105T090000
END:STANDARD
BEGIN:DAYLIGHT
TZOFFSETFROM:-0800
TZOFFSETTO:-0700
TZNAME:PDT
DTSTART:20240310T100000
END:DAYLIGHT
BEGIN:STANDARD
TZOFFSETFROM:-0700
TZOFFSETTO:-0800
TZNAME:PST
DTSTART:20241103T090000
END:STANDARD
BEGIN:DAYLIGHT
TZOFFSETFROM:-0800
TZOFFSETTO:-0700
TZNAME:PDT
DTSTART:20250309T100000
END:DAYLIGHT
BEGIN:STANDARD
TZOFFSETFROM:-0700
TZOFFSETTO:-0800
TZNAME:PST
DTSTART:20251102T090000
END:STANDARD
END:VTIMEZONE
BEGIN:VEVENT
DTSTART;TZID=America/Los_Angeles:20240806T103000
DTEND;TZID=America/Los_Angeles:20240806T143000
DTSTAMP:20260422T124748
CREATED:20240621T170547Z
LAST-MODIFIED:20240803T023409Z
UID:22293-1722940200-1722954600@jbauctioneers.net
SUMMARY:OCEANSIDE - AUTO AUCTION
DESCRIPTION:Presented By:Auctions the 1st and 3rd Tuesdays of each monthPUBLIC AUTO AUCTIONUp to 80 Selected Vehicles\nTuesday August 6th @ 10:30am1060 Airport Rd. (in the Oceanside location towing yard)Oceanside 92058Phone. 760-722-6686For a map and directions\, click here\nHere are some photos of vehicles available at this week’s S&R Towing auction.Vehicles posted are subject to change without notice.Click on any of the images below to see the larger picture.\n\n*** RUNNERS ***\n\n\n\n\nno images were found \n\n\n*** NON-RUNNERS ***\n\n\n\nno images were found \n\n\n\n\n\nTo download a copy of the list in Adobe pdf format\, Click here.\n\n\n\n\n\n\n\n	CALL#LOT#YEARMAKEMODELEXPERATION DATEPLATEVINMILESTITLE/SAL\n\n\n\n\n	12930712001VolkswagenGolfExp Date4RKG3249BWGT21J814024507\n\n\n	12960422004KiaSedona6RHW096KNDUP131746611363\n\n\n	12939332012Ram150074119D33C6JD6AT5CG276914Salvage\n\n\n	13147142008NissanTitanNO PLATESIN6BAO6C08N333639Junk\n\n\n	12854752009ToyotaCamry6FLT4674T1BE46K49U858213Title\n\n\n	12953462014NissanAltima9EVS1751N4AL3AP8EC148823\n\n\n	12900872003ToyotaCamry8GOF9054T1BE32K93U176080\n\n\n	12775182002DodgeRam 15008Z247713D7HA18Z02G180013\n\n\n	12924692019ToyotaYaris9KLN6323MYDLBYVXKY516736\n\n\n	128956102016ToyotaRAV4984ZHT2T3WFREV4GW257475\n\n\n	131759112013BMW5 Series8YSH890WBAXG5C5XDDY30785Title\n\n\n	125148122002SubaruImprezaBXFV02JF1GG68552H817570\n\n\n	122202132002ChevroletTrailBlazer199-PMS-91GNDS13S022281665\n\n\n	129762142004HondaCivic5JMM63JHMES96654S018146\n\n\n	128896152007GMCYukon XL6KNN6341GKFK16387J213914\n\n\n	130912162005AcuraTSX5RXX423JH4CL968X5C008360Title\n\n\n	128509172020FordEcoSport9KIW830MAJ3S2KE6LC351354\n\n\n	132362JB182000HondaCR-V9EMU569JHLRD174XYC025348\n\n\n	130754192004ChevroletTahoe8CQT1681GNEC13T64R304435Salvage\n\n\n	129219201990FordF-1506P786102FTDF15N2LCB40655\n\n\n	130790211994NissanAltima3JSW0421N4BU31D0RC230638Title\n\n\n	129891222014VolkswagenJetta8YQP2483VWD17AJ9EM411896\n\n\n	126875232007SciontC5VYT957JTKDE167570148063\n\n\n	131880242010ToyotaCorolla6NVB5341NXBU4EE2AZ258678Title\n\n\n	130173252010HondaCivic6NCT63219XFA1F63AE050442\n\n\n	129378262008HyundaiACCENT6ENV873KMHCM36C08U073261Salvage\n\n\n	130028272012MitsubishiGalant7SAV5954A32B2FFXCE018858\n\n\n	130344282009JeepCommander8CQY0291J8HH48KX9C500258Salvage\n\n\n	130130292000FordExpedition6ECS8081FMPU16L9YLA69351Salvage\n\n\n	132580PT302008ChryslerSebring7KQF4121C3LC55R98N135442\n\n\n	130572312007BMW3 Series5ZNR907WBAWV53537P076939\n\n\n	85837321979Datsun5108HNY267HLB310605628\n\n\n	126925332001AudiTTCAM1412TRUUT28N811025671\n\n\n	129940341999AcuraRLJH4KA9655XC008454\n\n\n	130489352009LexusLS 4606JTL534JTHBL46F195088820\n\n\n	132856PT361998FordMustang3XLL9851FAFP4043WF106857\n\n\n	128653372000FordF-1506K596211FTZX1723YNC37502\n\n\n	130349382007ToyotaCamry7NXP4264T1BK46K57U011173\n\n\n	130325392009ToyotaCorolla6H0V753JTDBL40E299083264\n\n\n	130241402003ToyotaAvalon6VZC2294T1BF28B13U338878\n\n\n	120192412013ToyotaCorolla8XXC8175YFBU4EE8DP076523Title\n\n\n	128718A2006Harley-DavidsonElectra Glide Classic19M69271HD1FFW326Y66400826668\n\n\n	122588B2013Harley-DavidsonSportster Iron 88352V23101HD4LE235DC412236Title\n\n\n	129622C2015YamahaYZF R622D9414JYARJ16E6FA034097\n\n\n	128206421997Toyota4Runner3/8/20237FXK059JT3GM84R6V0011459272460\n\n\n	117150432007HyundaiACCENT4/22/2024UBH3509KMHCN36C97U027195156330\n\n\n	127709442013BuickVeranoOOSDB516041G4PP5SK9D4218194252241\n\n\n	129529452001DodgeCaravan3/28/20244SEJ8011B8GP25381B187675138237\n\n\n	127837462006MazdaTributeOOSLB5J9V4F2YZ02Z16KM30282117294\n\n\n	130218472014Mercedes-BenzC-Class7/24/20239CNF853WDDGF4HB6EG23838485980\n\n\n	98410482002FordRanger8/31/202214465L31FTYR14V52PB71342142346\n\n\n	130386492000ChevroletCavalier10/12/20249JBM3261G1JC1245Y7192187304427\n\n\n	128719502005NissanMaxima11/14/2022NOPLATE1N4BA41E05C813521219051\n\n\n	131841512001MitsubishiEclipse5/28/20234UXU3744A3AC54H21E088642137259Title\n\n\n	128882522004MitsubishiEndeavor5/28/20228PMG342 4A4MN31S24E072582160975\n\n\n	131973532008HondaPilot5/18/20256DOH905 5FNYF28318B005829236877Title\n\n\n	111462541978FordEconoline5/24/2018699VDRE14HHBH998089501\n\n\n	128609552004GMCSavana CargoOOSN/P1GDFG15T941154121217060\n\n\n	129048561989FordF-2501/31/20213U031171FTHX25G1KKA6633758328\n\n\n	132926572000Jeep Grand Cherokee10/8/20234WAG3791J4G248N2YC182336206935\n\n\n\n\n\n\n\n\n\n\nTERMS AND CONDITIONS\n\nBuyers fees: Dealers & Dismantlers $35.00\nGeneral Public $65.00\n$200.00 cash deposit required to bid\nAll vehicles must be paid for in full CASH ONLY at the conclusion of the auction\nAll vehicles must be removed by Friday following the auction\nLien sale vehicles sold to the general public are sold as is with all vaults and defects\, you are required to pay all DMV back registration and obtain a smog certificate before receiving your title from the DMV\, sales tax for your purchase will be paid directly to the DMV upon submission of the lien sale packet you will receive at the conclusion of the auction. Out of state buyers\, check with your local DMV to be sure that they will accept California lien sale documents for registration in your state.\nFor more info call direct 760-722-6686
URL:https://jbauctioneers.net/event/oceanside-auto-auction-20240806/
LOCATION:S&R Towing\, 1060 Airport Rd.\, Oceanside\, CA\, 92058\, United States
END:VEVENT
BEGIN:VEVENT
DTSTART;TZID=America/Los_Angeles:20240807T123500
DTEND;TZID=America/Los_Angeles:20240807T123500
DTSTAMP:20260422T124749
CREATED:20240621T170834Z
LAST-MODIFIED:20240802T000120Z
UID:22299-1723034100-1723034100@jbauctioneers.net
SUMMARY:OTAY MESA - AUTO AUCTION
DESCRIPTION:Presented By: PUBLIC AUTO AUCTIONUp to 70 Lien Sale VehiclesWednesday August 7th  @ 12:35pm(Preview 12:00pm) Auctions held WednesdaysOtay Valley Rd & Heritage Rd\, Chula Vista(Look for signs to our facility from this location\, actual site is up the hill on 738 Heritage Rd.)Phone: 619-694-7809For a map and directions\, click here Here are some photos of vehicles available at this week’s Western Towing Auto Auction.Click on any of the images below to see the larger picture.\n\n\n\n\nno images were found \n\n\n\n\nTo download a copy of the list in Adobe pdf format\, Click here.\n\n\n\n\n\n\n	NOCONTROLYEAR/MAKE MODELREF#LS/T\n\n\n\n\n	124-210201 TOYOTAAVALON369369LS\n\n\n	224-204307 CHEVROLETMALIBU368700LS\n\n\n	324-194414 VOLKSWAGENCC368068LS\n\n\n	424-212504 HONDAACCORD369474LS\n\n\n	524-175008 HYUNDAISONATA365428LS\n\n\n	624-205603 JEEPGRD CHEROKEE369023LS\n\n\n	724-211907 HONDACIVIC369589LS\n\n\n	824-213802 KIASEDONA369612LS\n\n\n	924-201502 CHEVROLETCAVALIER368503LS\n\n\n	1024-188100 MITSUBISHIMONTERO366976LS\n\n\n	1124-214296 TOYOTACAMRY369895LS\n\n\n	1224-206802 TOYOTAAVALON369195LS\n\n\n	1324-202506 AUDIA4368834LS\n\n\n	1424-209699 MERCURYSABLE369340LS\n\n\n	1524-142501 DODGERAM P/U362083LS\n\n\n	1624-186615 NISSANALTIMA367016LS\n\n\n	1724-166001 MERCEDESS-CLASS364554LS\n\n\n	1824-213101 BMW325i369712LS\n\n\n	1924-160206 BMW530i363951LS\n\n\n	2024-211197 LEXUSES300369575LS\n\n\n	2124-196811 TOYOTARAV4368161LS\n\n\n	2224-212611 VOLKSWAGENJETTA369472LS\n\n\n	2324-157508 HONDAACCORD363643LS\n\n\n	2424-203901 ACURAINTEGRA368721LS\n\n\n	2524-207600 MERCEDESSLK CLASS369193LS\n\n\n	2624-194810 NISSANALTIMA367761LS\n\n\n	2724-205596 FORDEXPLORER368915LS\n\n\n	2824-195905 CHEVROLETMONTE CARLO367702LS\n\n\n	2924-207105 VOLKSWAGENJETTA369220LS\n\n\n	3024-194006 JEEPGRD CHEROKEE367726LS\n\n\n	3124-156113 HYUNDAIELANTRA341779LS\n\n\n	3224-185103 TOYOTACAMRY366786LS\n\n\n	3324-212105 ACURATL369483LS\n\n\n	3424-199103 HONDAELEMENT368406LS\n\n\n	3524-129311 GMCTERRAIN360675LS\n\n\n	3624-196599 BMWZ3367983LS\n\n\n	3724-216604 ACURATL370186LS\n\n\n	3824-195706 GMCENVOY367971LS\n\n\n	3924-212413 HONDAFIT369440LS\n\n\n	4024-182609 MITSUBISHILANCER366347LS\n\n\n	4124-192106 FORDFOCUS367453LS\n\n\n	4224-211701 HONDAACCORD369799LS\n\n\n	4324-212798 LEXUSGS369601LS\n\n\n	4424-207301 INFINITII30369226LS\n\n\n	4524-201403 TOYOTAPRIUS368520LS\n\n\n	4624-193288 FORDF250367659LS\n\n\n	4724-187603 INFINITIG35366922LS\n\n\n	4824-216799 HONDAACCORD370226LS\n\n\n	4924-166102 TOYOTASIENNA364737LS\n\n\n	5024-191316 CHEVROLETCRUZE367339LS\n\n\n\n\n\n\n\nTERMS AND CONDITIONS\n\nCash Only – All Sales are Final\n$200.00 refundable cash deposit to bid\nRefunds are available anytime during auction\nAll cars must be paid for and picked up by 4pm on Thursday ( no exceptions )\nAdditional deposits are required on vehicle’s over $1000.00\nLien sale vehicles sold to the general public are sold as is with all vaults and defects\, you are required to pay all DMV back registration and obtain a smog certificate before receiving your title from the DMV\, sales tax for your purchase will be paid directly to the DMV upon submission of the lien sale packet you will receive at the conclusion of the auction. Out of state buyers\, check with your local DMV to be sure that they will accept California lien sale documents for registration in your state.
URL:https://jbauctioneers.net/event/otay-mesa-auto-auction-20240807/
LOCATION:Western Towing\, 738 Heritage Rd.\, San Diego\, CA\, 92154\, United States
END:VEVENT
BEGIN:VEVENT
DTSTART;TZID=America/Los_Angeles:20240814T123500
DTEND;TZID=America/Los_Angeles:20240814T123500
DTSTAMP:20260422T124749
CREATED:20240803T023258Z
LAST-MODIFIED:20240809T013828Z
UID:22807-1723638900-1723638900@jbauctioneers.net
SUMMARY:OTAY MESA - AUTO AUCTION
DESCRIPTION:Presented By: PUBLIC AUTO AUCTIONUp to 70 Lien Sale VehiclesWednesday August 14th  @ 12:35pm(Preview 12:00pm) Auctions held WednesdaysOtay Valley Rd & Heritage Rd\, Chula Vista(Look for signs to our facility from this location\, actual site is up the hill on 738 Heritage Rd.)Phone: 619-694-7809For a map and directions\, click here Here are some photos of vehicles available at this week’s Western Towing Auto Auction.Click on any of the images below to see the larger picture.\n\n\n\n\nno images were found \n\n\n\n\nTo download a copy of the list in Adobe pdf format\, Click here.\n\n\n\n\n\n\n	NOCONTROLYEAR/MAKE MODELREF#LS/T\n\n\n\n\n	124-182206 SATURNION366053LS\n\n\n	224-117816 HYUNDAISONATA359189LS\n\n\n	324-222709 FORDFOCUS370902LS\n\n\n	424-220305 FORDEXPLORER370716LS\n\n\n	524-179502 HYUNDAISONATA365856LS\n\n\n	624-195801 PONTIACGRAND PRIX367985LS\n\n\n	724-193094 TOYOTACAMRY367661LS\n\n\n	824-174813 HONDAACCORD365306LS\n\n\n	924-220200 LEXUSRX300370795LS\n\n\n	1024-202904 NISSANSENTRA368603LS\n\n\n	1124-198707 HYUNDAISONATA368351LS\n\n\n	1224-228895 FORDTAURUS371654LS\n\n\n	1324-227199 HONDAACCORD371296LS\n\n\n	1424-223510 AUDIQ5370970LS\n\n\n	1524-212297 GEOPRISM369484LS\n\n\n	1624-217605 LINCOLNLS370600LS\n\n\n	1724-218709 BMW328i370345LS\n\n\n	1824-202807 CADILLACCTS368601LS\n\n\n	1923-343305 LANDROVERLR3343377LS\n\n\n	2024-206312 FORDFOCUS369199LS\n\n\n	2124-195187 HONDAACCORD367994LS\n\n\n	2224-102420 CHEVROLETMALIBU357561LS\n\n\n	2324-201314 NISSANVERSA368490LS\n\n\n	2424-209500 VOLVOC70369323LS\n\n\n	2524-195094 HONDAACCORD367931LS\n\n\n	2624-215005 PONTIACGRAND PRIX370096LS\n\n\n	2724-220197 CHEVROLETBLAZER370750LS\n\n\n	2824-192504 VOLKSWAGENPASSAT367476LS\n\n\n	2924-217006 VOLKSWAGENBEETLE370175LS\n\n\n	3024-182307 DODGEDURANGO366171LS\n\n\n	3124-223099 HONDACIVIC370875LS\n\n\n	3224-209411 HONDAACCORD369304LS\n\n\n	33N/A06 TOYOTACAMRY4ATITLE\n\n\n	3424-191608 BMW528i367403LS\n\n\n	3524-210102 NISSANALTIMA369315LS\n\n\n	3624-211891 TOYOTACAMRY369495LS\n\n\n	3724-227006 AUDIA4371197LS\n\n\n	3824-211202 NISSANALTIMA369577LS\n\n\n	3924-216502 NISSANALTIMA370194LS\n\n\n	4024-197005 CADILLACDEVILLE368109LS\n\n\n	4124-190316 LEXUSCT 366942LS\n\n\n	4223-340810 KIAOPTIMA343382LS\n\n\n	4324-230187 FORDF250371709LS\n\n\n	4424-222607 HONDAPILOT369530LS\n\n\n	4524-230009 CHEVROLETIMPALA371715LS\n\n\n	4624-183517 HYUNDAIELANTRA361264LS\n\n\n	4724-207004 SUBARUFORESTER369208LS\n\n\n	4824-210792 MERCURYGRND MARQUIS369638LS\n\n\n	4924-152107 CHRYSLER300363018LS\n\n\n	5024-199203 BMW325i368379LS\n\n\n\n\n\n\n\nTERMS AND CONDITIONS\n\nCash Only – All Sales are Final\n$200.00 refundable cash deposit to bid\nRefunds are available anytime during auction\nAll cars must be paid for and picked up by 4pm on Thursday ( no exceptions )\nAdditional deposits are required on vehicle’s over $1000.00\nLien sale vehicles sold to the general public are sold as is with all vaults and defects\, you are required to pay all DMV back registration and obtain a smog certificate before receiving your title from the DMV\, sales tax for your purchase will be paid directly to the DMV upon submission of the lien sale packet you will receive at the conclusion of the auction. Out of state buyers\, check with your local DMV to be sure that they will accept California lien sale documents for registration in your state.
URL:https://jbauctioneers.net/event/otay-mesa-auto-auction-20240814/
LOCATION:Western Towing\, 738 Heritage Rd.\, San Diego\, CA\, 92154\, United States
END:VEVENT
BEGIN:VEVENT
DTSTART;TZID=America/Los_Angeles:20240820T103000
DTEND;TZID=America/Los_Angeles:20240820T143000
DTSTAMP:20260422T124749
CREATED:20240801T235148Z
LAST-MODIFIED:20240817T222053Z
UID:22678-1724149800-1724164200@jbauctioneers.net
SUMMARY:OCEANSIDE - AUTO AUCTION
DESCRIPTION:Presented By:Auctions the 1st and 3rd Tuesdays of each monthPUBLIC AUTO AUCTIONUp to 80 Selected Vehicles\nTuesday August 20th @ 10:30am1060 Airport Rd. (in the Oceanside location towing yard)Oceanside 92058Phone. 760-722-6686For a map and directions\, click here\nHere are some photos of vehicles available at this week’s S&R Towing auction.Vehicles posted are subject to change without notice.Click on any of the images below to see the larger picture.\n\n*** RUNNERS ***\n\n\n\n\nno images were found \n\n\n*** NON-RUNNERS ***\n\n\n\nno images were found \n\n\n\n\n\nTo download a copy of the list in Adobe pdf format\, Click here.\n\n\n\n\n\n\n\n	Call #Lot #YearMakeModelExp DatePlateVINMilesT/ Sal\n\n\n\n\n	13037711985ChevroletCorvetteNONE1G1YY0785F5107511SAL\n\n\n	13183122013VolkswagenCC8MQH845WVWBP7AN6DE525063T\n\n\n	12963131993HondaAccord6TNG4581HGCB9875PA006444\n\n\n	12744742001ToyotaSienna4NNY9334T3ZF13C11U329109\n\n\n	13342852005NissanAltima9DRK7781N4AL11DX5N430802T\n\n\n	13081862009VolkswagenJetta6HGP7663VWRZ71K39M068046\n\n\n	13165472014Fiat500L9DTV456ZFBCFADH1EZ029093SAL\n\n\n	13054182004ToyotaCamry Solara7PUA6784T1CE38P54U920444\n\n\n	13206992012ToyotaCamryNFB02494T1BF1FK2CU613977T\n\n\n	132431102002HondaAccord7XNC8791HGCF86682A100917T/ SAL\n\n\n	131781112007BMW3 Series5YVJ712WBAVC53567FZ72126\n\n\n	131347122005SubaruLegacy6LLS7024S3BL676256229197\n\n\n	130873132023Mercedes-BenzSprinter91897T3W1Y4KBHY1PT133730\n\n\n	129900141993HondaAccord3ECB606JHMCB7654PC051382\n\n\n	130908152005FordCrown VictoriaNONE2FAHP71W15X156721\n\n\n	133511PT162010VolkswagenJetta332H553VWJZ7AJ0AM036549T\n\n\n	126144172012ToyotaPrius9BXN744 JTDKN3DU0C1533926\n\n\n	130388182011HondaCivic9JBL06519XFA1F52BE041787\n\n\n	131107192003Mercedes-BenzCLK6XGV077WDBLK65G53T138473SAL\n\n\n	131259202008ChevroletTahoe7HKH6331GNFC13C38J212353\n\n\n	131208212003Land RoverDiscovery0SALTW164X3A785551\n\n\n	130901222000HondaCivicNYJ58581HGEJ8256YL117426\n\n\n	131117231998SaturnS-Series4CTZ8431G8ZK5279WZ306735\n\n\n	131576242003DodgeRam 15007G109281D7HA18N13S364481SAL\n\n\n	133657PT252011KiaSoul8NPM007KNDJT2A15B7295492T\n\n\n	131264262004MercuryMountaineer8NBX4614M2ZU86EX4ZJ38878\n\n\n	129216272004ChryslerPT CruiserNO PLATE3C4FY48B44T354483\n\n\n	129122282007ChevroletTahoe1GNFK13097J346551\n\n\n	130889291997ToyotaCamry8YQK3424T1BF22K4VU019938\n\n\n	130641302004FordExplorer5LVU6901FMZU63E64UC38161\n\n\n	133710JB312006ToyotaPrius5VHZ369JTDKB20U667530720\n\n\n	15521322005FordMustangBRY86761ZVFT85H355242383\n\n\n	130899322013KiaOptimaZD1V1CKNAGM4A76D5355623\n\n\n	129854332012ChryslerTown and Country7CPL3182C4RC1BG8CR353112\n\n\n	131640342007ToyotaYaris5VOP879JTDBT923871066019\n\n\n	127709352013BuickVeranoDB516041G4PP5SK9D4218194\n\n\n	131612361999HondaCivic4EBL6592HGEJ6672XH507421SAL\n\n\n	130890372003FordFocus7MCJ1563FAFP31Z73R182682\n\n\n	131569382008NissanVersa7XSL6453N1BC13E08L424891\n\n\n	131774392011SubaruForester8GPX674JF2SHBCC0BH777786\n\n\n	130486402002FordEscape6YVJ3381FMYU03122KA92307\n\n\n	131728412017ToyotaPrius8BMD738JTDKARFU7H3031812\n\n\n	131776422013HyundaiGenesis Coupe6VHX742KMHHU6KJ4DU080686\n\n\n	131722432003HondaAccord5CAH0851HGCM66563A053390\n\n\n	131423441997FordF-1506G371281FTDX1720VKC16291\n\n\n	128865451999ChevroletPrizm4HCZ5891Y1SK5284XZ425824\n\n\n	131845462002Mercedes-BenzE-Class9BDX969WDBJF65J72B497318\n\n\n	130915472012ToyotaCamry6WBL2504T4BF1FK3CR173922\n\n\n	130488482012LincolnMKT8ZUT5962LMHJ5ATXCBL52706\n\n\n	129822491999JeepGrand Cherokee4JEN3141J4GW68N3XC771460\n\n\n	131860502016HyundaiACCENTSCN5002KMHCT5AE5GU243457\n\n\n	133908PT512001ToyotaHighlander4UQY462JTEHF21A110040699SAL\n\n\n	133907PT521998NissanSentra4FJL4011N4AB41D3WC749007\n\n\n	131070532004VolkswagenNew Beetle5FSV5443VWBK21C44M401865\n\n\n	131652542014FordMustang3/2/20257EOG8771ZVBP8AM8E5292363124925\n\n\n	126878552014FordFocus6/8/2024MBC87471FADP3F20EL234934139771\n\n\n	130206561996ToyotaTacoma5/31/20245J478124TANL42N6TZ169139199990\n\n\n	130167572010DodgeCaliber6/8/20246MOD2441B3CB4HA3AD607999152689\n\n\n	130442581987CadillacDeVille12/14/20247BJT1771G6CD1185H425490556153\n\n\n	130542592006Mercedes-BenzE-Class7/16/20225NVW993WDBUF56J46A796167211817\n\n\n	129994602008Chrysler30012/8/20228STM9962C3KA53G18H202191144429SAL\n\n\n	129325612006SubaruForester11/2/20238WAA244JF1SG65626H756434177451\n\n\n	131805622011LincolnTown Car12/31/202281550J22LNBL8EV4BX765571188854SAL\n\n\n	129859632003FordMustang6/22/20247MSS0281FAFP40483F375772182015\n\n\n	131006642013InfinitiG37 Sedan1/20/20239BZZ244JN1CV6AP0DM712457151772\n\n\n	129048651989FordF-2501/31/20213U031171FTHX25G1KKA6633758328\n\n\n	133220661994JeepCherokee5/2/20246SLE9201J4FJ78S1RL211302207404\n\n\n	131125671998HondaCivic7/12/20244CBS351JHMEJ6670WS015622250585\n\n\n	131051681996HondaAccord9/8/20228LXY8781HGCE6672TA025861246140\n\n\n	133965692003FordFocus10/14/20245FPC3653FAHP31Z23R140218T\n\n\n	133958PT702007FordFusion7T0G6853FAHP07Z57R220950\n\n\n	133967PT712005Mercedes-BenzM-Class5KJJ4204JGAB57E25A531825\n\n\n	133987JB722002BuickCentury6UDJ2672G4WS52J321102919\n\n\n\n\n\n\n\n\n\n\nTERMS AND CONDITIONS\n\nBuyers fees: Dealers & Dismantlers $35.00\nGeneral Public $65.00\n$200.00 cash deposit required to bid\nAll vehicles must be paid for in full CASH ONLY at the conclusion of the auction\nAll vehicles must be removed by Friday following the auction\nLien sale vehicles sold to the general public are sold as is with all vaults and defects\, you are required to pay all DMV back registration and obtain a smog certificate before receiving your title from the DMV\, sales tax for your purchase will be paid directly to the DMV upon submission of the lien sale packet you will receive at the conclusion of the auction. Out of state buyers\, check with your local DMV to be sure that they will accept California lien sale documents for registration in your state.\nFor more info call direct 760-722-6686
URL:https://jbauctioneers.net/event/oceanside-auto-auction-20240820/
LOCATION:S&R Towing\, 1060 Airport Rd.\, Oceanside\, CA\, 92058\, United States
END:VEVENT
BEGIN:VEVENT
DTSTART;TZID=America/Los_Angeles:20240821T123500
DTEND;TZID=America/Los_Angeles:20240821T123500
DTSTAMP:20260422T124749
CREATED:20240801T234854Z
LAST-MODIFIED:20240816T182918Z
UID:22672-1724243700-1724243700@jbauctioneers.net
SUMMARY:OTAY MESA - AUTO AUCTION
DESCRIPTION:Presented By: PUBLIC AUTO AUCTIONUp to 70 Lien Sale VehiclesWednesday August 21st  @ 12:35pm(Preview 12:00pm) Auctions held WednesdaysOtay Valley Rd & Heritage Rd\, Chula Vista(Look for signs to our facility from this location\, actual site is up the hill on 738 Heritage Rd.)Phone: 619-694-7809For a map and directions\, click here Here are some photos of vehicles available at this week’s Western Towing Auto Auction.Click on any of the images below to see the larger picture.\n\n\n\n\nno images were found \n\n\n\n\nTo download a copy of the list in Adobe pdf format\, Click here.\n\n\n\n\n\n\n	NOCONTROLYEAR/MAKE MODELREF#LS/T\n\n\n\n\n	124-234599 TOYOTACAMRY372282LS\n\n\n	224-201190 HONDAACCORD368479LS\n\n\n	324-232498 BUICKCENTURY372366LS\n\n\n	424-226202 HONDAACCORD371447LS\n\n\n	524-090816 HYUNDAISONATA356601LS\n\n\n	624-229698 LINCOLNMKZ371722LS\n\n\n	724-232101 CHEVROLETIMPALA372128LS\n\n\n	824-236704 FORDEXPLORER371777LS\n\n\n	924-231603 MAZDA6371777LS\n\n\n	1024-234498 FORDMUSTANG372225LS\n\n\n	1124-071100 FORDEXCURSION354608LS\n\n\n	1224-231313 VOLKSWAGENJETTA371818LS\n\n\n	1324-225999 TOYOTACOROLLA371392LS\n\n\n	1424-196303 TOYOTASEQUIOA367989LS\n\n\n	1524-242701 BMWM3372887LS\n\n\n	1624-233796 MERCEDESE-CLASS372019LS\n\n\n	1724-166001 MERCEDESS4303643554LS\n\n\n	1824-165512 KIARIO364595LS\n\n\n	1924-223706 MERCEDESE-CLASS371070LS\n\n\n	2024-220099 MERCEDESE-CLASS370356LS\n\n\n	2124-227493 LEXUSES300371178LS\n\n\n	2224-214105 VOLVOS40369884LS\n\n\n	2324-237607 CHEVROLETUPLANDER372606LS\n\n\n	24N/A00 HONDACIVIC371081TITLE\n\n\n	2524-218601 AUDIA6370337LS\n\n\n	2624-226306 ACURATL371450LS\n\n\n	2724-195403 MITSUBISHIECLIPSE368101LS\n\n\n	2824-223890 VOLVO740GL371077LS\n\n\n	2924-207105 VOLKSWAGENJETTA369220LS\n\n\n	3024-198303 MITSUBISHILANCER368234LS\n\n\n	3124-219808 NISSANSENTRA370753LS\n\n\n	3224-233603 NISSANMURANO371913LS\n\n\n	3324-224611 SCIONXB371059LS\n\n\n	3424-224813 NISSANALTIMA371164LS\n\n\n	3524-226111 KIASPORTAGE371439LS\n\n\n	3624-177105 TOYOTACOROLLA365636LS\n\n\n	3724-092710 TOYOTACOROLLA356950LS\n\n\n	3824-232603 FORDFOCUS371985LS\n\n\n	3924-187802 TOYOTATACOMA367047LS\n\n\n	4022-347812 HYUNDAISONATA298383LS\n\n\n	4124-232796 NISSANQUEST372009LS\n\n\n	4224-210397 FORDF150369326LS\n\n\n	4324-189795 CHEVROLETGMT367077LS\n\n\n	4424-225708 BMW328i371192LS\n\n\n	4524-197115 HYUNDAISONATA367912LS\n\n\n	4624-218004 HONDAACCORD370331LS\n\n\n	4724-225605 TOYOTAPRIUS371537LS\n\n\n	4824-226410 MERCEDESC-CLASS371367LS\n\n\n	4924-175614 DODGECHARGER365602LS\n\n\n	5024-178003 TOYOTASEQUOIA4365764LS\n\n\n\n\n\n\n\nTERMS AND CONDITIONS\n\nCash Only – All Sales are Final\n$200.00 refundable cash deposit to bid\nRefunds are available anytime during auction\nAll cars must be paid for and picked up by 4pm on Thursday ( no exceptions )\nAdditional deposits are required on vehicle’s over $1000.00\nLien sale vehicles sold to the general public are sold as is with all vaults and defects\, you are required to pay all DMV back registration and obtain a smog certificate before receiving your title from the DMV\, sales tax for your purchase will be paid directly to the DMV upon submission of the lien sale packet you will receive at the conclusion of the auction. Out of state buyers\, check with your local DMV to be sure that they will accept California lien sale documents for registration in your state.
URL:https://jbauctioneers.net/event/otay-mesa-auto-auction-20240821/
LOCATION:Western Towing\, 738 Heritage Rd.\, San Diego\, CA\, 92154\, United States
END:VEVENT
BEGIN:VEVENT
DTSTART;TZID=America/Los_Angeles:20240828T123500
DTEND;TZID=America/Los_Angeles:20240828T123500
DTSTAMP:20260422T124751
CREATED:20240801T234944Z
LAST-MODIFIED:20240822T212839Z
UID:22673-1724848500-1724848500@jbauctioneers.net
SUMMARY:OTAY MESA - AUTO AUCTION
DESCRIPTION:Presented By: PUBLIC AUTO AUCTIONUp to 70 Lien Sale VehiclesWednesday August 21st  @ 12:35pm(Preview 12:00pm) Auctions held WednesdaysOtay Valley Rd & Heritage Rd\, Chula Vista(Look for signs to our facility from this location\, actual site is up the hill on 738 Heritage Rd.)Phone: 619-694-7809For a map and directions\, click here Here are some photos of vehicles available at this week’s Western Towing Auto Auction.Click on any of the images below to see the larger picture.\n\n\n\n\nno images were found \n\n\n\n\nTo download a copy of the list in Adobe pdf format\, Click here.\n\n\n\n\n\n\n	NOCONTROLYEAR/MAKE MODELREF#LS/T\n\n\n\n\n	124-163011 CHEVROLETCRUZE364257LS\n\n\n	224-164610 MINI COOPER364473LS\n\n\n	324-214311 CHEVROLETCRUZE369781LS\n\n\n	423-212302 TOYOTACAMRY328528LS\n\n\n	524-233313 NISSANSENTRA372284LS\n\n\n	624-214897 HONDACIVIC370150LS\n\n\n	724-201709 TOYOTACOROLLA368457LS\n\n\n	824-196201 GMCYUKON367967LS\n\n\n	924-226910 FORDFUSION371518LS\n\n\n	1024-243208 TOYOTAPRIUS373218LS\n\n\n	1124-214700 HONDAODYSSEY370137LS\n\n\n	1224-233502 MITSUBISHILANCER371904LS\n\n\n	1324-241596 TOYOTAAVALON373118LS\n\n\n	1424-242697 BMW328i372884LS\n\n\n	1524-238708 LEXUSES372745LS\n\n\n	1624-242308 DODGEMAGNUM372879LS\n\n\n	1724-238305 FORDFOCUS372669LS\n\n\n	1824-202603 FORDEXPLORER368836LS\n\n\n	1924-219909 BMW328i370754LS\n\n\n	2024-222801 BMW325i370855LS\n\n\n	2124-241407 FORDFOCUS372907LS\n\n\n	2224-185404 NISSANXTERRA366690LS\n\n\n	2324-218296 MAZDA626370311LS\n\n\n	2424-229198 HONDAACCORD371566LS\n\n\n	2524-231903 FORDEXPLORER371797LS\n\n\n	2624-175311 HONDACIVIC365427LS\n\n\n	2722-168095 CHEVROLETCAMARO278491LS\n\n\n	2824-227706 SCIONTC371372LS\n\n\n	2924-234710 VOLKSWAGENJETTA371998LS\n\n\n	3024-229098 PONTIACGRD PRIX371593LS\n\n\n	3124-187202 FORDESCAPE367105LS\n\n\n	3224-233208 LANDROVERRANGEROVER372028LS\n\n\n	3324-239706 CHRYSLERPACIFICA372904LS\n\n\n	3424-203699 ACURAINTEGRA368855LS\n\n\n	3524-242010 FORDEDGE373151LS\n\n\n	3624-169610 FORDESCAPE364681LS\n\n\n	3724-174903 TOYOTACAMRY365331LS\n\n\n	3824-217914 VOLKSWAGENPASSAT370315LS\n\n\n	3924-243103 FORDCROWN VIC373251LS\n\n\n	4024-219012 CHEVROLETEQUINOX370193LS\n\n\n	4124-226590 TOYOTACOROLLA381401LS\n\n\n	4224-219282 DODGED50370467LS\n\n\n	4324-235109 SATURNAURA372002LS\n\n\n	4424-209906 INFINITIG35369355LS\n\n\n	4524-233903 ACURAMDX372244LS\n\n\n	4624-218412 ACURATSX370676LS\n\n\n	4724-240002 LEXUSGS373004LS\n\n\n	4824-242898 FORDCROWN VIC372934LS\n\n\n	4924-236687 NISSANPULSAR372233LS\n\n\n	5024-119403 GMCSONOMA359661LS\n\n\n\n\n\n\n\nTERMS AND CONDITIONS\n\nCash Only – All Sales are Final\n$200.00 refundable cash deposit to bid\nRefunds are available anytime during auction\nAll cars must be paid for and picked up by 4pm on Thursday ( no exceptions )\nAdditional deposits are required on vehicle’s over $1000.00\nLien sale vehicles sold to the general public are sold as is with all vaults and defects\, you are required to pay all DMV back registration and obtain a smog certificate before receiving your title from the DMV\, sales tax for your purchase will be paid directly to the DMV upon submission of the lien sale packet you will receive at the conclusion of the auction. Out of state buyers\, check with your local DMV to be sure that they will accept California lien sale documents for registration in your state.
URL:https://jbauctioneers.net/event/otay-mesa-auto-auction-20240828/
LOCATION:Western Towing\, 738 Heritage Rd.\, San Diego\, CA\, 92154\, United States
END:VEVENT
END:VCALENDAR